| Back to Multiple platform build/check report for BioC 3.19: simplified long | 
 | 
This page was generated on 2024-05-08 11:41:27 -0400 (Wed, 08 May 2024).
| Hostname | OS | Arch (*) | R version | Installed pkgs | 
|---|---|---|---|---|
| nebbiolo1 | Linux (Ubuntu 22.04.3 LTS) | x86_64 | 4.4.0 (2024-04-24) -- "Puppy Cup" | 4707 | 
| palomino3 | Windows Server 2022 Datacenter | x64 | 4.4.0 (2024-04-24 ucrt) -- "Puppy Cup" | 4484 | 
| lconway | macOS 12.7.1 Monterey | x86_64 | 4.4.0 (2024-04-24) -- "Puppy Cup" | 4514 | 
| kunpeng2 | Linux (openEuler 22.03 LTS-SP1) | aarch64 | 4.4.0 beta (2024-04-15 r86425) -- "Puppy Cup" | 4480 | 
| Click on any hostname to see more info about the system (e.g. compilers) (*) as reported by 'uname -p', except on Windows and Mac OS X | ||||
| Package 2081/2300 | Hostname | OS / Arch | INSTALL | BUILD | CHECK | BUILD BIN | ||||||||
| staRank 1.46.0  (landing page) Juliane Siebourg 
 | nebbiolo1 | Linux (Ubuntu 22.04.3 LTS) / x86_64 | OK | OK | OK |  | ||||||||
| palomino3 | Windows Server 2022 Datacenter / x64 | OK | OK | OK | OK |  | ||||||||
| lconway | macOS 12.7.1 Monterey / x86_64 | OK | OK | OK | OK |  | ||||||||
| kunpeng2 | Linux (openEuler 22.03 LTS-SP1) / aarch64 | OK | OK | OK | ||||||||||
| kjohnson3 | macOS 13.6.5 Ventura / arm64 | see weekly results here | ||||||||||||
| To the developers/maintainers of the staRank package: - Allow up to 24 hours (and sometimes 48 hours) for your latest push to git@git.bioconductor.org:packages/staRank.git to reflect on this report. See Troubleshooting Build Report for more information. - Use the following Renviron settings to reproduce errors and warnings. - If 'R CMD check' started to fail recently on the Linux builder(s) over a missing dependency, add the missing dependency to 'Suggests:' in your DESCRIPTION file. See Renviron.bioc for more information. - See Martin Grigorov's blog post for how to debug Linux ARM64 related issues on a x86_64 host. | 
| Package: staRank | 
| Version: 1.46.0 | 
| Command: /home/biocbuild/R/R-beta-2024-04-15_r86425/bin/R CMD check --install=check:staRank.install-out.txt --library=/home/biocbuild/R/R-beta-2024-04-15_r86425/site-library --no-vignettes --timings staRank_1.46.0.tar.gz | 
| StartedAt: 2024-05-08 12:23:50 -0000 (Wed, 08 May 2024) | 
| EndedAt: 2024-05-08 12:27:20 -0000 (Wed, 08 May 2024) | 
| EllapsedTime: 210.4 seconds | 
| RetCode: 0 | 
| Status: OK | 
| CheckDir: staRank.Rcheck | 
| Warnings: 0 | 
##############################################################################
##############################################################################
###
### Running command:
###
###   /home/biocbuild/R/R-beta-2024-04-15_r86425/bin/R CMD check --install=check:staRank.install-out.txt --library=/home/biocbuild/R/R-beta-2024-04-15_r86425/site-library --no-vignettes --timings staRank_1.46.0.tar.gz
###
##############################################################################
##############################################################################
* using log directory ‘/home/biocbuild/bbs-3.19-bioc/meat/staRank.Rcheck’
* using R version 4.4.0 beta (2024-04-15 r86425)
* using platform: aarch64-unknown-linux-gnu
* R was compiled by
    gcc (GCC) 10.3.1
    GNU Fortran (GCC) 10.3.1
* running under: openEuler 22.03 (LTS-SP1)
* using session charset: UTF-8
* using option ‘--no-vignettes’
* checking for file ‘staRank/DESCRIPTION’ ... OK
* checking extension type ... Package
* this is package ‘staRank’ version ‘1.46.0’
* checking package namespace information ... OK
* checking package dependencies ... OK
* checking if this is a source package ... OK
* checking if there is a namespace ... OK
* checking for hidden files and directories ... OK
* checking for portable file names ... OK
* checking for sufficient/correct file permissions ... OK
* checking whether package ‘staRank’ can be installed ... OK
* checking installed package size ... OK
* checking package directory ... OK
* checking ‘build’ directory ... OK
* checking DESCRIPTION meta-information ... OK
* checking top-level files ... OK
* checking for left-over files ... OK
* checking index information ... OK
* checking package subdirectories ... OK
* checking code files for non-ASCII characters ... OK
* checking R files for syntax errors ... OK
* checking whether the package can be loaded ... OK
* checking whether the package can be loaded with stated dependencies ... OK
* checking whether the package can be unloaded cleanly ... OK
* checking whether the namespace can be loaded with stated dependencies ... OK
* checking whether the namespace can be unloaded cleanly ... OK
* checking loading without being on the library search path ... OK
* checking dependencies in R code ... OK
* checking S3 generic/method consistency ... OK
* checking replacement functions ... OK
* checking foreign function calls ... OK
* checking R code for possible problems ... NOTE
OPIScore : <anonymous>: no visible global function definition for
  ‘phyper’
aggregRank : <anonymous>: no visible global function definition for
  ‘median’
mwTest2samp: no visible global function definition for ‘pwilcox’
mwTest2samp: no visible global function definition for ‘pnorm’
show,RankSummary: no visible global function definition for ‘head’
stabilityRanking,cellHTS: no visible global function definition for
  ‘channelNames’
stabilityRanking,cellHTS: no visible global function definition for
  ‘sampleNames’
stabilityRanking,cellHTS: no visible global function definition for
  ‘featureNames’
stabilityRanking,numeric: no visible global function definition for
  ‘avrgRank<-’
stabilityRanking,numeric: no visible global function definition for
  ‘cor’
summaryStats,list : <anonymous>: no visible global function definition
  for ‘median’
summaryStats,list : <anonymous>: no visible global function definition
  for ‘t.test’
summaryStats,matrix : <anonymous>: no visible global function
  definition for ‘median’
summaryStats,matrix : <anonymous>: no visible global function
  definition for ‘t.test’
Undefined global functions or variables:
  avrgRank<- channelNames cor featureNames head median phyper pnorm
  pwilcox sampleNames t.test
Consider adding
  importFrom("stats", "cor", "median", "phyper", "pnorm", "pwilcox",
             "t.test")
  importFrom("utils", "head")
to your NAMESPACE file.
* checking Rd files ... OK
* checking Rd metadata ... OK
* checking Rd cross-references ... OK
* checking for missing documentation entries ... OK
* checking for code/documentation mismatches ... OK
* checking Rd \usage sections ... OK
* checking Rd contents ... OK
* checking for unstated dependencies in examples ... OK
* checking contents of ‘data’ directory ... OK
* checking data for non-ASCII characters ... OK
* checking data for ASCII and uncompressed saves ... OK
* checking files in ‘vignettes’ ... OK
* checking examples ... OK
* checking for unstated dependencies in vignettes ... OK
* checking package vignettes ... OK
* checking running R code from vignettes ... SKIPPED
* checking re-building of vignette outputs ... SKIPPED
* checking PDF version of manual ... OK
* DONE
Status: 1 NOTE
See
  ‘/home/biocbuild/bbs-3.19-bioc/meat/staRank.Rcheck/00check.log’
for details.
staRank.Rcheck/00install.out
############################################################################## ############################################################################## ### ### Running command: ### ### /home/biocbuild/R/R-beta-2024-04-15_r86425/bin/R CMD INSTALL staRank ### ############################################################################## ############################################################################## * installing to library ‘/home/biocbuild/R/R-beta-2024-04-15_r86425/site-library’ * installing *source* package ‘staRank’ ... ** using staged installation ** R ** data ** inst ** byte-compile and prepare package for lazy loading Warning message: In fun(libname, pkgname) : Package 'cellHTS2' is deprecated and will be removed from Bioconductor version 3.20. We recommend using tidy data structures, dplyr and ggplot2 instead. ** help *** installing help indices ** building package indices ** installing vignettes ** testing if installed package can be loaded from temporary location Warning in fun(libname, pkgname) : Package 'cellHTS2' is deprecated and will be removed from Bioconductor version 3.20. We recommend using tidy data structures, dplyr and ggplot2 instead. ** testing if installed package can be loaded from final location Warning in fun(libname, pkgname) : Package 'cellHTS2' is deprecated and will be removed from Bioconductor version 3.20. We recommend using tidy data structures, dplyr and ggplot2 instead. ** testing if installed package keeps a record of temporary installation path * DONE (staRank)
staRank.Rcheck/staRank-Ex.timings
| name | user | system | elapsed | |
| RankSummary-class | 0.083 | 0.000 | 0.084 | |
| aggregRank | 0.128 | 0.000 | 0.128 | |
| dataFormatRSA | 0.090 | 0.008 | 0.098 | |
| getRankmatrix | 0.116 | 0.000 | 0.116 | |
| getSampleScores-methods | 0.094 | 0.000 | 0.095 | |
| getStability | 0.091 | 0.000 | 0.090 | |
| mwTest2samp | 0.001 | 0.000 | 0.001 | |
| runRSA | 0.091 | 0.000 | 0.091 | |
| staRank-package | 0.170 | 0.000 | 0.171 | |
| stabilityRanking-methods | 0.093 | 0.000 | 0.094 | |
| summary-methods | 0.092 | 0.000 | 0.093 | |
| summaryStats-methods | 0.093 | 0.000 | 0.093 | |
| uniqueRSARanking | 0.092 | 0.000 | 0.092 | |