| Back to Multiple platform build/check report for BioC 3.19: simplified long |
|
This page was generated on 2024-10-18 20:38 -0400 (Fri, 18 Oct 2024).
| Hostname | OS | Arch (*) | R version | Installed pkgs |
|---|---|---|---|---|
| nebbiolo1 | Linux (Ubuntu 22.04.3 LTS) | x86_64 | 4.4.1 (2024-06-14) -- "Race for Your Life" | 4763 |
| palomino7 | Windows Server 2022 Datacenter | x64 | 4.4.1 (2024-06-14 ucrt) -- "Race for Your Life" | 4500 |
| merida1 | macOS 12.7.5 Monterey | x86_64 | 4.4.1 (2024-06-14) -- "Race for Your Life" | 4530 |
| kjohnson1 | macOS 13.6.6 Ventura | arm64 | 4.4.1 (2024-06-14) -- "Race for Your Life" | 4480 |
| Click on any hostname to see more info about the system (e.g. compilers) (*) as reported by 'uname -p', except on Windows and Mac OS X | ||||
| Package 2050/2300 | Hostname | OS / Arch | INSTALL | BUILD | CHECK | BUILD BIN | ||||||||
| spiky 1.10.0 (landing page) Tim Triche
| nebbiolo1 | Linux (Ubuntu 22.04.3 LTS) / x86_64 | OK | OK | OK | |||||||||
| palomino7 | Windows Server 2022 Datacenter / x64 | OK | OK | OK | OK | |||||||||
| merida1 | macOS 12.7.5 Monterey / x86_64 | OK | OK | OK | OK | |||||||||
| kjohnson1 | macOS 13.6.6 Ventura / arm64 | OK | OK | OK | NA | |||||||||
|
To the developers/maintainers of the spiky package: - Allow up to 24 hours (and sometimes 48 hours) for your latest push to git@git.bioconductor.org:packages/spiky.git to reflect on this report. See Troubleshooting Build Report for more information. - Use the following Renviron settings to reproduce errors and warnings. - If 'R CMD check' started to fail recently on the Linux builder(s) over a missing dependency, add the missing dependency to 'Suggests:' in your DESCRIPTION file. See Renviron.bioc for more information. |
| Package: spiky |
| Version: 1.10.0 |
| Command: /home/biocbuild/bbs-3.19-bioc/R/bin/R CMD check --install=check:spiky.install-out.txt --library=/home/biocbuild/bbs-3.19-bioc/R/site-library --timings spiky_1.10.0.tar.gz |
| StartedAt: 2024-10-17 05:28:08 -0400 (Thu, 17 Oct 2024) |
| EndedAt: 2024-10-17 05:33:52 -0400 (Thu, 17 Oct 2024) |
| EllapsedTime: 344.7 seconds |
| RetCode: 0 |
| Status: OK |
| CheckDir: spiky.Rcheck |
| Warnings: 0 |
##############################################################################
##############################################################################
###
### Running command:
###
### /home/biocbuild/bbs-3.19-bioc/R/bin/R CMD check --install=check:spiky.install-out.txt --library=/home/biocbuild/bbs-3.19-bioc/R/site-library --timings spiky_1.10.0.tar.gz
###
##############################################################################
##############################################################################
* using log directory ‘/home/biocbuild/bbs-3.19-bioc/meat/spiky.Rcheck’
* using R version 4.4.1 (2024-06-14)
* using platform: x86_64-pc-linux-gnu
* R was compiled by
gcc (Ubuntu 11.4.0-1ubuntu1~22.04) 11.4.0
GNU Fortran (Ubuntu 11.4.0-1ubuntu1~22.04) 11.4.0
* running under: Ubuntu 22.04.5 LTS
* using session charset: UTF-8
* checking for file ‘spiky/DESCRIPTION’ ... OK
* checking extension type ... Package
* this is package ‘spiky’ version ‘1.10.0’
* package encoding: UTF-8
* checking package namespace information ... OK
* checking package dependencies ... OK
* checking if this is a source package ... OK
* checking if there is a namespace ... OK
* checking for hidden files and directories ... OK
* checking for portable file names ... OK
* checking for sufficient/correct file permissions ... OK
* checking whether package ‘spiky’ can be installed ... OK
* checking installed package size ... NOTE
installed size is 16.1Mb
sub-directories of 1Mb or more:
data 2.8Mb
extdata 12.9Mb
* checking package directory ... OK
* checking ‘build’ directory ... OK
* checking DESCRIPTION meta-information ... OK
* checking top-level files ... OK
* checking for left-over files ... OK
* checking index information ... OK
* checking package subdirectories ... OK
* checking code files for non-ASCII characters ... OK
* checking R files for syntax errors ... OK
* checking whether the package can be loaded ... OK
* checking whether the package can be loaded with stated dependencies ... OK
* checking whether the package can be unloaded cleanly ... OK
* checking whether the namespace can be loaded with stated dependencies ... OK
* checking whether the namespace can be unloaded cleanly ... OK
* checking loading without being on the library search path ... OK
* checking dependencies in R code ... OK
* checking S3 generic/method consistency ... OK
* checking replacement functions ... OK
* checking foreign function calls ... OK
* checking R code for possible problems ... NOTE
.toGRs: warning in grep("(chrom|seqnames|start|end)1", colnames(x), val
= TRUE): partial argument match of 'val' to 'value'
.toGRs: warning in grep("(chrom|seqnames|start|end)2", colnames(x), val
= TRUE): partial argument match of 'val' to 'value'
* checking Rd files ... OK
* checking Rd metadata ... OK
* checking Rd cross-references ... OK
* checking for missing documentation entries ... OK
* checking for code/documentation mismatches ... OK
* checking Rd \usage sections ... OK
* checking Rd contents ... OK
* checking for unstated dependencies in examples ... OK
* checking contents of ‘data’ directory ... OK
* checking data for non-ASCII characters ... OK
* checking LazyData ... OK
* checking data for ASCII and uncompressed saves ... OK
* checking files in ‘vignettes’ ... OK
* checking examples ... OK
Examples with CPU (user + system) or elapsed time > 5s
user system elapsed
scan_genomic_contigs 13.950 1.703 15.656
scan_genomic_bedpe 13.393 0.625 14.019
model_bam_standards 5.632 0.208 5.840
bin_pmol 3.408 1.595 5.713
* checking for unstated dependencies in vignettes ... OK
* checking package vignettes ... OK
* checking re-building of vignette outputs ... OK
* checking PDF version of manual ... OK
* DONE
Status: 2 NOTEs
See
‘/home/biocbuild/bbs-3.19-bioc/meat/spiky.Rcheck/00check.log’
for details.
spiky.Rcheck/00install.out
############################################################################## ############################################################################## ### ### Running command: ### ### /home/biocbuild/bbs-3.19-bioc/R/bin/R CMD INSTALL spiky ### ############################################################################## ############################################################################## * installing to library ‘/home/biocbuild/bbs-3.19-bioc/R/site-library’ * installing *source* package ‘spiky’ ... ** using staged installation ** R ** data *** moving datasets to lazyload DB ** inst ** byte-compile and prepare package for lazy loading ** help *** installing help indices ** building package indices ** installing vignettes ** testing if installed package can be loaded from temporary location ** testing if installed package can be loaded from final location ** testing if installed package keeps a record of temporary installation path * DONE (spiky)
spiky.Rcheck/spiky-Ex.timings
| name | user | system | elapsed | |
| add_frag_info | 0.127 | 0.020 | 0.146 | |
| bam_to_bins | 0.134 | 0.000 | 0.134 | |
| bin_pmol | 3.408 | 1.595 | 5.713 | |
| covg_to_df | 0.072 | 0.008 | 0.080 | |
| find_spike_contigs | 0.024 | 0.000 | 0.025 | |
| generate_spike_fasta | 0.096 | 0.000 | 0.096 | |
| get_base_name | 0.009 | 0.000 | 0.009 | |
| get_binned_coverage | 0.207 | 0.003 | 0.211 | |
| get_merged_gr | 0.050 | 0.008 | 0.057 | |
| get_spike_depth | 0.266 | 0.005 | 0.271 | |
| get_spiked_coverage | 0.168 | 0.008 | 0.176 | |
| kmax | 0.037 | 0.007 | 0.044 | |
| kmers | 0.031 | 0.001 | 0.032 | |
| methylation_specificity | 0.067 | 0.003 | 0.072 | |
| model_bam_standards | 5.632 | 0.208 | 5.840 | |
| model_glm_pmol | 0.055 | 0.000 | 0.055 | |
| predict_pmol | 1.953 | 1.243 | 3.197 | |
| process_spikes | 0.179 | 0.004 | 0.184 | |
| read_bedpe | 0 | 0 | 0 | |
| scan_genomic_bedpe | 13.393 | 0.625 | 14.019 | |
| scan_genomic_contigs | 13.950 | 1.703 | 15.656 | |
| scan_methylation_specificity | 0.053 | 0.003 | 0.056 | |
| scan_spike_bedpe | 3.750 | 0.184 | 3.935 | |
| scan_spike_contigs | 0.361 | 0.040 | 0.401 | |
| scan_spike_counts | 0.104 | 0.008 | 0.112 | |
| scan_spiked_bam | 0.398 | 0.020 | 0.418 | |
| seqinfo_from_header | 0.091 | 0.000 | 0.090 | |
| spike_bland_altman_plot | 0.097 | 0.000 | 0.098 | |
| spike_counts | 0.055 | 0.000 | 0.054 | |
| tile_bins | 0.037 | 0.000 | 0.037 | |