| Back to Multiple platform build/check report for BioC 3.19: simplified long | 
 | 
This page was generated on 2024-06-11 14:44 -0400 (Tue, 11 Jun 2024).
| Hostname | OS | Arch (*) | R version | Installed pkgs | 
|---|---|---|---|---|
| nebbiolo1 | Linux (Ubuntu 22.04.3 LTS) | x86_64 | 4.4.0 (2024-04-24) -- "Puppy Cup" | 4757 | 
| palomino3 | Windows Server 2022 Datacenter | x64 | 4.4.0 (2024-04-24 ucrt) -- "Puppy Cup" | 4491 | 
| lconway | macOS 12.7.1 Monterey | x86_64 | 4.4.0 (2024-04-24) -- "Puppy Cup" | 4522 | 
| kjohnson3 | macOS 13.6.5 Ventura | arm64 | 4.4.0 (2024-04-24) -- "Puppy Cup" | 4468 | 
| Click on any hostname to see more info about the system (e.g. compilers) (*) as reported by 'uname -p', except on Windows and Mac OS X | ||||
| Package 2032/2300 | Hostname | OS / Arch | INSTALL | BUILD | CHECK | BUILD BIN | ||||||||
| spatialDE 1.10.0  (landing page) Gabriele Sales 
 | nebbiolo1 | Linux (Ubuntu 22.04.3 LTS) / x86_64 | OK | OK | OK |  | ||||||||
| palomino3 | Windows Server 2022 Datacenter / x64 | OK | OK | OK | OK |  | ||||||||
| lconway | macOS 12.7.1 Monterey / x86_64 | OK | OK | OK | OK |  | ||||||||
| kjohnson3 | macOS 13.6.5 Ventura / arm64 | OK | OK | OK | OK |  | ||||||||
| To the developers/maintainers of the spatialDE package: - Allow up to 24 hours (and sometimes 48 hours) for your latest push to git@git.bioconductor.org:packages/spatialDE.git to reflect on this report. See Troubleshooting Build Report for more information. - Use the following Renviron settings to reproduce errors and warnings. - If 'R CMD check' started to fail recently on the Linux builder(s) over a missing dependency, add the missing dependency to 'Suggests:' in your DESCRIPTION file. See Renviron.bioc for more information. | 
| Package: spatialDE | 
| Version: 1.10.0 | 
| Command: /Library/Frameworks/R.framework/Resources/bin/R CMD check --install=check:spatialDE.install-out.txt --library=/Library/Frameworks/R.framework/Resources/library --no-vignettes --timings spatialDE_1.10.0.tar.gz | 
| StartedAt: 2024-06-11 06:30:33 -0400 (Tue, 11 Jun 2024) | 
| EndedAt: 2024-06-11 07:00:14 -0400 (Tue, 11 Jun 2024) | 
| EllapsedTime: 1781.8 seconds | 
| RetCode: 0 | 
| Status: OK | 
| CheckDir: spatialDE.Rcheck | 
| Warnings: 0 | 
##############################################################################
##############################################################################
###
### Running command:
###
###   /Library/Frameworks/R.framework/Resources/bin/R CMD check --install=check:spatialDE.install-out.txt --library=/Library/Frameworks/R.framework/Resources/library --no-vignettes --timings spatialDE_1.10.0.tar.gz
###
##############################################################################
##############################################################################
* using log directory ‘/Users/biocbuild/bbs-3.19-bioc/meat/spatialDE.Rcheck’
* using R version 4.4.0 (2024-04-24)
* using platform: aarch64-apple-darwin20
* R was compiled by
    Apple clang version 14.0.0 (clang-1400.0.29.202)
    GNU Fortran (GCC) 12.2.0
* running under: macOS Ventura 13.6.5
* using session charset: UTF-8
* using option ‘--no-vignettes’
* checking for file ‘spatialDE/DESCRIPTION’ ... OK
* this is package ‘spatialDE’ version ‘1.10.0’
* package encoding: UTF-8
* checking package namespace information ... OK
* checking package dependencies ... OK
* checking if this is a source package ... OK
* checking if there is a namespace ... OK
* checking for hidden files and directories ... OK
* checking for portable file names ... OK
* checking for sufficient/correct file permissions ... OK
* checking whether package ‘spatialDE’ can be installed ... NOTE
Found the following notes/warnings:
  Non-staged installation was used
See ‘/Users/biocbuild/bbs-3.19-bioc/meat/spatialDE.Rcheck/00install.out’ for details.
* checking installed package size ... OK
* checking package directory ... OK
* checking ‘build’ directory ... OK
* checking DESCRIPTION meta-information ... OK
* checking top-level files ... OK
* checking for left-over files ... OK
* checking index information ... OK
* checking package subdirectories ... OK
* checking code files for non-ASCII characters ... OK
* checking R files for syntax errors ... OK
* checking whether the package can be loaded ... OK
* checking whether the package can be loaded with stated dependencies ... OK
* checking whether the package can be unloaded cleanly ... OK
* checking whether the namespace can be loaded with stated dependencies ... OK
* checking whether the namespace can be unloaded cleanly ... OK
* checking dependencies in R code ... OK
* checking S3 generic/method consistency ... OK
* checking replacement functions ... OK
* checking foreign function calls ... OK
* checking R code for possible problems ... OK
* checking Rd files ... OK
* checking Rd metadata ... OK
* checking Rd cross-references ... OK
* checking for missing documentation entries ... OK
* checking for code/documentation mismatches ... OK
* checking Rd \usage sections ... OK
* checking Rd contents ... OK
* checking for unstated dependencies in examples ... OK
* checking contents of ‘data’ directory ... OK
* checking data for non-ASCII characters ... OK
* checking data for ASCII and uncompressed saves ... OK
* checking line endings in shell scripts ... OK
* checking files in ‘vignettes’ ... OK
* checking examples ... OK
Examples with CPU (user + system) or elapsed time > 5s
                   user system elapsed
spatial_patterns 51.167 12.122 856.274
FSV_sig          10.503  3.655  90.262
modelSearch       4.795  0.990  67.218
model_search      4.356  0.942  63.676
multiGenePlots    3.216  0.549  34.196
spatialPatterns   2.441  1.161  89.664
spatialDE         2.497  0.482  34.336
run               2.189  0.468  30.830
* checking for unstated dependencies in ‘tests’ ... OK
* checking tests ...
  Running ‘testthat.R’
 OK
* checking for unstated dependencies in vignettes ... OK
* checking package vignettes ... OK
* checking running R code from vignettes ... SKIPPED
* checking re-building of vignette outputs ... SKIPPED
* checking PDF version of manual ... OK
* DONE
Status: 1 NOTE
See
  ‘/Users/biocbuild/bbs-3.19-bioc/meat/spatialDE.Rcheck/00check.log’
for details.
spatialDE.Rcheck/00install.out
############################################################################## ############################################################################## ### ### Running command: ### ### /Library/Frameworks/R.framework/Resources/bin/R CMD INSTALL spatialDE ### ############################################################################## ############################################################################## * installing to library ‘/Library/Frameworks/R.framework/Versions/4.4-arm64/Resources/library’ * installing *source* package ‘spatialDE’ ... ** using non-staged installation via StagedInstall field ** R ** data ** inst ** byte-compile and prepare package for lazy loading ** help *** installing help indices ** building package indices ** installing vignettes ** testing if installed package can be loaded * DONE (spatialDE)
spatialDE.Rcheck/tests/testthat.Rout
R version 4.4.0 (2024-04-24) -- "Puppy Cup"
Copyright (C) 2024 The R Foundation for Statistical Computing
Platform: aarch64-apple-darwin20
R is free software and comes with ABSOLUTELY NO WARRANTY.
You are welcome to redistribute it under certain conditions.
Type 'license()' or 'licence()' for distribution details.
R is a collaborative project with many contributors.
Type 'contributors()' for more information and
'citation()' on how to cite R or R packages in publications.
Type 'demo()' for some demos, 'help()' for on-line help, or
'help.start()' for an HTML browser interface to help.
Type 'q()' to quit R.
> library(testthat)
> library(spatialDE)
> 
> test_check("spatialDE")
Loading required package: SingleCellExperiment
Loading required package: SummarizedExperiment
Loading required package: MatrixGenerics
Loading required package: matrixStats
Attaching package: 'MatrixGenerics'
The following objects are masked from 'package:matrixStats':
    colAlls, colAnyNAs, colAnys, colAvgsPerRowSet, colCollapse,
    colCounts, colCummaxs, colCummins, colCumprods, colCumsums,
    colDiffs, colIQRDiffs, colIQRs, colLogSumExps, colMadDiffs,
    colMads, colMaxs, colMeans2, colMedians, colMins, colOrderStats,
    colProds, colQuantiles, colRanges, colRanks, colSdDiffs, colSds,
    colSums2, colTabulates, colVarDiffs, colVars, colWeightedMads,
    colWeightedMeans, colWeightedMedians, colWeightedSds,
    colWeightedVars, rowAlls, rowAnyNAs, rowAnys, rowAvgsPerColSet,
    rowCollapse, rowCounts, rowCummaxs, rowCummins, rowCumprods,
    rowCumsums, rowDiffs, rowIQRDiffs, rowIQRs, rowLogSumExps,
    rowMadDiffs, rowMads, rowMaxs, rowMeans2, rowMedians, rowMins,
    rowOrderStats, rowProds, rowQuantiles, rowRanges, rowRanks,
    rowSdDiffs, rowSds, rowSums2, rowTabulates, rowVarDiffs, rowVars,
    rowWeightedMads, rowWeightedMeans, rowWeightedMedians,
    rowWeightedSds, rowWeightedVars
Loading required package: GenomicRanges
Loading required package: stats4
Loading required package: BiocGenerics
Attaching package: 'BiocGenerics'
The following objects are masked from 'package:stats':
    IQR, mad, sd, var, xtabs
The following objects are masked from 'package:base':
    Filter, Find, Map, Position, Reduce, anyDuplicated, aperm, append,
    as.data.frame, basename, cbind, colnames, dirname, do.call,
    duplicated, eval, evalq, get, grep, grepl, intersect, is.unsorted,
    lapply, mapply, match, mget, order, paste, pmax, pmax.int, pmin,
    pmin.int, rank, rbind, rownames, sapply, setdiff, table, tapply,
    union, unique, unsplit, which.max, which.min
Loading required package: S4Vectors
Attaching package: 'S4Vectors'
The following object is masked from 'package:utils':
    findMatches
The following objects are masked from 'package:base':
    I, expand.grid, unname
Loading required package: IRanges
Loading required package: GenomeInfoDb
Loading required package: Biobase
Welcome to Bioconductor
    Vignettes contain introductory material; view with
    'browseVignettes()'. To cite Bioconductor, see
    'citation("Biobase")', and for packages 'citation("pkgname")'.
Attaching package: 'Biobase'
The following object is masked from 'package:MatrixGenerics':
    rowMedians
The following objects are masked from 'package:matrixStats':
    anyMissing, rowMedians
Models:   0%|          | 0/10 [00:00<?, ?it/s]
  0%|          | 0/100 [00:00<?, ?it/s][A
 26%|██▌       | 26/100 [00:00<00:00, 257.94it/s][A
 55%|█████▌    | 55/100 [00:00<00:00, 275.93it/s][A
 83%|████████▎ | 83/100 [00:00<00:00, 264.83it/s][A
                                                 [A
Models:  10%|█         | 1/10 [00:00<00:03,  2.63it/s]
  0%|          | 0/100 [00:00<?, ?it/s][A
 21%|██        | 21/100 [00:00<00:00, 203.99it/s][A
 49%|████▉     | 49/100 [00:00<00:00, 242.54it/s][A
 76%|███████▌  | 76/100 [00:00<00:00, 247.52it/s][A
                                                 [A
Models:  20%|██        | 2/10 [00:00<00:03,  2.37it/s]
  0%|          | 0/100 [00:00<?, ?it/s][A
 20%|██        | 20/100 [00:00<00:00, 195.15it/s][A
 43%|████▎     | 43/100 [00:00<00:00, 214.66it/s][A
 65%|██████▌   | 65/100 [00:00<00:00, 196.05it/s][A
 85%|████████▌ | 85/100 [00:00<00:00, 192.77it/s][A
                                                 [A
Models:  30%|███       | 3/10 [00:01<00:03,  2.12it/s]
  0%|          | 0/100 [00:00<?, ?it/s][A
 25%|██▌       | 25/100 [00:00<00:00, 243.41it/s][A
 50%|█████     | 50/100 [00:00<00:00, 221.60it/s][A
 73%|███████▎  | 73/100 [00:00<00:00, 218.87it/s][A
 95%|█████████▌| 95/100 [00:00<00:00, 196.16it/s][A
                                                 [A
Models:  40%|████      | 4/10 [00:01<00:02,  2.10it/s]
  0%|          | 0/100 [00:00<?, ?it/s][A
 20%|██        | 20/100 [00:00<00:00, 191.93it/s][A
 40%|████      | 40/100 [00:00<00:00, 171.71it/s][A
 61%|██████    | 61/100 [00:00<00:00, 180.34it/s][A
 82%|████████▏ | 82/100 [00:00<00:00, 187.23it/s][A
                                                 [A
Models:  50%|█████     | 5/10 [00:02<00:02,  2.01it/s]
  0%|          | 0/100 [00:00<?, ?it/s][A
 19%|█▉        | 19/100 [00:00<00:00, 178.95it/s][A
 37%|███▋      | 37/100 [00:00<00:00, 179.01it/s][A
 56%|█████▌    | 56/100 [00:00<00:00, 181.04it/s][A
 75%|███████▌  | 75/100 [00:00<00:00, 180.24it/s][A
 94%|█████████▍| 94/100 [00:00<00:00, 174.99it/s][A
                                                 [A
Models:  60%|██████    | 6/10 [00:02<00:02,  1.91it/s]
  0%|          | 0/100 [00:00<?, ?it/s][A
 21%|██        | 21/100 [00:00<00:00, 200.91it/s][A
 42%|████▏     | 42/100 [00:00<00:00, 188.69it/s][A
 62%|██████▏   | 62/100 [00:00<00:00, 192.58it/s][A
 85%|████████▌ | 85/100 [00:00<00:00, 206.35it/s][A
                                                 [A
Models:  70%|███████   | 7/10 [00:03<00:01,  1.93it/s]
  0%|          | 0/100 [00:00<?, ?it/s][A
 20%|██        | 20/100 [00:00<00:00, 198.77it/s][A
 42%|████▏     | 42/100 [00:00<00:00, 209.09it/s][A
 63%|██████▎   | 63/100 [00:00<00:00, 204.31it/s][A
 84%|████████▍ | 84/100 [00:00<00:00, 197.96it/s][A
                                                 [A
Models:  80%|████████  | 8/10 [00:04<00:01,  1.84it/s]
  0%|          | 0/100 [00:00<?, ?it/s][A
 24%|██▍       | 24/100 [00:00<00:00, 235.77it/s][A
 48%|████▊     | 48/100 [00:00<00:00, 197.65it/s][A
 69%|██████▉   | 69/100 [00:00<00:00, 192.18it/s][A
 90%|█████████ | 90/100 [00:00<00:00, 194.75it/s][A
                                                 [A
Models:  90%|█████████ | 9/10 [00:04<00:00,  1.87it/s]
  0%|          | 0/100 [00:00<?, ?it/s][A
 31%|███       | 31/100 [00:00<00:00, 292.07it/s][A
 61%|██████    | 61/100 [00:00<00:00, 263.64it/s][A
 88%|████████▊ | 88/100 [00:00<00:00, 228.51it/s][A
                                                 [A
Models: 100%|██████████| 10/10 [00:05<00:00,  1.98it/s]
Models: 100%|██████████| 10/10 [00:05<00:00,  1.99it/s]
Models:   0%|          | 0/10 [00:00<?, ?it/s]
  0%|          | 0/100 [00:00<?, ?it/s][A
 33%|███▎      | 33/100 [00:00<00:00, 316.66it/s][A
 65%|██████▌   | 65/100 [00:00<00:00, 287.57it/s][A
 94%|█████████▍| 94/100 [00:00<00:00, 277.20it/s][A
                                                 [A
Models:  10%|█         | 1/10 [00:00<00:03,  2.78it/s]
  0%|          | 0/100 [00:00<?, ?it/s][A
 27%|██▋       | 27/100 [00:00<00:00, 264.85it/s][A
 54%|█████▍    | 54/100 [00:00<00:00, 218.64it/s][A
 77%|███████▋  | 77/100 [00:00<00:00, 198.57it/s][A
 98%|█████████▊| 98/100 [00:00<00:00, 192.41it/s][A
                                                 [A
Models:  20%|██        | 2/10 [00:00<00:03,  2.26it/s]
  0%|          | 0/100 [00:00<?, ?it/s][A
 22%|██▏       | 22/100 [00:00<00:00, 210.41it/s][A
 44%|████▍     | 44/100 [00:00<00:00, 193.11it/s][A
 64%|██████▍   | 64/100 [00:00<00:00, 188.29it/s][A
 86%|████████▌ | 86/100 [00:00<00:00, 198.95it/s][A
                                                 [A
Models:  30%|███       | 3/10 [00:01<00:03,  2.13it/s]
  0%|          | 0/100 [00:00<?, ?it/s][A
 23%|██▎       | 23/100 [00:00<00:00, 224.83it/s][A
 46%|████▌     | 46/100 [00:00<00:00, 191.93it/s][A
 68%|██████▊   | 68/100 [00:00<00:00, 199.96it/s][A
 89%|████████▉ | 89/100 [00:00<00:00, 197.33it/s][A
                                                 [A
Models:  40%|████      | 4/10 [00:01<00:02,  2.07it/s]
  0%|          | 0/100 [00:00<?, ?it/s][A
 21%|██        | 21/100 [00:00<00:00, 209.30it/s][A
 42%|████▏     | 42/100 [00:00<00:00, 171.67it/s][A
 60%|██████    | 60/100 [00:00<00:00, 160.86it/s][A
 77%|███████▋  | 77/100 [00:00<00:00, 161.97it/s][A
 94%|█████████▍| 94/100 [00:00<00:00, 156.53it/s][A
                                                 [A
Models:  50%|█████     | 5/10 [00:02<00:02,  1.90it/s]
  0%|          | 0/100 [00:00<?, ?it/s][A
 24%|██▍       | 24/100 [00:00<00:00, 233.47it/s][A
 48%|████▊     | 48/100 [00:00<00:00, 185.47it/s][A
 68%|██████▊   | 68/100 [00:00<00:00, 175.60it/s][A
 88%|████████▊ | 88/100 [00:00<00:00, 183.48it/s][A
                                                 [A
Models:  60%|██████    | 6/10 [00:03<00:02,  1.88it/s]
  0%|          | 0/100 [00:00<?, ?it/s][A
 26%|██▌       | 26/100 [00:00<00:00, 245.64it/s][A
 51%|█████     | 51/100 [00:00<00:00, 216.64it/s][A
 73%|███████▎  | 73/100 [00:00<00:00, 203.15it/s][A
 96%|█████████▌| 96/100 [00:00<00:00, 209.79it/s][A
                                                 [A
Models:  70%|███████   | 7/10 [00:03<00:01,  1.92it/s]
  0%|          | 0/100 [00:00<?, ?it/s][A
 21%|██        | 21/100 [00:00<00:00, 207.18it/s][A
 42%|████▏     | 42/100 [00:00<00:00, 204.97it/s][A
 63%|██████▎   | 63/100 [00:00<00:00, 205.04it/s][A
 89%|████████▉ | 89/100 [00:00<00:00, 224.37it/s][A
                                                 [A
Models:  80%|████████  | 8/10 [00:03<00:01,  1.99it/s]
  0%|          | 0/100 [00:00<?, ?it/s][A
 20%|██        | 20/100 [00:00<00:00, 197.43it/s][A
 40%|████      | 40/100 [00:00<00:00, 184.71it/s][A
 77%|███████▋  | 77/100 [00:00<00:00, 262.22it/s][A
                                                 [A
Models:  90%|█████████ | 9/10 [00:04<00:00,  2.13it/s]
  0%|          | 0/100 [00:00<?, ?it/s][A
 39%|███▉      | 39/100 [00:00<00:00, 388.33it/s][A
 78%|███████▊  | 78/100 [00:00<00:00, 359.59it/s][A
                                                 [A
Models: 100%|██████████| 10/10 [00:04<00:00,  2.41it/s]
Models: 100%|██████████| 10/10 [00:04<00:00,  2.14it/s]
/Users/biocbuild/Library/Caches/org.R-project.R/R/basilisk/1.16.0/spatialDE/1.10.0/env/lib/python3.9/site-packages/pandas/core/internals/blocks.py:351: RuntimeWarning: invalid value encountered in log
  result = func(self.values, **kwargs)
Models:   0%|          | 0/10 [00:00<?, ?it/s]
  0%|          | 0/100 [00:00<?, ?it/s][A
 25%|██▌       | 25/100 [00:00<00:00, 244.74it/s][A
 50%|█████     | 50/100 [00:00<00:00, 244.98it/s][A
 82%|████████▏ | 82/100 [00:00<00:00, 273.80it/s][A
                                                 [A
Models:  10%|█         | 1/10 [00:00<00:03,  2.64it/s]
  0%|          | 0/100 [00:00<?, ?it/s][A
 20%|██        | 20/100 [00:00<00:00, 197.27it/s][A
 43%|████▎     | 43/100 [00:00<00:00, 211.91it/s][A
 65%|██████▌   | 65/100 [00:00<00:00, 186.86it/s][A
 91%|█████████ | 91/100 [00:00<00:00, 211.52it/s][A
                                                 [A
Models:  20%|██        | 2/10 [00:00<00:03,  2.23it/s]
  0%|          | 0/100 [00:00<?, ?it/s][A
 20%|██        | 20/100 [00:00<00:00, 192.11it/s][A
 40%|████      | 40/100 [00:00<00:00, 168.81it/s][A
 59%|█████▉    | 59/100 [00:00<00:00, 173.31it/s][A
 78%|███████▊  | 78/100 [00:00<00:00, 177.63it/s][A
 96%|█████████▌| 96/100 [00:00<00:00, 174.35it/s][A
                                                 [A
Models:  30%|███       | 3/10 [00:01<00:03,  1.98it/s]
  0%|          | 0/100 [00:00<?, ?it/s][A
 23%|██▎       | 23/100 [00:00<00:00, 226.51it/s][A
 46%|████▌     | 46/100 [00:00<00:00, 200.69it/s][A
 70%|███████   | 70/100 [00:00<00:00, 216.09it/s][A
 92%|█████████▏| 92/100 [00:00<00:00, 203.21it/s][A
                                                 [A
Models:  40%|████      | 4/10 [00:01<00:02,  2.02it/s]
  0%|          | 0/100 [00:00<?, ?it/s][A
 21%|██        | 21/100 [00:00<00:00, 209.96it/s][A
 42%|████▏     | 42/100 [00:00<00:00, 204.00it/s][A
 63%|██████▎   | 63/100 [00:00<00:00, 199.33it/s][A
 83%|████████▎ | 83/100 [00:00<00:00, 185.22it/s][A
                                                 [A
Models:  50%|█████     | 5/10 [00:02<00:02,  1.97it/s]
  0%|          | 0/100 [00:00<?, ?it/s][A
 20%|██        | 20/100 [00:00<00:00, 194.08it/s][A
 40%|████      | 40/100 [00:00<00:00, 188.63it/s][A
 63%|██████▎   | 63/100 [00:00<00:00, 202.43it/s][A
 84%|████████▍ | 84/100 [00:00<00:00, 182.34it/s][A
                                                 [A
Models:  60%|██████    | 6/10 [00:02<00:02,  1.93it/s]
  0%|          | 0/100 [00:00<?, ?it/s][A
 24%|██▍       | 24/100 [00:00<00:00, 228.78it/s][A
 47%|████▋     | 47/100 [00:00<00:00, 208.71it/s][A
 68%|██████▊   | 68/100 [00:00<00:00, 199.89it/s][A
 91%|█████████ | 91/100 [00:00<00:00, 206.73it/s][A
                                                 [A
Models:  70%|███████   | 7/10 [00:03<00:01,  1.97it/s]
  0%|          | 0/100 [00:00<?, ?it/s][A
 26%|██▌       | 26/100 [00:00<00:00, 252.56it/s][A
 52%|█████▏    | 52/100 [00:00<00:00, 223.61it/s][A
 76%|███████▌  | 76/100 [00:00<00:00, 228.09it/s][A
 99%|█████████▉| 99/100 [00:00<00:00, 216.04it/s][A
                                                 [A
Models:  80%|████████  | 8/10 [00:03<00:00,  2.03it/s]
  0%|          | 0/100 [00:00<?, ?it/s][A
 24%|██▍       | 24/100 [00:00<00:00, 233.37it/s][A
 48%|████▊     | 48/100 [00:00<00:00, 229.56it/s][A
 71%|███████   | 71/100 [00:00<00:00, 208.97it/s][A
 93%|█████████▎| 93/100 [00:00<00:00, 206.19it/s][A
                                                 [A
Models:  90%|█████████ | 9/10 [00:04<00:00,  2.06it/s]
  0%|          | 0/100 [00:00<?, ?it/s][A
 26%|██▌       | 26/100 [00:00<00:00, 245.77it/s][A
 51%|█████     | 51/100 [00:00<00:00, 222.69it/s][A
 82%|████████▏ | 82/100 [00:00<00:00, 257.49it/s][A
                                                 [A
Models: 100%|██████████| 10/10 [00:04<00:00,  2.21it/s]
Models: 100%|██████████| 10/10 [00:04<00:00,  2.09it/s]
Models:   0%|          | 0/10 [00:00<?, ?it/s]
  0%|          | 0/100 [00:00<?, ?it/s][A
 30%|███       | 30/100 [00:00<00:00, 289.67it/s][A
 62%|██████▏   | 62/100 [00:00<00:00, 304.16it/s][A
 96%|█████████▌| 96/100 [00:00<00:00, 318.33it/s][A
                                                 [A
Models:  10%|█         | 1/10 [00:00<00:03,  2.99it/s]
  0%|          | 0/100 [00:00<?, ?it/s][A
 34%|███▍      | 34/100 [00:00<00:00, 328.71it/s][A
 67%|██████▋   | 67/100 [00:00<00:00, 269.05it/s][A
 95%|█████████▌| 95/100 [00:00<00:00, 228.35it/s][A
                                                 [A
Models:  20%|██        | 2/10 [00:00<00:03,  2.63it/s]
  0%|          | 0/100 [00:00<?, ?it/s][A
 23%|██▎       | 23/100 [00:00<00:00, 222.37it/s][A
 46%|████▌     | 46/100 [00:00<00:00, 189.21it/s][A
 66%|██████▌   | 66/100 [00:00<00:00, 180.46it/s][A
 90%|█████████ | 90/100 [00:00<00:00, 200.30it/s][A
                                                 [A
Models:  30%|███       | 3/10 [00:01<00:03,  2.33it/s]
  0%|          | 0/100 [00:00<?, ?it/s][A
 24%|██▍       | 24/100 [00:00<00:00, 238.68it/s][A
 48%|████▊     | 48/100 [00:00<00:00, 214.12it/s][A
 70%|███████   | 70/100 [00:00<00:00, 199.11it/s][A
 91%|█████████ | 91/100 [00:00<00:00, 191.88it/s][A
                                                 [A
Models:  40%|████      | 4/10 [00:01<00:02,  2.16it/s]
  0%|          | 0/100 [00:00<?, ?it/s][A
 23%|██▎       | 23/100 [00:00<00:00, 217.56it/s][A
 45%|████▌     | 45/100 [00:00<00:00, 194.17it/s][A
 69%|██████▉   | 69/100 [00:00<00:00, 210.26it/s][A
 91%|█████████ | 91/100 [00:00<00:00, 211.51it/s][A
                                                 [A
Models:  50%|█████     | 5/10 [00:02<00:02,  2.11it/s]
  0%|          | 0/100 [00:00<?, ?it/s][A
 20%|██        | 20/100 [00:00<00:00, 191.11it/s][A
 40%|████      | 40/100 [00:00<00:00, 191.54it/s][A
 60%|██████    | 60/100 [00:00<00:00, 187.38it/s][A
 80%|████████  | 80/100 [00:00<00:00, 191.68it/s][A
                                                 [A
Models:  60%|██████    | 6/10 [00:02<00:01,  2.04it/s]
  0%|          | 0/100 [00:00<?, ?it/s][A
 20%|██        | 20/100 [00:00<00:00, 193.73it/s][A
 45%|████▌     | 45/100 [00:00<00:00, 224.12it/s][A
 68%|██████▊   | 68/100 [00:00<00:00, 186.02it/s][A
 88%|████████▊ | 88/100 [00:00<00:00, 184.88it/s][A
                                                 [A
Models:  70%|███████   | 7/10 [00:03<00:01,  1.98it/s]
  0%|          | 0/100 [00:00<?, ?it/s][A
 23%|██▎       | 23/100 [00:00<00:00, 224.92it/s][A
 46%|████▌     | 46/100 [00:00<00:00, 223.39it/s][A
 69%|██████▉   | 69/100 [00:00<00:00, 218.41it/s][A
 91%|█████████ | 91/100 [00:00<00:00, 199.66it/s][A
                                                 [A
Models:  80%|████████  | 8/10 [00:03<00:01,  1.99it/s]
  0%|          | 0/100 [00:00<?, ?it/s][A
 33%|███▎      | 33/100 [00:00<00:00, 326.76it/s][A
 66%|██████▌   | 66/100 [00:00<00:00, 257.89it/s][A
 93%|█████████▎| 93/100 [00:00<00:00, 249.08it/s][A
                                                 [A
Models:  90%|█████████ | 9/10 [00:04<00:00,  2.11it/s]
  0%|          | 0/100 [00:00<?, ?it/s][A
 24%|██▍       | 24/100 [00:00<00:00, 225.35it/s][A
 47%|████▋     | 47/100 [00:00<00:00, 209.40it/s][A
 69%|██████▉   | 69/100 [00:00<00:00, 212.95it/s][A
 91%|█████████ | 91/100 [00:00<00:00, 212.93it/s][A
                                                 [A
Models: 100%|██████████| 10/10 [00:04<00:00,  2.11it/s]
Models: 100%|██████████| 10/10 [00:04<00:00,  2.14it/s]
Models:   0%|          | 0/10 [00:00<?, ?it/s]
  0%|          | 0/100 [00:00<?, ?it/s][A
 25%|██▌       | 25/100 [00:00<00:00, 237.62it/s][A
 56%|█████▌    | 56/100 [00:00<00:00, 274.06it/s][A
 89%|████████▉ | 89/100 [00:00<00:00, 296.86it/s][A
                                                 [A
Models:  10%|█         | 1/10 [00:00<00:03,  2.99it/s]
  0%|          | 0/100 [00:00<?, ?it/s][A
 24%|██▍       | 24/100 [00:00<00:00, 236.53it/s][A
 48%|████▊     | 48/100 [00:00<00:00, 238.39it/s][A
 72%|███████▏  | 72/100 [00:00<00:00, 212.71it/s][A
 94%|█████████▍| 94/100 [00:00<00:00, 213.62it/s][A
                                                 [A
Models:  20%|██        | 2/10 [00:00<00:03,  2.41it/s]
  0%|          | 0/100 [00:00<?, ?it/s][A
 19%|█▉        | 19/100 [00:00<00:00, 189.83it/s][A
 38%|███▊      | 38/100 [00:00<00:00, 188.50it/s][A
 60%|██████    | 60/100 [00:00<00:00, 200.14it/s][A
 81%|████████  | 81/100 [00:00<00:00, 188.48it/s][A
                                                 [A
Models:  30%|███       | 3/10 [00:01<00:03,  2.19it/s]
  0%|          | 0/100 [00:00<?, ?it/s][A
 24%|██▍       | 24/100 [00:00<00:00, 234.11it/s][A
 48%|████▊     | 48/100 [00:00<00:00, 197.38it/s][A
 69%|██████▉   | 69/100 [00:00<00:00, 188.19it/s][A
 89%|████████▉ | 89/100 [00:00<00:00, 177.33it/s][A
                                                 [A
Models:  40%|████      | 4/10 [00:01<00:02,  2.03it/s]
  0%|          | 0/100 [00:00<?, ?it/s][A
 21%|██        | 21/100 [00:00<00:00, 208.75it/s][A
 42%|████▏     | 42/100 [00:00<00:00, 175.93it/s][A
 60%|██████    | 60/100 [00:00<00:00, 173.80it/s][A
 82%|████████▏ | 82/100 [00:00<00:00, 188.64it/s][A
                                                 [A
Models:  50%|█████     | 5/10 [00:02<00:02,  1.95it/s]
  0%|          | 0/100 [00:00<?, ?it/s][A
 22%|██▏       | 22/100 [00:00<00:00, 204.74it/s][A
 43%|████▎     | 43/100 [00:00<00:00, 199.72it/s][A
 63%|██████▎   | 63/100 [00:00<00:00, 198.79it/s][A
 83%|████████▎ | 83/100 [00:00<00:00, 193.19it/s][A
                                                 [A
Models:  60%|██████    | 6/10 [00:02<00:02,  1.94it/s]
  0%|          | 0/100 [00:00<?, ?it/s][A
 23%|██▎       | 23/100 [00:00<00:00, 218.42it/s][A
 45%|████▌     | 45/100 [00:00<00:00, 182.29it/s][A
 64%|██████▍   | 64/100 [00:00<00:00, 175.04it/s][A
 82%|████████▏ | 82/100 [00:00<00:00, 175.79it/s][A
100%|██████████| 100/100 [00:00<00:00, 168.58it/s][A
                                                  [A
Models:  70%|███████   | 7/10 [00:03<00:01,  1.86it/s]
  0%|          | 0/100 [00:00<?, ?it/s][A
 27%|██▋       | 27/100 [00:00<00:00, 264.42it/s][A
 54%|█████▍    | 54/100 [00:00<00:00, 202.74it/s][A
 76%|███████▌  | 76/100 [00:00<00:00, 201.33it/s][A
 97%|█████████▋| 97/100 [00:00<00:00, 198.04it/s][A
                                                 [A
Models:  80%|████████  | 8/10 [00:04<00:01,  1.90it/s]
  0%|          | 0/100 [00:00<?, ?it/s][A
 21%|██        | 21/100 [00:00<00:00, 207.27it/s][A
 42%|████▏     | 42/100 [00:00<00:00, 198.61it/s][A
 62%|██████▏   | 62/100 [00:00<00:00, 182.74it/s][A
 81%|████████  | 81/100 [00:00<00:00, 181.79it/s][A
                                                 [A
Models:  90%|█████████ | 9/10 [00:04<00:00,  1.91it/s]
  0%|          | 0/100 [00:00<?, ?it/s][A
 30%|███       | 30/100 [00:00<00:00, 289.30it/s][A
 59%|█████▉    | 59/100 [00:00<00:00, 232.06it/s][A
 83%|████████▎ | 83/100 [00:00<00:00, 209.54it/s][A
                                                 [A
Models: 100%|██████████| 10/10 [00:04<00:00,  1.99it/s]
Models: 100%|██████████| 10/10 [00:04<00:00,  2.01it/s]
[ FAIL 0 | WARN 0 | SKIP 0 | PASS 29 ]
> 
> proc.time()
   user  system elapsed 
 53.833   4.294 183.405 
/Users/biocbuild/Library/Caches/org.R-project.R/R/basilisk/1.16.0/spatialDE/1.10.0/env/lib/python3.9/multiprocessing/resource_tracker.py:216: UserWarning: resource_tracker: There appear to be 1 leaked semaphore objects to clean up at shutdown
  warnings.warn('resource_tracker: There appear to be %d '
spatialDE.Rcheck/spatialDE-Ex.timings
| name | user | system | elapsed | |
| FSV_sig | 10.503 | 3.655 | 90.262 | |
| mockSVG | 0.321 | 0.034 | 0.528 | |
| modelSearch | 4.795 | 0.990 | 67.218 | |
| model_search | 4.356 | 0.942 | 63.676 | |
| multiGenePlots | 3.216 | 0.549 | 34.196 | |
| regress_out | 0.130 | 0.007 | 0.212 | |
| run | 2.189 | 0.468 | 30.830 | |
| spatialDE | 2.497 | 0.482 | 34.336 | |
| spatialPatterns | 2.441 | 1.161 | 89.664 | |
| spatial_patterns | 51.167 | 12.122 | 856.274 | |
| stabilize | 0.164 | 0.007 | 0.256 | |