| Back to Multiple platform build/check report for BioC 3.19: simplified long |
|
This page was generated on 2024-06-11 14:43 -0400 (Tue, 11 Jun 2024).
| Hostname | OS | Arch (*) | R version | Installed pkgs |
|---|---|---|---|---|
| nebbiolo1 | Linux (Ubuntu 22.04.3 LTS) | x86_64 | 4.4.0 (2024-04-24) -- "Puppy Cup" | 4757 |
| palomino3 | Windows Server 2022 Datacenter | x64 | 4.4.0 (2024-04-24 ucrt) -- "Puppy Cup" | 4491 |
| lconway | macOS 12.7.1 Monterey | x86_64 | 4.4.0 (2024-04-24) -- "Puppy Cup" | 4522 |
| kjohnson3 | macOS 13.6.5 Ventura | arm64 | 4.4.0 (2024-04-24) -- "Puppy Cup" | 4468 |
| Click on any hostname to see more info about the system (e.g. compilers) (*) as reported by 'uname -p', except on Windows and Mac OS X | ||||
| Package 2024/2300 | Hostname | OS / Arch | INSTALL | BUILD | CHECK | BUILD BIN | ||||||||
| sparrow 1.10.1 (landing page) Steve Lianoglou
| nebbiolo1 | Linux (Ubuntu 22.04.3 LTS) / x86_64 | OK | OK | OK | |||||||||
| palomino3 | Windows Server 2022 Datacenter / x64 | OK | OK | OK | OK | |||||||||
| lconway | macOS 12.7.1 Monterey / x86_64 | OK | OK | OK | OK | |||||||||
| kjohnson3 | macOS 13.6.5 Ventura / arm64 | OK | OK | OK | OK | |||||||||
|
To the developers/maintainers of the sparrow package: - Allow up to 24 hours (and sometimes 48 hours) for your latest push to git@git.bioconductor.org:packages/sparrow.git to reflect on this report. See Troubleshooting Build Report for more information. - Use the following Renviron settings to reproduce errors and warnings. - If 'R CMD check' started to fail recently on the Linux builder(s) over a missing dependency, add the missing dependency to 'Suggests:' in your DESCRIPTION file. See Renviron.bioc for more information. |
| Package: sparrow |
| Version: 1.10.1 |
| Command: /Library/Frameworks/R.framework/Resources/bin/R CMD check --install=check:sparrow.install-out.txt --library=/Library/Frameworks/R.framework/Resources/library --no-vignettes --timings sparrow_1.10.1.tar.gz |
| StartedAt: 2024-06-09 23:12:22 -0400 (Sun, 09 Jun 2024) |
| EndedAt: 2024-06-09 23:23:12 -0400 (Sun, 09 Jun 2024) |
| EllapsedTime: 650.2 seconds |
| RetCode: 0 |
| Status: OK |
| CheckDir: sparrow.Rcheck |
| Warnings: 0 |
##############################################################################
##############################################################################
###
### Running command:
###
### /Library/Frameworks/R.framework/Resources/bin/R CMD check --install=check:sparrow.install-out.txt --library=/Library/Frameworks/R.framework/Resources/library --no-vignettes --timings sparrow_1.10.1.tar.gz
###
##############################################################################
##############################################################################
* using log directory ‘/Users/biocbuild/bbs-3.19-bioc/meat/sparrow.Rcheck’
* using R version 4.4.0 (2024-04-24)
* using platform: x86_64-apple-darwin20
* R was compiled by
Apple clang version 14.0.0 (clang-1400.0.29.202)
GNU Fortran (GCC) 12.2.0
* running under: macOS Monterey 12.7.1
* using session charset: UTF-8
* using option ‘--no-vignettes’
* checking for file ‘sparrow/DESCRIPTION’ ... OK
* checking extension type ... Package
* this is package ‘sparrow’ version ‘1.10.1’
* package encoding: UTF-8
* checking package namespace information ... OK
* checking package dependencies ... OK
* checking if this is a source package ... OK
* checking if there is a namespace ... OK
* checking for hidden files and directories ... OK
* checking for portable file names ... OK
* checking for sufficient/correct file permissions ... OK
* checking whether package ‘sparrow’ can be installed ... OK
* checking installed package size ... OK
* checking package directory ... OK
* checking ‘build’ directory ... OK
* checking DESCRIPTION meta-information ... NOTE
License stub is invalid DCF.
* checking top-level files ... OK
* checking for left-over files ... OK
* checking index information ... OK
* checking package subdirectories ... OK
* checking code files for non-ASCII characters ... OK
* checking R files for syntax errors ... OK
* checking whether the package can be loaded ... OK
* checking whether the package can be loaded with stated dependencies ... OK
* checking whether the package can be unloaded cleanly ... OK
* checking whether the namespace can be loaded with stated dependencies ... OK
* checking whether the namespace can be unloaded cleanly ... OK
* checking whether startup messages can be suppressed ... OK
* checking dependencies in R code ... OK
* checking S3 generic/method consistency ... OK
* checking replacement functions ... OK
* checking foreign function calls ... OK
* checking R code for possible problems ... NOTE
geneSetsStats: no visible binding for global variable ‘direction’
Undefined global functions or variables:
direction
* checking Rd files ... OK
* checking Rd metadata ... OK
* checking Rd cross-references ... OK
* checking for missing documentation entries ... OK
* checking for code/documentation mismatches ... OK
* checking Rd \usage sections ... OK
* checking Rd contents ... OK
* checking for unstated dependencies in examples ... OK
* checking line endings in Makefiles ... OK
* checking for GNU extensions in Makefiles ... OK
* checking include directives in Makefiles ... OK
* checking files in ‘vignettes’ ... OK
* checking examples ... OK
Examples with CPU (user + system) or elapsed time > 5s
user system elapsed
goseq 9.152 0.578 9.776
scoreSingleSamples 7.433 0.508 8.025
seas 5.913 0.274 6.241
* checking for unstated dependencies in ‘tests’ ... OK
* checking tests ...
Running ‘testthat.R’
OK
* checking for unstated dependencies in vignettes ... OK
* checking package vignettes ... OK
* checking running R code from vignettes ... SKIPPED
* checking re-building of vignette outputs ... SKIPPED
* checking PDF version of manual ... OK
* DONE
Status: 2 NOTEs
See
‘/Users/biocbuild/bbs-3.19-bioc/meat/sparrow.Rcheck/00check.log’
for details.
sparrow.Rcheck/00install.out
############################################################################## ############################################################################## ### ### Running command: ### ### /Library/Frameworks/R.framework/Resources/bin/R CMD INSTALL sparrow ### ############################################################################## ############################################################################## * installing to library ‘/Library/Frameworks/R.framework/Versions/4.4-x86_64/Resources/library’ * installing *source* package ‘sparrow’ ... ** using staged installation ** R ** inst ** byte-compile and prepare package for lazy loading ** help *** installing help indices *** copying figures ** building package indices ** installing vignettes ** testing if installed package can be loaded from temporary location ** testing if installed package can be loaded from final location ** testing if installed package keeps a record of temporary installation path * DONE (sparrow)
sparrow.Rcheck/tests/testthat.Rout
R version 4.4.0 (2024-04-24) -- "Puppy Cup"
Copyright (C) 2024 The R Foundation for Statistical Computing
Platform: x86_64-apple-darwin20
R is free software and comes with ABSOLUTELY NO WARRANTY.
You are welcome to redistribute it under certain conditions.
Type 'license()' or 'licence()' for distribution details.
R is a collaborative project with many contributors.
Type 'contributors()' for more information and
'citation()' on how to cite R or R packages in publications.
Type 'demo()' for some demos, 'help()' for on-line help, or
'help.start()' for an HTML browser interface to help.
Type 'q()' to quit R.
> library("sparrow")
> library("testthat")
> library("data.table")
> library("dplyr")
Attaching package: 'dplyr'
The following objects are masked from 'package:data.table':
between, first, last
The following object is masked from 'package:testthat':
matches
The following object is masked from 'package:sparrow':
combine
The following objects are masked from 'package:stats':
filter, lag
The following objects are masked from 'package:base':
intersect, setdiff, setequal, union
>
> test_check("sparrow")
Attaching package: 'magrittr'
The following objects are masked from 'package:testthat':
equals, is_less_than, not
Estimating GSVA scores for 76 gene sets.
Estimating ECDFs with Gaussian kernels
|
| | 0%
|
|= | 1%
|
|== | 3%
|
|=== | 4%
|
|==== | 5%
|
|===== | 7%
|
|====== | 8%
|
|====== | 9%
|
|======= | 11%
|
|======== | 12%
|
|========= | 13%
|
|========== | 14%
|
|=========== | 16%
|
|============ | 17%
|
|============= | 18%
|
|============== | 20%
|
|=============== | 21%
|
|================ | 22%
|
|================= | 24%
|
|================== | 25%
|
|================== | 26%
|
|=================== | 28%
|
|==================== | 29%
|
|===================== | 30%
|
|====================== | 32%
|
|======================= | 33%
|
|======================== | 34%
|
|========================= | 36%
|
|========================== | 37%
|
|=========================== | 38%
|
|============================ | 39%
|
|============================= | 41%
|
|============================= | 42%
|
|============================== | 43%
|
|=============================== | 45%
|
|================================ | 46%
|
|================================= | 47%
|
|================================== | 49%
|
|=================================== | 50%
|
|==================================== | 51%
|
|===================================== | 53%
|
|====================================== | 54%
|
|======================================= | 55%
|
|======================================== | 57%
|
|========================================= | 58%
|
|========================================= | 59%
|
|========================================== | 61%
|
|=========================================== | 62%
|
|============================================ | 63%
|
|============================================= | 64%
|
|============================================== | 66%
|
|=============================================== | 67%
|
|================================================ | 68%
|
|================================================= | 70%
|
|================================================== | 71%
|
|=================================================== | 72%
|
|==================================================== | 74%
|
|==================================================== | 75%
|
|===================================================== | 76%
|
|====================================================== | 78%
|
|======================================================= | 79%
|
|======================================================== | 80%
|
|========================================================= | 82%
|
|========================================================== | 83%
|
|=========================================================== | 84%
|
|============================================================ | 86%
|
|============================================================= | 87%
|
|============================================================== | 88%
|
|=============================================================== | 89%
|
|================================================================ | 91%
|
|================================================================ | 92%
|
|================================================================= | 93%
|
|================================================================== | 95%
|
|=================================================================== | 96%
|
|==================================================================== | 97%
|
|===================================================================== | 99%
|
|======================================================================| 100%
Estimating PLAGE scores for 76 gene sets.
|
| | 0%
|
|= | 1%
|
|== | 3%
|
|=== | 4%
|
|==== | 5%
|
|===== | 7%
|
|====== | 8%
|
|====== | 9%
|
|======= | 11%
|
|======== | 12%
|
|========= | 13%
|
|========== | 14%
|
|=========== | 16%
|
|============ | 17%
|
|============= | 18%
|
|============== | 20%
|
|=============== | 21%
|
|================ | 22%
|
|================= | 24%
|
|================== | 25%
|
|================== | 26%
|
|=================== | 28%
|
|==================== | 29%
|
|===================== | 30%
|
|====================== | 32%
|
|======================= | 33%
|
|======================== | 34%
|
|========================= | 36%
|
|========================== | 37%
|
|=========================== | 38%
|
|============================ | 39%
|
|============================= | 41%
|
|============================= | 42%
|
|============================== | 43%
|
|=============================== | 45%
|
|================================ | 46%
|
|================================= | 47%
|
|================================== | 49%
|
|=================================== | 50%
|
|==================================== | 51%
|
|===================================== | 53%
|
|====================================== | 54%
|
|======================================= | 55%
|
|======================================== | 57%
|
|========================================= | 58%
|
|========================================= | 59%
|
|========================================== | 61%
|
|=========================================== | 62%
|
|============================================ | 63%
|
|============================================= | 64%
|
|============================================== | 66%
|
|=============================================== | 67%
|
|================================================ | 68%
|
|================================================= | 70%
|
|================================================== | 71%
|
|=================================================== | 72%
|
|==================================================== | 74%
|
|==================================================== | 75%
|
|===================================================== | 76%
|
|====================================================== | 78%
|
|======================================================= | 79%
|
|======================================================== | 80%
|
|========================================================= | 82%
|
|========================================================== | 83%
|
|=========================================================== | 84%
|
|============================================================ | 86%
|
|============================================================= | 87%
|
|============================================================== | 88%
|
|=============================================================== | 89%
|
|================================================================ | 91%
|
|================================================================ | 92%
|
|================================================================= | 93%
|
|================================================================== | 95%
|
|=================================================================== | 96%
|
|==================================================================== | 97%
|
|===================================================================== | 99%
|
|======================================================================| 100%
Estimating ssGSEA scores for 76 gene sets.
[1] "Calculating ranks..."
[1] "Calculating absolute values from ranks..."
|
| | 0%
|
|==== | 6%
|
|======== | 11%
|
|============ | 17%
|
|================ | 22%
|
|=================== | 28%
|
|======================= | 33%
|
|=========================== | 39%
|
|=============================== | 44%
|
|=================================== | 50%
|
|======================================= | 56%
|
|=========================================== | 61%
|
|=============================================== | 67%
|
|=================================================== | 72%
|
|====================================================== | 78%
|
|========================================================== | 83%
|
|============================================================== | 89%
|
|================================================================== | 94%
|
|======================================================================| 100%
[1] "Normalizing..."
[1] "Calculating ranks..."
[1] "Calculating absolute values from ranks..."
[1] "Normalizing..."
[1] "Calculating ranks..."
[1] "Calculating absolute values from ranks..."
[1] "Normalizing..."
[1] "Calculating ranks..."
[1] "Calculating absolute values from ranks..."
[1] "Normalizing..."
[1] "Calculating ranks..."
[1] "Calculating absolute values from ranks..."
[1] "Normalizing..."
[1] "Calculating ranks..."
[1] "Calculating absolute values from ranks..."
[1] "Normalizing..."
[1] "Calculating ranks..."
[1] "Calculating absolute values from ranks..."
[1] "Normalizing..."
[ FAIL 0 | WARN 0 | SKIP 1 | PASS 1497 ]
══ Skipped tests (1) ═══════════════════════════════════════════════════════════
• empty test (1): 'test-MultiGSEAResult.R:3:1'
[ FAIL 0 | WARN 0 | SKIP 1 | PASS 1497 ]
>
> ## Remove temporary files that were generated
> test.dir <- system.file('tests', package = "sparrow")
> pdfs <- dir(test.dir, "\\.pdf$", full.names=TRUE)
> if (length(pdfs)) {
+ unlink(pdfs)
+ }
>
>
> proc.time()
user system elapsed
336.758 23.827 354.201
sparrow.Rcheck/sparrow-Ex.timings
| name | user | system | elapsed | |
| GeneSetDb-class | 0.273 | 0.010 | 0.287 | |
| SparrowResult-utilities | 4.302 | 0.155 | 4.476 | |
| addGeneSetMetadata | 0.075 | 0.002 | 0.078 | |
| annotateGeneSetMembership | 4.271 | 0.125 | 4.412 | |
| calculateIndividualLogFC | 1.742 | 0.057 | 1.812 | |
| collectionMetadata | 0.080 | 0.002 | 0.083 | |
| combine-GeneSetDb-GeneSetDb-method | 0.084 | 0.003 | 0.088 | |
| combine-SparrowResult-SparrowResult-method | 0.154 | 0.006 | 0.162 | |
| conform | 0.437 | 0.019 | 0.459 | |
| conversion | 0.694 | 0.044 | 0.740 | |
| convertIdentifiers | 0.187 | 0.006 | 0.194 | |
| corplot | 0.091 | 0.007 | 0.100 | |
| eigenWeightedMean | 3.837 | 0.100 | 3.950 | |
| examples | 0.380 | 0.118 | 0.500 | |
| failWith | 0.000 | 0.001 | 0.001 | |
| featureIdMap | 0.423 | 0.009 | 0.435 | |
| featureIds | 0.477 | 0.028 | 0.508 | |
| geneSet | 0.102 | 0.003 | 0.106 | |
| geneSetCollectionURLfunction | 0.063 | 0.004 | 0.067 | |
| geneSetSummaryByGenes | 3.403 | 0.144 | 3.565 | |
| geneSets | 0.058 | 0.003 | 0.061 | |
| geneSetsStats | 4.238 | 0.109 | 4.367 | |
| getKeggCollection | 0.001 | 0.000 | 0.001 | |
| getMSigCollection | 0 | 0 | 0 | |
| getPantherCollection | 0 | 0 | 0 | |
| getReactomeCollection | 0.000 | 0.001 | 0.000 | |
| goseq | 9.152 | 0.578 | 9.776 | |
| gsdScore | 2.114 | 0.067 | 2.188 | |
| gskey | 0.003 | 0.001 | 0.005 | |
| hasGeneSet | 0.068 | 0.002 | 0.071 | |
| hasGeneSetCollection | 0.060 | 0.002 | 0.062 | |
| incidenceMatrix | 1.278 | 0.083 | 1.372 | |
| iplot | 1.387 | 0.166 | 1.569 | |
| is.active | 0.384 | 0.048 | 0.436 | |
| logFC | 3.252 | 0.118 | 3.389 | |
| mgheatmap | 0 | 0 | 0 | |
| mgheatmap2 | 0 | 0 | 0 | |
| msg | 0.000 | 0.000 | 0.001 | |
| ora | 0.313 | 0.019 | 0.336 | |
| p.matrix | 0.110 | 0.001 | 0.113 | |
| randomGeneSetDb | 0.093 | 0.010 | 0.105 | |
| renameCollections | 0.086 | 0.004 | 0.089 | |
| renameRows | 0.460 | 0.010 | 0.473 | |
| results | 0.099 | 0.004 | 0.104 | |
| scale_rows | 0.004 | 0.000 | 0.004 | |
| scoreSingleSamples | 7.433 | 0.508 | 8.025 | |
| seas | 5.913 | 0.274 | 6.241 | |
| sparrow_methods | 0.004 | 0.001 | 0.006 | |
| species_info | 0.007 | 0.002 | 0.010 | |
| subset.GeneSetDb | 0.086 | 0.002 | 0.088 | |
| subsetByFeatures | 0.095 | 0.003 | 0.098 | |
| validateInputs | 0.204 | 0.049 | 0.268 | |
| volcanoPlot | 2.396 | 0.167 | 2.585 | |
| volcanoStatsTable | 0.084 | 0.003 | 0.087 | |
| zScore | 1.037 | 0.045 | 1.095 | |