| Back to Multiple platform build/check report for BioC 3.19: simplified long |
|
This page was generated on 2024-06-11 14:43 -0400 (Tue, 11 Jun 2024).
| Hostname | OS | Arch (*) | R version | Installed pkgs |
|---|---|---|---|---|
| nebbiolo1 | Linux (Ubuntu 22.04.3 LTS) | x86_64 | 4.4.0 (2024-04-24) -- "Puppy Cup" | 4757 |
| palomino3 | Windows Server 2022 Datacenter | x64 | 4.4.0 (2024-04-24 ucrt) -- "Puppy Cup" | 4491 |
| lconway | macOS 12.7.1 Monterey | x86_64 | 4.4.0 (2024-04-24) -- "Puppy Cup" | 4522 |
| kjohnson3 | macOS 13.6.5 Ventura | arm64 | 4.4.0 (2024-04-24) -- "Puppy Cup" | 4468 |
| Click on any hostname to see more info about the system (e.g. compilers) (*) as reported by 'uname -p', except on Windows and Mac OS X | ||||
| Package 1995/2300 | Hostname | OS / Arch | INSTALL | BUILD | CHECK | BUILD BIN | ||||||||
| singscore 1.24.0 (landing page) Malvika Kharbanda
| nebbiolo1 | Linux (Ubuntu 22.04.3 LTS) / x86_64 | OK | OK | OK | |||||||||
| palomino3 | Windows Server 2022 Datacenter / x64 | OK | OK | OK | OK | |||||||||
| lconway | macOS 12.7.1 Monterey / x86_64 | OK | OK | OK | OK | |||||||||
| kjohnson3 | macOS 13.6.5 Ventura / arm64 | OK | OK | OK | OK | |||||||||
|
To the developers/maintainers of the singscore package: - Allow up to 24 hours (and sometimes 48 hours) for your latest push to git@git.bioconductor.org:packages/singscore.git to reflect on this report. See Troubleshooting Build Report for more information. - Use the following Renviron settings to reproduce errors and warnings. - If 'R CMD check' started to fail recently on the Linux builder(s) over a missing dependency, add the missing dependency to 'Suggests:' in your DESCRIPTION file. See Renviron.bioc for more information. |
| Package: singscore |
| Version: 1.24.0 |
| Command: /Library/Frameworks/R.framework/Resources/bin/R CMD check --install=check:singscore.install-out.txt --library=/Library/Frameworks/R.framework/Resources/library --no-vignettes --timings singscore_1.24.0.tar.gz |
| StartedAt: 2024-06-09 23:08:15 -0400 (Sun, 09 Jun 2024) |
| EndedAt: 2024-06-09 23:12:43 -0400 (Sun, 09 Jun 2024) |
| EllapsedTime: 267.6 seconds |
| RetCode: 0 |
| Status: OK |
| CheckDir: singscore.Rcheck |
| Warnings: 0 |
##############################################################################
##############################################################################
###
### Running command:
###
### /Library/Frameworks/R.framework/Resources/bin/R CMD check --install=check:singscore.install-out.txt --library=/Library/Frameworks/R.framework/Resources/library --no-vignettes --timings singscore_1.24.0.tar.gz
###
##############################################################################
##############################################################################
* using log directory ‘/Users/biocbuild/bbs-3.19-bioc/meat/singscore.Rcheck’
* using R version 4.4.0 (2024-04-24)
* using platform: x86_64-apple-darwin20
* R was compiled by
Apple clang version 14.0.0 (clang-1400.0.29.202)
GNU Fortran (GCC) 12.2.0
* running under: macOS Monterey 12.7.1
* using session charset: UTF-8
* using option ‘--no-vignettes’
* checking for file ‘singscore/DESCRIPTION’ ... OK
* checking extension type ... Package
* this is package ‘singscore’ version ‘1.24.0’
* package encoding: UTF-8
* checking package namespace information ... OK
* checking package dependencies ... OK
* checking if this is a source package ... OK
* checking if there is a namespace ... OK
* checking for hidden files and directories ... OK
* checking for portable file names ... OK
* checking for sufficient/correct file permissions ... OK
* checking whether package ‘singscore’ can be installed ... OK
* checking installed package size ... OK
* checking package directory ... OK
* checking ‘build’ directory ... OK
* checking DESCRIPTION meta-information ...Warning in person1(given = given[[i]], family = family[[i]], middle = middle[[i]], :
It is recommended to use ‘given’ instead of ‘middle’.
OK
* checking top-level files ... OK
* checking for left-over files ... OK
* checking index information ... OK
* checking package subdirectories ... OK
* checking code files for non-ASCII characters ... OK
* checking R files for syntax errors ... OK
* checking whether the package can be loaded ... OK
* checking whether the package can be loaded with stated dependencies ... OK
* checking whether the package can be unloaded cleanly ... OK
* checking whether the namespace can be loaded with stated dependencies ... OK
* checking whether the namespace can be unloaded cleanly ... OK
* checking dependencies in R code ... OK
* checking S3 generic/method consistency ... OK
* checking replacement functions ... OK
* checking foreign function calls ... OK
* checking R code for possible problems ... NOTE
plotDispersion: no visible binding for global variable ‘Score’
plotDispersion: no visible binding for global variable ‘Dispersion’
plotDispersion: no visible binding for global variable ‘Class’
plotDispersion: no visible binding for global variable ‘SampleText’
plotDispersion: no visible binding for global variable ‘SampleLabel’
plotRankDensity_intl: no visible binding for global variable ‘Ranks’
plotRankDensity_intl: no visible binding for global variable ‘upDown’
plotRankDensity_intl: no visible binding for global variable
‘..density..’
plotRankDensity_intl: no visible binding for global variable ‘EntrezID’
plotScoreLandscape: no visible binding for global variable ‘sc1’
plotScoreLandscape: no visible binding for global variable ‘sc2’
projectScoreLandscape: no visible binding for global variable
‘SampleText’
projectScoreLandscape: no visible binding for global variable ‘Class’
projectScoreLandscape: no visible binding for global variable
‘SampleLabel’
Undefined global functions or variables:
..density.. Class Dispersion EntrezID Ranks SampleLabel SampleText
Score sc1 sc2 upDown
* checking Rd files ... OK
* checking Rd metadata ... OK
* checking Rd cross-references ... OK
* checking for missing documentation entries ... OK
* checking for code/documentation mismatches ... OK
* checking Rd \usage sections ... OK
* checking Rd contents ... OK
* checking for unstated dependencies in examples ... OK
* checking contents of ‘data’ directory ... OK
* checking data for non-ASCII characters ... OK
* checking LazyData ... OK
* checking data for ASCII and uncompressed saves ... OK
* checking R/sysdata.rda ... OK
* checking files in ‘vignettes’ ... OK
* checking examples ... OK
* checking for unstated dependencies in ‘tests’ ... OK
* checking tests ...
Running ‘testthat.R’
OK
* checking for unstated dependencies in vignettes ... OK
* checking package vignettes ... OK
* checking running R code from vignettes ... SKIPPED
* checking re-building of vignette outputs ... SKIPPED
* checking PDF version of manual ... OK
* DONE
Status: 1 NOTE
See
‘/Users/biocbuild/bbs-3.19-bioc/meat/singscore.Rcheck/00check.log’
for details.
singscore.Rcheck/00install.out
############################################################################## ############################################################################## ### ### Running command: ### ### /Library/Frameworks/R.framework/Resources/bin/R CMD INSTALL singscore ### ############################################################################## ############################################################################## * installing to library ‘/Library/Frameworks/R.framework/Versions/4.4-x86_64/Resources/library’ * installing *source* package ‘singscore’ ... ** using staged installation Warning in person1(given = given[[i]], family = family[[i]], middle = middle[[i]], : It is recommended to use ‘given’ instead of ‘middle’. Warning in person1(given = given[[i]], family = family[[i]], middle = middle[[i]], : It is recommended to use ‘given’ instead of ‘middle’. ** R ** data *** moving datasets to lazyload DB ** inst ** byte-compile and prepare package for lazy loading ** help *** installing help indices *** copying figures ** building package indices ** installing vignettes ** testing if installed package can be loaded from temporary location ** testing if installed package can be loaded from final location ** testing if installed package keeps a record of temporary installation path * DONE (singscore)
singscore.Rcheck/tests/testthat.Rout
R version 4.4.0 (2024-04-24) -- "Puppy Cup"
Copyright (C) 2024 The R Foundation for Statistical Computing
Platform: x86_64-apple-darwin20
R is free software and comes with ABSOLUTELY NO WARRANTY.
You are welcome to redistribute it under certain conditions.
Type 'license()' or 'licence()' for distribution details.
R is a collaborative project with many contributors.
Type 'contributors()' for more information and
'citation()' on how to cite R or R packages in publications.
Type 'demo()' for some demos, 'help()' for on-line help, or
'help.start()' for an HTML browser interface to help.
Type 'q()' to quit R.
> library(testthat)
> library(singscore)
>
> test_check("singscore")
[ FAIL 0 | WARN 41 | SKIP 0 | PASS 143 ]
[ FAIL 0 | WARN 41 | SKIP 0 | PASS 143 ]
>
> proc.time()
user system elapsed
22.657 0.901 23.699
singscore.Rcheck/singscore-Ex.timings
| name | user | system | elapsed | |
| generateNull | 3.185 | 0.036 | 3.228 | |
| getPvals | 0.093 | 0.002 | 0.095 | |
| getStableGenes | 0.857 | 0.098 | 0.956 | |
| multiScore | 0.021 | 0.001 | 0.022 | |
| plotDispersion | 0.869 | 0.072 | 0.951 | |
| plotNull | 0.712 | 0.018 | 0.732 | |
| plotRankDensity | 0.385 | 0.004 | 0.389 | |
| plotScoreLandscape | 0.123 | 0.001 | 0.124 | |
| rankGenes | 0.075 | 0.001 | 0.076 | |
| simpleScore | 0.007 | 0.000 | 0.008 | |