| Back to Multiple platform build/check report for BioC 3.19: simplified long | 
 | 
This page was generated on 2024-10-18 20:38 -0400 (Fri, 18 Oct 2024).
| Hostname | OS | Arch (*) | R version | Installed pkgs | 
|---|---|---|---|---|
| nebbiolo1 | Linux (Ubuntu 22.04.3 LTS) | x86_64 | 4.4.1 (2024-06-14) -- "Race for Your Life" | 4763 | 
| palomino7 | Windows Server 2022 Datacenter | x64 | 4.4.1 (2024-06-14 ucrt) -- "Race for Your Life" | 4500 | 
| merida1 | macOS 12.7.5 Monterey | x86_64 | 4.4.1 (2024-06-14) -- "Race for Your Life" | 4530 | 
| kjohnson1 | macOS 13.6.6 Ventura | arm64 | 4.4.1 (2024-06-14) -- "Race for Your Life" | 4480 | 
| Click on any hostname to see more info about the system (e.g. compilers) (*) as reported by 'uname -p', except on Windows and Mac OS X | ||||
| Package 1992/2300 | Hostname | OS / Arch | INSTALL | BUILD | CHECK | BUILD BIN | ||||||||
| singleCellTK 2.14.0  (landing page) Joshua David Campbell 
 | nebbiolo1 | Linux (Ubuntu 22.04.3 LTS) / x86_64 | OK | OK | OK |  | ||||||||
| palomino7 | Windows Server 2022 Datacenter / x64 | OK | OK | OK | OK |  | ||||||||
| merida1 | macOS 12.7.5 Monterey / x86_64 | OK | OK | OK | OK |  | ||||||||
| kjohnson1 | macOS 13.6.6 Ventura / arm64 | OK | OK | OK | NA | |||||||||
| To the developers/maintainers of the singleCellTK package: - Allow up to 24 hours (and sometimes 48 hours) for your latest push to git@git.bioconductor.org:packages/singleCellTK.git to reflect on this report. See Troubleshooting Build Report for more information. - Use the following Renviron settings to reproduce errors and warnings. - If 'R CMD check' started to fail recently on the Linux builder(s) over a missing dependency, add the missing dependency to 'Suggests:' in your DESCRIPTION file. See Renviron.bioc for more information. | 
| Package: singleCellTK | 
| Version: 2.14.0 | 
| Command: /home/biocbuild/bbs-3.19-bioc/R/bin/R CMD check --install=check:singleCellTK.install-out.txt --library=/home/biocbuild/bbs-3.19-bioc/R/site-library --timings singleCellTK_2.14.0.tar.gz | 
| StartedAt: 2024-10-17 05:13:20 -0400 (Thu, 17 Oct 2024) | 
| EndedAt: 2024-10-17 05:28:11 -0400 (Thu, 17 Oct 2024) | 
| EllapsedTime: 890.7 seconds | 
| RetCode: 0 | 
| Status: OK | 
| CheckDir: singleCellTK.Rcheck | 
| Warnings: 0 | 
##############################################################################
##############################################################################
###
### Running command:
###
###   /home/biocbuild/bbs-3.19-bioc/R/bin/R CMD check --install=check:singleCellTK.install-out.txt --library=/home/biocbuild/bbs-3.19-bioc/R/site-library --timings singleCellTK_2.14.0.tar.gz
###
##############################################################################
##############################################################################
* using log directory ‘/home/biocbuild/bbs-3.19-bioc/meat/singleCellTK.Rcheck’
* using R version 4.4.1 (2024-06-14)
* using platform: x86_64-pc-linux-gnu
* R was compiled by
    gcc (Ubuntu 11.4.0-1ubuntu1~22.04) 11.4.0
    GNU Fortran (Ubuntu 11.4.0-1ubuntu1~22.04) 11.4.0
* running under: Ubuntu 22.04.5 LTS
* using session charset: UTF-8
* checking for file ‘singleCellTK/DESCRIPTION’ ... OK
* checking extension type ... Package
* this is package ‘singleCellTK’ version ‘2.14.0’
* package encoding: UTF-8
* checking package namespace information ... OK
* checking package dependencies ... OK
* checking if this is a source package ... OK
* checking if there is a namespace ... OK
* checking for hidden files and directories ... OK
* checking for portable file names ... OK
* checking for sufficient/correct file permissions ... OK
* checking whether package ‘singleCellTK’ can be installed ... OK
* checking installed package size ... NOTE
  installed size is  5.6Mb
  sub-directories of 1Mb or more:
    shiny   2.3Mb
* checking package directory ... OK
* checking ‘build’ directory ... OK
* checking DESCRIPTION meta-information ... NOTE
License stub is invalid DCF.
* checking top-level files ... OK
* checking for left-over files ... OK
* checking index information ... OK
* checking package subdirectories ... OK
* checking code files for non-ASCII characters ... OK
* checking R files for syntax errors ... OK
* checking whether the package can be loaded ... OK
* checking whether the package can be loaded with stated dependencies ... OK
* checking whether the package can be unloaded cleanly ... OK
* checking whether the namespace can be loaded with stated dependencies ... OK
* checking whether the namespace can be unloaded cleanly ... OK
* checking loading without being on the library search path ... OK
* checking whether startup messages can be suppressed ... OK
* checking dependencies in R code ... OK
* checking S3 generic/method consistency ... OK
* checking replacement functions ... OK
* checking foreign function calls ... OK
* checking R code for possible problems ... OK
* checking Rd files ... NOTE
checkRd: (-1) dedupRowNames.Rd:10: Lost braces
    10 | \item{x}{A matrix like or /linkS4class{SingleCellExperiment} object, on which
       |                                       ^
checkRd: (-1) dedupRowNames.Rd:14: Lost braces
    14 | /linkS4class{SingleCellExperiment} object. When set to \code{TRUE}, will
       |             ^
checkRd: (-1) dedupRowNames.Rd:22: Lost braces
    22 | By default, a matrix or /linkS4class{SingleCellExperiment} object
       |                                     ^
checkRd: (-1) dedupRowNames.Rd:24: Lost braces
    24 | When \code{x} is a /linkS4class{SingleCellExperiment} and \code{as.rowData}
       |                                ^
checkRd: (-1) plotBubble.Rd:42: Lost braces
    42 | \item{scale}{Option to scale the data. Default: /code{FALSE}. Selected assay will not be scaled.}
       |                                                      ^
checkRd: (-1) runClusterSummaryMetrics.Rd:27: Lost braces
    27 | \item{scale}{Option to scale the data. Default: /code{FALSE}. Selected assay will not be scaled.}
       |                                                      ^
checkRd: (-1) runEmptyDrops.Rd:66: Lost braces
    66 | provided \\linkS4class{SingleCellExperiment} object.
       |                       ^
checkRd: (-1) runSCMerge.Rd:44: Lost braces
    44 | construct pseudo-replicates. The length of code{kmeansK} needs to be the same
       |                                                ^
* checking Rd metadata ... OK
* checking Rd cross-references ... OK
* checking for missing documentation entries ... OK
* checking for code/documentation mismatches ... OK
* checking Rd \usage sections ... OK
* checking Rd contents ... OK
* checking for unstated dependencies in examples ... OK
* checking contents of ‘data’ directory ... OK
* checking data for non-ASCII characters ... OK
* checking data for ASCII and uncompressed saves ... OK
* checking R/sysdata.rda ... OK
* checking files in ‘vignettes’ ... OK
* checking examples ... OK
Examples with CPU (user + system) or elapsed time > 5s
                           user system elapsed
plotDoubletFinderResults 30.993  0.475  31.466
runDoubletFinder         29.435  0.232  29.667
runSeuratSCTransform     28.894  0.648  29.543
plotScDblFinderResults   28.175  0.696  28.869
runScDblFinder           20.273  0.568  20.842
importExampleData        16.130  2.497  19.160
plotBatchCorrCompare     10.046  0.532  10.571
plotScdsHybridResults     9.027  0.144   8.333
plotBcdsResults           7.972  0.277   7.341
runUMAP                   6.991  0.228   7.216
plotDecontXResults        6.932  0.228   7.160
plotEmptyDropsScatter     6.671  0.044   6.715
plotEmptyDropsResults     6.658  0.024   6.682
plotUMAP                  6.494  0.051   6.543
runEmptyDrops             6.419  0.008   6.428
runDecontX                6.370  0.012   6.383
plotCxdsResults           6.015  0.152   6.166
detectCellOutlier         5.829  0.168   5.998
getEnrichRResult          0.584  0.067   6.343
* checking for unstated dependencies in ‘tests’ ... OK
* checking tests ...
  Running ‘spelling.R’
  Running ‘testthat.R’
 OK
* checking for unstated dependencies in vignettes ... OK
* checking package vignettes ... OK
* checking re-building of vignette outputs ... OK
* checking PDF version of manual ... OK
* DONE
Status: 3 NOTEs
See
  ‘/home/biocbuild/bbs-3.19-bioc/meat/singleCellTK.Rcheck/00check.log’
for details.
singleCellTK.Rcheck/00install.out
############################################################################## ############################################################################## ### ### Running command: ### ### /home/biocbuild/bbs-3.19-bioc/R/bin/R CMD INSTALL singleCellTK ### ############################################################################## ############################################################################## * installing to library ‘/home/biocbuild/bbs-3.19-bioc/R/site-library’ * installing *source* package ‘singleCellTK’ ... ** using staged installation ** R ** data ** exec ** inst ** byte-compile and prepare package for lazy loading ** help *** installing help indices ** building package indices ** installing vignettes ** testing if installed package can be loaded from temporary location ** testing if installed package can be loaded from final location ** testing if installed package keeps a record of temporary installation path * DONE (singleCellTK)
singleCellTK.Rcheck/tests/spelling.Rout
R version 4.4.1 (2024-06-14) -- "Race for Your Life"
Copyright (C) 2024 The R Foundation for Statistical Computing
Platform: x86_64-pc-linux-gnu
R is free software and comes with ABSOLUTELY NO WARRANTY.
You are welcome to redistribute it under certain conditions.
Type 'license()' or 'licence()' for distribution details.
R is a collaborative project with many contributors.
Type 'contributors()' for more information and
'citation()' on how to cite R or R packages in publications.
Type 'demo()' for some demos, 'help()' for on-line help, or
'help.start()' for an HTML browser interface to help.
Type 'q()' to quit R.
> if (requireNamespace('spelling', quietly = TRUE))
+   spelling::spell_check_test(vignettes = TRUE, error = FALSE, skip_on_cran = TRUE)
NULL
> 
> proc.time()
   user  system elapsed 
  0.170   0.020   0.178 
singleCellTK.Rcheck/tests/testthat.Rout
R version 4.4.1 (2024-06-14) -- "Race for Your Life"
Copyright (C) 2024 The R Foundation for Statistical Computing
Platform: x86_64-pc-linux-gnu
R is free software and comes with ABSOLUTELY NO WARRANTY.
You are welcome to redistribute it under certain conditions.
Type 'license()' or 'licence()' for distribution details.
R is a collaborative project with many contributors.
Type 'contributors()' for more information and
'citation()' on how to cite R or R packages in publications.
Type 'demo()' for some demos, 'help()' for on-line help, or
'help.start()' for an HTML browser interface to help.
Type 'q()' to quit R.
> library(testthat)
> library(singleCellTK)
Loading required package: SummarizedExperiment
Loading required package: MatrixGenerics
Loading required package: matrixStats
Attaching package: 'MatrixGenerics'
The following objects are masked from 'package:matrixStats':
    colAlls, colAnyNAs, colAnys, colAvgsPerRowSet, colCollapse,
    colCounts, colCummaxs, colCummins, colCumprods, colCumsums,
    colDiffs, colIQRDiffs, colIQRs, colLogSumExps, colMadDiffs,
    colMads, colMaxs, colMeans2, colMedians, colMins, colOrderStats,
    colProds, colQuantiles, colRanges, colRanks, colSdDiffs, colSds,
    colSums2, colTabulates, colVarDiffs, colVars, colWeightedMads,
    colWeightedMeans, colWeightedMedians, colWeightedSds,
    colWeightedVars, rowAlls, rowAnyNAs, rowAnys, rowAvgsPerColSet,
    rowCollapse, rowCounts, rowCummaxs, rowCummins, rowCumprods,
    rowCumsums, rowDiffs, rowIQRDiffs, rowIQRs, rowLogSumExps,
    rowMadDiffs, rowMads, rowMaxs, rowMeans2, rowMedians, rowMins,
    rowOrderStats, rowProds, rowQuantiles, rowRanges, rowRanks,
    rowSdDiffs, rowSds, rowSums2, rowTabulates, rowVarDiffs, rowVars,
    rowWeightedMads, rowWeightedMeans, rowWeightedMedians,
    rowWeightedSds, rowWeightedVars
Loading required package: GenomicRanges
Loading required package: stats4
Loading required package: BiocGenerics
Attaching package: 'BiocGenerics'
The following objects are masked from 'package:stats':
    IQR, mad, sd, var, xtabs
The following objects are masked from 'package:base':
    Filter, Find, Map, Position, Reduce, anyDuplicated, aperm, append,
    as.data.frame, basename, cbind, colnames, dirname, do.call,
    duplicated, eval, evalq, get, grep, grepl, intersect, is.unsorted,
    lapply, mapply, match, mget, order, paste, pmax, pmax.int, pmin,
    pmin.int, rank, rbind, rownames, sapply, setdiff, table, tapply,
    union, unique, unsplit, which.max, which.min
Loading required package: S4Vectors
Attaching package: 'S4Vectors'
The following object is masked from 'package:utils':
    findMatches
The following objects are masked from 'package:base':
    I, expand.grid, unname
Loading required package: IRanges
Loading required package: GenomeInfoDb
Loading required package: Biobase
Welcome to Bioconductor
    Vignettes contain introductory material; view with
    'browseVignettes()'. To cite Bioconductor, see
    'citation("Biobase")', and for packages 'citation("pkgname")'.
Attaching package: 'Biobase'
The following object is masked from 'package:MatrixGenerics':
    rowMedians
The following objects are masked from 'package:matrixStats':
    anyMissing, rowMedians
Loading required package: SingleCellExperiment
Loading required package: DelayedArray
Loading required package: Matrix
Attaching package: 'Matrix'
The following object is masked from 'package:S4Vectors':
    expand
Loading required package: S4Arrays
Loading required package: abind
Attaching package: 'S4Arrays'
The following object is masked from 'package:abind':
    abind
The following object is masked from 'package:base':
    rowsum
Loading required package: SparseArray
Attaching package: 'DelayedArray'
The following objects are masked from 'package:base':
    apply, scale, sweep
Attaching package: 'singleCellTK'
The following object is masked from 'package:BiocGenerics':
    plotPCA
> 
> test_check("singleCellTK")
Found 2 batches
Using null model in ComBat-seq.
Adjusting for 0 covariate(s) or covariate level(s)
Estimating dispersions
Fitting the GLM model
Shrinkage off - using GLM estimates for parameters
Adjusting the data
Found 2 batches
Using null model in ComBat-seq.
Adjusting for 1 covariate(s) or covariate level(s)
Estimating dispersions
Fitting the GLM model
Shrinkage off - using GLM estimates for parameters
Adjusting the data
Performing log-normalization
0%   10   20   30   40   50   60   70   80   90   100%
[----|----|----|----|----|----|----|----|----|----|
**************************************************|
  |                                                                            
  |                                                                      |   0%
  |                                                                            
  |======================================================================| 100%
Calculating gene variances
0%   10   20   30   40   50   60   70   80   90   100%
[----|----|----|----|----|----|----|----|----|----|
**************************************************|
Calculating feature variances of standardized and clipped values
0%   10   20   30   40   50   60   70   80   90   100%
[----|----|----|----|----|----|----|----|----|----|
**************************************************|
  |                                                                            
  |                                                                      |   0%
  |                                                                            
  |======================================================================| 100%
  |                                                                            
  |                                                                      |   0%
  |                                                                            
  |======================================================================| 100%
Calculating gene variances
0%   10   20   30   40   50   60   70   80   90   100%
[----|----|----|----|----|----|----|----|----|----|
**************************************************|
Calculating feature variances of standardized and clipped values
0%   10   20   30   40   50   60   70   80   90   100%
[----|----|----|----|----|----|----|----|----|----|
**************************************************|
Uploading data to Enrichr... Done.
  Querying HDSigDB_Human_2021... Done.
Parsing results... Done.
Performing log-normalization
0%   10   20   30   40   50   60   70   80   90   100%
[----|----|----|----|----|----|----|----|----|----|
**************************************************|
Calculating gene variances
0%   10   20   30   40   50   60   70   80   90   100%
[----|----|----|----|----|----|----|----|----|----|
**************************************************|
Calculating feature variances of standardized and clipped values
0%   10   20   30   40   50   60   70   80   90   100%
[----|----|----|----|----|----|----|----|----|----|
**************************************************|
Calculating gene means
0%   10   20   30   40   50   60   70   80   90   100%
[----|----|----|----|----|----|----|----|----|----|
**************************************************|
Calculating gene variance to mean ratios
0%   10   20   30   40   50   60   70   80   90   100%
[----|----|----|----|----|----|----|----|----|----|
**************************************************|
Calculating gene means
0%   10   20   30   40   50   60   70   80   90   100%
[----|----|----|----|----|----|----|----|----|----|
**************************************************|
Calculating gene variance to mean ratios
0%   10   20   30   40   50   60   70   80   90   100%
[----|----|----|----|----|----|----|----|----|----|
**************************************************|
No annotation package name available in the input data object.
Attempting to directly match identifiers in data to gene sets.
Estimating GSVA scores for 34 gene sets.
Estimating ECDFs with Gaussian kernels
  |                                                                            
  |                                                                      |   0%
  |                                                                            
  |==                                                                    |   3%
  |                                                                            
  |====                                                                  |   6%
  |                                                                            
  |======                                                                |   9%
  |                                                                            
  |========                                                              |  12%
  |                                                                            
  |==========                                                            |  15%
  |                                                                            
  |============                                                          |  18%
  |                                                                            
  |==============                                                        |  21%
  |                                                                            
  |================                                                      |  24%
  |                                                                            
  |===================                                                   |  26%
  |                                                                            
  |=====================                                                 |  29%
  |                                                                            
  |=======================                                               |  32%
  |                                                                            
  |=========================                                             |  35%
  |                                                                            
  |===========================                                           |  38%
  |                                                                            
  |=============================                                         |  41%
  |                                                                            
  |===============================                                       |  44%
  |                                                                            
  |=================================                                     |  47%
  |                                                                            
  |===================================                                   |  50%
  |                                                                            
  |=====================================                                 |  53%
  |                                                                            
  |=======================================                               |  56%
  |                                                                            
  |=========================================                             |  59%
  |                                                                            
  |===========================================                           |  62%
  |                                                                            
  |=============================================                         |  65%
  |                                                                            
  |===============================================                       |  68%
  |                                                                            
  |=================================================                     |  71%
  |                                                                            
  |===================================================                   |  74%
  |                                                                            
  |======================================================                |  76%
  |                                                                            
  |========================================================              |  79%
  |                                                                            
  |==========================================================            |  82%
  |                                                                            
  |============================================================          |  85%
  |                                                                            
  |==============================================================        |  88%
  |                                                                            
  |================================================================      |  91%
  |                                                                            
  |==================================================================    |  94%
  |                                                                            
  |====================================================================  |  97%
  |                                                                            
  |======================================================================| 100%
No annotation package name available in the input data object.
Attempting to directly match identifiers in data to gene sets.
Estimating GSVA scores for 2 gene sets.
Estimating ECDFs with Gaussian kernels
  |                                                                            
  |                                                                      |   0%
  |                                                                            
  |===================================                                   |  50%
  |                                                                            
  |======================================================================| 100%
Performing log-normalization
0%   10   20   30   40   50   60   70   80   90   100%
[----|----|----|----|----|----|----|----|----|----|
**************************************************|
Calculating gene variances
0%   10   20   30   40   50   60   70   80   90   100%
[----|----|----|----|----|----|----|----|----|----|
**************************************************|
Calculating feature variances of standardized and clipped values
0%   10   20   30   40   50   60   70   80   90   100%
[----|----|----|----|----|----|----|----|----|----|
**************************************************|
  |                                                                            
  |                                                                      |   0%
  |                                                                            
  |======================================================================| 100%
Performing log-normalization
0%   10   20   30   40   50   60   70   80   90   100%
[----|----|----|----|----|----|----|----|----|----|
**************************************************|
  |                                                                            
  |                                                                      |   0%
  |                                                                            
  |======================================================================| 100%
Calculating gene variances
0%   10   20   30   40   50   60   70   80   90   100%
[----|----|----|----|----|----|----|----|----|----|
**************************************************|
Calculating feature variances of standardized and clipped values
0%   10   20   30   40   50   60   70   80   90   100%
[----|----|----|----|----|----|----|----|----|----|
**************************************************|
  |                                                                            
  |                                                                      |   0%
  |                                                                            
  |======================================================================| 100%
  |                                                                            
  |                                                                      |   0%
  |                                                                            
  |======================================================================| 100%
Modularity Optimizer version 1.3.0 by Ludo Waltman and Nees Jan van Eck
Number of nodes: 390
Number of edges: 9849
Running Louvain algorithm...
0%   10   20   30   40   50   60   70   80   90   100%
[----|----|----|----|----|----|----|----|----|----|
**************************************************|
Maximum modularity in 10 random starts: 0.8351
Number of communities: 7
Elapsed time: 0 seconds
Using method 'umap'
0%   10   20   30   40   50   60   70   80   90   100%
[----|----|----|----|----|----|----|----|----|----|
**************************************************|
  |                                                                            
  |                                                                      |   0%
  |                                                                            
  |======================================================================| 100%
  |                                                                            
  |                                                                      |   0%
  |                                                                            
  |======================================================================| 100%
0%   10   20   30   40   50   60   70   80   90   100%
[----|----|----|----|----|----|----|----|----|----|
**************************************************|
0%   10   20   30   40   50   60   70   80   90   100%
[----|----|----|----|----|----|----|----|----|----|
**************************************************|
  |                                                                            
  |                                                                      |   0%
  |                                                                            
  |======================================================================| 100%
  |                                                                            
  |                                                                      |   0%
  |                                                                            
  |======================================================================| 100%
  |                                                                            
  |                                                                      |   0%
  |                                                                            
  |======================================================================| 100%
  |                                                                            
  |                                                                      |   0%
  |                                                                            
  |======================================================================| 100%
  |                                                                            
  |                                                                      |   0%
  |                                                                            
  |======================================================================| 100%
Performing log-normalization
0%   10   20   30   40   50   60   70   80   90   100%
[----|----|----|----|----|----|----|----|----|----|
**************************************************|
[ FAIL 0 | WARN 21 | SKIP 0 | PASS 224 ]
[ FAIL 0 | WARN 21 | SKIP 0 | PASS 224 ]
> 
> proc.time()
   user  system elapsed 
260.670   9.211 272.585 
singleCellTK.Rcheck/singleCellTK-Ex.timings
| name | user | system | elapsed | |
| MitoGenes | 0.002 | 0.000 | 0.002 | |
| SEG | 0.003 | 0.000 | 0.003 | |
| calcEffectSizes | 0.168 | 0.028 | 0.196 | |
| combineSCE | 1.242 | 0.051 | 1.294 | |
| computeZScore | 0.227 | 0.015 | 0.243 | |
| convertSCEToSeurat | 3.924 | 0.156 | 4.080 | |
| convertSeuratToSCE | 0.46 | 0.00 | 0.46 | |
| dedupRowNames | 0.063 | 0.000 | 0.063 | |
| detectCellOutlier | 5.829 | 0.168 | 5.998 | |
| diffAbundanceFET | 0.049 | 0.004 | 0.054 | |
| discreteColorPalette | 0.006 | 0.000 | 0.006 | |
| distinctColors | 0.002 | 0.000 | 0.002 | |
| downSampleCells | 0.570 | 0.124 | 0.694 | |
| downSampleDepth | 0.494 | 0.007 | 0.501 | |
| expData-ANY-character-method | 0.259 | 0.008 | 0.267 | |
| expData-set-ANY-character-CharacterOrNullOrMissing-logical-method | 0.302 | 0.000 | 0.303 | |
| expData-set | 0.308 | 0.004 | 0.312 | |
| expData | 0.281 | 0.004 | 0.284 | |
| expDataNames-ANY-method | 0.293 | 0.025 | 0.316 | |
| expDataNames | 0.260 | 0.000 | 0.261 | |
| expDeleteDataTag | 0.034 | 0.000 | 0.035 | |
| expSetDataTag | 0.021 | 0.003 | 0.026 | |
| expTaggedData | 0.022 | 0.005 | 0.026 | |
| exportSCE | 0.022 | 0.000 | 0.022 | |
| exportSCEtoAnnData | 0.085 | 0.011 | 0.097 | |
| exportSCEtoFlatFile | 0.089 | 0.008 | 0.096 | |
| featureIndex | 0.031 | 0.003 | 0.035 | |
| generateSimulatedData | 0.050 | 0.000 | 0.051 | |
| getBiomarker | 0.057 | 0.000 | 0.057 | |
| getDEGTopTable | 0.746 | 0.035 | 0.782 | |
| getDiffAbundanceResults | 0.044 | 0.004 | 0.048 | |
| getEnrichRResult | 0.584 | 0.067 | 6.343 | |
| getFindMarkerTopTable | 3.138 | 0.296 | 3.434 | |
| getMSigDBTable | 0.004 | 0.000 | 0.004 | |
| getPathwayResultNames | 0.024 | 0.000 | 0.024 | |
| getSampleSummaryStatsTable | 0.260 | 0.036 | 0.296 | |
| getSoupX | 0 | 0 | 0 | |
| getTSCANResults | 1.634 | 0.144 | 1.778 | |
| getTopHVG | 1.060 | 0.036 | 1.097 | |
| importAnnData | 0.002 | 0.000 | 0.001 | |
| importBUStools | 0.233 | 0.012 | 0.246 | |
| importCellRanger | 0.997 | 0.071 | 1.069 | |
| importCellRangerV2Sample | 0.218 | 0.024 | 0.242 | |
| importCellRangerV3Sample | 0.350 | 0.024 | 0.375 | |
| importDropEst | 0.279 | 0.000 | 0.280 | |
| importExampleData | 16.130 | 2.497 | 19.160 | |
| importGeneSetsFromCollection | 0.680 | 0.089 | 0.769 | |
| importGeneSetsFromGMT | 0.106 | 0.020 | 0.126 | |
| importGeneSetsFromList | 0.108 | 0.004 | 0.113 | |
| importGeneSetsFromMSigDB | 2.214 | 0.168 | 2.382 | |
| importMitoGeneSet | 0.05 | 0.00 | 0.05 | |
| importOptimus | 0.001 | 0.000 | 0.002 | |
| importSEQC | 0.234 | 0.008 | 0.243 | |
| importSTARsolo | 0.255 | 0.004 | 0.259 | |
| iterateSimulations | 0.341 | 0.015 | 0.357 | |
| listSampleSummaryStatsTables | 0.415 | 0.016 | 0.432 | |
| mergeSCEColData | 0.463 | 0.012 | 0.475 | |
| mouseBrainSubsetSCE | 0.042 | 0.000 | 0.042 | |
| msigdb_table | 0.002 | 0.000 | 0.002 | |
| plotBarcodeRankDropsResults | 0.777 | 0.048 | 0.824 | |
| plotBarcodeRankScatter | 0.772 | 0.000 | 0.772 | |
| plotBatchCorrCompare | 10.046 | 0.532 | 10.571 | |
| plotBatchVariance | 0.307 | 0.024 | 0.331 | |
| plotBcdsResults | 7.972 | 0.277 | 7.341 | |
| plotBubble | 0.935 | 0.020 | 0.955 | |
| plotClusterAbundance | 0.809 | 0.024 | 0.834 | |
| plotCxdsResults | 6.015 | 0.152 | 6.166 | |
| plotDEGHeatmap | 2.606 | 0.056 | 2.662 | |
| plotDEGRegression | 3.317 | 0.024 | 3.335 | |
| plotDEGViolin | 3.952 | 0.156 | 4.102 | |
| plotDEGVolcano | 0.892 | 0.040 | 0.932 | |
| plotDecontXResults | 6.932 | 0.228 | 7.160 | |
| plotDimRed | 0.249 | 0.000 | 0.250 | |
| plotDoubletFinderResults | 30.993 | 0.475 | 31.466 | |
| plotEmptyDropsResults | 6.658 | 0.024 | 6.682 | |
| plotEmptyDropsScatter | 6.671 | 0.044 | 6.715 | |
| plotFindMarkerHeatmap | 4.051 | 0.076 | 4.127 | |
| plotMASTThresholdGenes | 1.411 | 0.012 | 1.423 | |
| plotPCA | 0.435 | 0.004 | 0.439 | |
| plotPathway | 0.740 | 0.004 | 0.744 | |
| plotRunPerCellQCResults | 1.915 | 0.052 | 1.967 | |
| plotSCEBarAssayData | 0.178 | 0.000 | 0.179 | |
| plotSCEBarColData | 0.134 | 0.000 | 0.135 | |
| plotSCEBatchFeatureMean | 0.197 | 0.000 | 0.196 | |
| plotSCEDensity | 0.225 | 0.004 | 0.230 | |
| plotSCEDensityAssayData | 0.152 | 0.000 | 0.152 | |
| plotSCEDensityColData | 0.191 | 0.000 | 0.192 | |
| plotSCEDimReduceColData | 0.635 | 0.000 | 0.635 | |
| plotSCEDimReduceFeatures | 0.375 | 0.000 | 0.375 | |
| plotSCEHeatmap | 0.577 | 0.000 | 0.577 | |
| plotSCEScatter | 0.319 | 0.004 | 0.324 | |
| plotSCEViolin | 0.235 | 0.012 | 0.246 | |
| plotSCEViolinAssayData | 0.274 | 0.012 | 0.286 | |
| plotSCEViolinColData | 0.220 | 0.004 | 0.224 | |
| plotScDblFinderResults | 28.175 | 0.696 | 28.869 | |
| plotScanpyDotPlot | 0.025 | 0.000 | 0.024 | |
| plotScanpyEmbedding | 0.023 | 0.000 | 0.023 | |
| plotScanpyHVG | 0.023 | 0.000 | 0.023 | |
| plotScanpyHeatmap | 0.023 | 0.000 | 0.023 | |
| plotScanpyMarkerGenes | 0.019 | 0.004 | 0.023 | |
| plotScanpyMarkerGenesDotPlot | 0.019 | 0.004 | 0.023 | |
| plotScanpyMarkerGenesHeatmap | 0.019 | 0.004 | 0.023 | |
| plotScanpyMarkerGenesMatrixPlot | 0.023 | 0.000 | 0.023 | |
| plotScanpyMarkerGenesViolin | 0.023 | 0.000 | 0.024 | |
| plotScanpyMatrixPlot | 0.024 | 0.000 | 0.023 | |
| plotScanpyPCA | 0.020 | 0.004 | 0.024 | |
| plotScanpyPCAGeneRanking | 0.024 | 0.000 | 0.024 | |
| plotScanpyPCAVariance | 0.024 | 0.000 | 0.023 | |
| plotScanpyViolin | 0.023 | 0.000 | 0.024 | |
| plotScdsHybridResults | 9.027 | 0.144 | 8.333 | |
| plotScrubletResults | 0.019 | 0.004 | 0.023 | |
| plotSeuratElbow | 0.023 | 0.000 | 0.023 | |
| plotSeuratHVG | 0.023 | 0.000 | 0.023 | |
| plotSeuratJackStraw | 0.023 | 0.000 | 0.023 | |
| plotSeuratReduction | 0.023 | 0.000 | 0.023 | |
| plotSoupXResults | 0 | 0 | 0 | |
| plotTSCANClusterDEG | 4.719 | 0.048 | 4.767 | |
| plotTSCANClusterPseudo | 2.018 | 0.008 | 2.026 | |
| plotTSCANDimReduceFeatures | 2.035 | 0.012 | 2.047 | |
| plotTSCANPseudotimeGenes | 1.921 | 0.036 | 1.956 | |
| plotTSCANPseudotimeHeatmap | 2.083 | 0.004 | 2.086 | |
| plotTSCANResults | 1.884 | 0.012 | 1.897 | |
| plotTSNE | 0.465 | 0.008 | 0.473 | |
| plotTopHVG | 0.494 | 0.000 | 0.495 | |
| plotUMAP | 6.494 | 0.051 | 6.543 | |
| readSingleCellMatrix | 0.006 | 0.000 | 0.006 | |
| reportCellQC | 0.158 | 0.004 | 0.162 | |
| reportDropletQC | 0.024 | 0.000 | 0.023 | |
| reportQCTool | 0.158 | 0.000 | 0.159 | |
| retrieveSCEIndex | 0.029 | 0.000 | 0.029 | |
| runBBKNN | 0 | 0 | 0 | |
| runBarcodeRankDrops | 0.385 | 0.000 | 0.385 | |
| runBcds | 2.292 | 0.056 | 1.439 | |
| runCellQC | 0.169 | 0.004 | 0.173 | |
| runClusterSummaryMetrics | 0.679 | 0.008 | 0.687 | |
| runComBatSeq | 0.413 | 0.012 | 0.425 | |
| runCxds | 0.426 | 0.004 | 0.430 | |
| runCxdsBcdsHybrid | 2.233 | 0.012 | 1.396 | |
| runDEAnalysis | 0.666 | 0.024 | 0.690 | |
| runDecontX | 6.370 | 0.012 | 6.383 | |
| runDimReduce | 0.397 | 0.000 | 0.397 | |
| runDoubletFinder | 29.435 | 0.232 | 29.667 | |
| runDropletQC | 0.024 | 0.000 | 0.024 | |
| runEmptyDrops | 6.419 | 0.008 | 6.428 | |
| runEnrichR | 0.599 | 0.060 | 2.974 | |
| runFastMNN | 1.703 | 0.228 | 1.931 | |
| runFeatureSelection | 0.198 | 0.020 | 0.218 | |
| runFindMarker | 3.294 | 0.308 | 3.602 | |
| runGSVA | 0.788 | 0.108 | 0.896 | |
| runHarmony | 0.037 | 0.000 | 0.037 | |
| runKMeans | 0.405 | 0.036 | 0.441 | |
| runLimmaBC | 0.074 | 0.004 | 0.078 | |
| runMNNCorrect | 0.588 | 0.056 | 0.644 | |
| runModelGeneVar | 0.409 | 0.015 | 0.424 | |
| runNormalization | 2.218 | 0.300 | 2.518 | |
| runPerCellQC | 0.426 | 0.008 | 0.434 | |
| runSCANORAMA | 0.001 | 0.000 | 0.001 | |
| runSCMerge | 0.001 | 0.004 | 0.004 | |
| runScDblFinder | 20.273 | 0.568 | 20.842 | |
| runScanpyFindClusters | 0.017 | 0.008 | 0.024 | |
| runScanpyFindHVG | 0.022 | 0.000 | 0.022 | |
| runScanpyFindMarkers | 0.019 | 0.003 | 0.023 | |
| runScanpyNormalizeData | 0.175 | 0.016 | 0.190 | |
| runScanpyPCA | 0.024 | 0.000 | 0.024 | |
| runScanpyScaleData | 0.019 | 0.004 | 0.024 | |
| runScanpyTSNE | 0.023 | 0.000 | 0.024 | |
| runScanpyUMAP | 0.021 | 0.003 | 0.024 | |
| runScranSNN | 0.675 | 0.068 | 0.743 | |
| runScrublet | 0.024 | 0.000 | 0.024 | |
| runSeuratFindClusters | 0.023 | 0.000 | 0.024 | |
| runSeuratFindHVG | 0.703 | 0.064 | 0.767 | |
| runSeuratHeatmap | 0.023 | 0.000 | 0.024 | |
| runSeuratICA | 0.023 | 0.000 | 0.023 | |
| runSeuratJackStraw | 0.019 | 0.004 | 0.023 | |
| runSeuratNormalizeData | 0.019 | 0.004 | 0.023 | |
| runSeuratPCA | 0.022 | 0.000 | 0.023 | |
| runSeuratSCTransform | 28.894 | 0.648 | 29.543 | |
| runSeuratScaleData | 0.024 | 0.000 | 0.024 | |
| runSeuratUMAP | 0.019 | 0.004 | 0.023 | |
| runSingleR | 0.033 | 0.000 | 0.033 | |
| runSoupX | 0 | 0 | 0 | |
| runTSCAN | 1.339 | 0.020 | 1.359 | |
| runTSCANClusterDEAnalysis | 1.374 | 0.004 | 1.377 | |
| runTSCANDEG | 1.328 | 0.024 | 1.352 | |
| runTSNE | 0.852 | 0.004 | 0.856 | |
| runUMAP | 6.991 | 0.228 | 7.216 | |
| runVAM | 0.474 | 0.000 | 0.474 | |
| runZINBWaVE | 0.000 | 0.004 | 0.004 | |
| sampleSummaryStats | 0.253 | 0.000 | 0.253 | |
| scaterCPM | 0.132 | 0.004 | 0.136 | |
| scaterPCA | 0.579 | 0.024 | 0.604 | |
| scaterlogNormCounts | 0.235 | 0.012 | 0.247 | |
| sce | 0.023 | 0.000 | 0.024 | |
| sctkListGeneSetCollections | 0.068 | 0.008 | 0.076 | |
| sctkPythonInstallConda | 0.000 | 0.000 | 0.001 | |
| sctkPythonInstallVirtualEnv | 0 | 0 | 0 | |
| selectSCTKConda | 0.000 | 0.001 | 0.000 | |
| selectSCTKVirtualEnvironment | 0 | 0 | 0 | |
| setRowNames | 0.110 | 0.004 | 0.115 | |
| setSCTKDisplayRow | 0.362 | 0.004 | 0.366 | |
| singleCellTK | 0 | 0 | 0 | |
| subDiffEx | 0.437 | 0.012 | 0.449 | |
| subsetSCECols | 0.151 | 0.004 | 0.155 | |
| subsetSCERows | 0.396 | 0.000 | 0.396 | |
| summarizeSCE | 0.069 | 0.000 | 0.068 | |
| trimCounts | 0.195 | 0.012 | 0.207 | |