| Back to Multiple platform build/check report for BioC 3.19: simplified long |
|
This page was generated on 2024-10-18 20:38 -0400 (Fri, 18 Oct 2024).
| Hostname | OS | Arch (*) | R version | Installed pkgs |
|---|---|---|---|---|
| nebbiolo1 | Linux (Ubuntu 22.04.3 LTS) | x86_64 | 4.4.1 (2024-06-14) -- "Race for Your Life" | 4763 |
| palomino7 | Windows Server 2022 Datacenter | x64 | 4.4.1 (2024-06-14 ucrt) -- "Race for Your Life" | 4500 |
| merida1 | macOS 12.7.5 Monterey | x86_64 | 4.4.1 (2024-06-14) -- "Race for Your Life" | 4530 |
| kjohnson1 | macOS 13.6.6 Ventura | arm64 | 4.4.1 (2024-06-14) -- "Race for Your Life" | 4480 |
| Click on any hostname to see more info about the system (e.g. compilers) (*) as reported by 'uname -p', except on Windows and Mac OS X | ||||
| Package 1970/2300 | Hostname | OS / Arch | INSTALL | BUILD | CHECK | BUILD BIN | ||||||||
| signatureSearch 1.18.0 (landing page) Brendan Gongol
| nebbiolo1 | Linux (Ubuntu 22.04.3 LTS) / x86_64 | OK | OK | OK | |||||||||
| palomino7 | Windows Server 2022 Datacenter / x64 | OK | OK | OK | OK | |||||||||
| merida1 | macOS 12.7.5 Monterey / x86_64 | OK | OK | OK | OK | |||||||||
| kjohnson1 | macOS 13.6.6 Ventura / arm64 | OK | OK | OK | NA | |||||||||
|
To the developers/maintainers of the signatureSearch package: - Allow up to 24 hours (and sometimes 48 hours) for your latest push to git@git.bioconductor.org:packages/signatureSearch.git to reflect on this report. See Troubleshooting Build Report for more information. - Use the following Renviron settings to reproduce errors and warnings. - If 'R CMD check' started to fail recently on the Linux builder(s) over a missing dependency, add the missing dependency to 'Suggests:' in your DESCRIPTION file. See Renviron.bioc for more information. |
| Package: signatureSearch |
| Version: 1.18.0 |
| Command: /home/biocbuild/bbs-3.19-bioc/R/bin/R CMD check --install=check:signatureSearch.install-out.txt --library=/home/biocbuild/bbs-3.19-bioc/R/site-library --timings signatureSearch_1.18.0.tar.gz |
| StartedAt: 2024-10-17 05:09:06 -0400 (Thu, 17 Oct 2024) |
| EndedAt: 2024-10-17 05:23:22 -0400 (Thu, 17 Oct 2024) |
| EllapsedTime: 855.7 seconds |
| RetCode: 0 |
| Status: OK |
| CheckDir: signatureSearch.Rcheck |
| Warnings: 0 |
##############################################################################
##############################################################################
###
### Running command:
###
### /home/biocbuild/bbs-3.19-bioc/R/bin/R CMD check --install=check:signatureSearch.install-out.txt --library=/home/biocbuild/bbs-3.19-bioc/R/site-library --timings signatureSearch_1.18.0.tar.gz
###
##############################################################################
##############################################################################
* using log directory ‘/home/biocbuild/bbs-3.19-bioc/meat/signatureSearch.Rcheck’
* using R version 4.4.1 (2024-06-14)
* using platform: x86_64-pc-linux-gnu
* R was compiled by
gcc (Ubuntu 11.4.0-1ubuntu1~22.04) 11.4.0
GNU Fortran (Ubuntu 11.4.0-1ubuntu1~22.04) 11.4.0
* running under: Ubuntu 22.04.5 LTS
* using session charset: UTF-8
* checking for file ‘signatureSearch/DESCRIPTION’ ... OK
* this is package ‘signatureSearch’ version ‘1.18.0’
* package encoding: UTF-8
* checking package namespace information ... OK
* checking package dependencies ... OK
* checking if this is a source package ... OK
* checking if there is a namespace ... OK
* checking for hidden files and directories ... OK
* checking for portable file names ... OK
* checking for sufficient/correct file permissions ... OK
* checking whether package ‘signatureSearch’ can be installed ... OK
* used C compiler: ‘gcc (Ubuntu 11.4.0-1ubuntu1~22.04) 11.4.0’
* used C++ compiler: ‘g++ (Ubuntu 11.4.0-1ubuntu1~22.04) 11.4.0’
* checking C++ specification ... NOTE
Specified C++11: please drop specification unless essential
* checking installed package size ... NOTE
installed size is 85.5Mb
sub-directories of 1Mb or more:
R 80.9Mb
data 2.0Mb
extdata 1.4Mb
* checking package directory ... OK
* checking ‘build’ directory ... OK
* checking DESCRIPTION meta-information ... OK
* checking top-level files ... OK
* checking for left-over files ... OK
* checking index information ... OK
* checking package subdirectories ... OK
* checking code files for non-ASCII characters ... OK
* checking R files for syntax errors ... OK
* checking whether the package can be loaded ... OK
* checking whether the package can be loaded with stated dependencies ... OK
* checking whether the package can be unloaded cleanly ... OK
* checking whether the namespace can be loaded with stated dependencies ... OK
* checking whether the namespace can be unloaded cleanly ... OK
* checking loading without being on the library search path ... OK
* checking dependencies in R code ... OK
* checking S3 generic/method consistency ... OK
* checking replacement functions ... OK
* checking foreign function calls ... OK
* checking R code for possible problems ... OK
* checking Rd files ... OK
* checking Rd metadata ... OK
* checking Rd cross-references ... OK
* checking for missing documentation entries ... OK
* checking for code/documentation mismatches ... OK
* checking Rd \usage sections ... OK
* checking Rd contents ... OK
* checking for unstated dependencies in examples ... OK
* checking contents of ‘data’ directory ... OK
* checking data for non-ASCII characters ... NOTE
Note: found 147 marked UTF-8 strings
* checking data for ASCII and uncompressed saves ... OK
* checking R/sysdata.rda ... OK
* checking line endings in C/C++/Fortran sources/headers ... OK
* checking compiled code ... NOTE
Note: information on .o files is not available
* checking files in ‘vignettes’ ... OK
* checking examples ... OK
Examples with CPU (user + system) or elapsed time > 5s
user system elapsed
set_readable 68.155 1.758 70.174
rand_query_ES 6.547 2.404 9.209
runWF 7.039 1.049 9.453
* checking for unstated dependencies in ‘tests’ ... OK
* checking tests ...
Running ‘testthat.R’
OK
* checking for unstated dependencies in vignettes ... OK
* checking package vignettes ... OK
* checking re-building of vignette outputs ... OK
* checking PDF version of manual ... OK
* DONE
Status: 4 NOTEs
See
‘/home/biocbuild/bbs-3.19-bioc/meat/signatureSearch.Rcheck/00check.log’
for details.
signatureSearch.Rcheck/00install.out
##############################################################################
##############################################################################
###
### Running command:
###
### /home/biocbuild/bbs-3.19-bioc/R/bin/R CMD INSTALL signatureSearch
###
##############################################################################
##############################################################################
* installing to library ‘/home/biocbuild/bbs-3.19-bioc/R/site-library’
* installing *source* package ‘signatureSearch’ ...
** using staged installation
** libs
using C compiler: ‘gcc (Ubuntu 11.4.0-1ubuntu1~22.04) 11.4.0’
using C++ compiler: ‘g++ (Ubuntu 11.4.0-1ubuntu1~22.04) 11.4.0’
using C++11
g++ -std=gnu++11 -I"/home/biocbuild/bbs-3.19-bioc/R/include" -DNDEBUG -I'/home/biocbuild/bbs-3.19-bioc/R/site-library/Rcpp/include' -I/usr/local/include -fpic -g -O2 -Wall -c RcppExports.cpp -o RcppExports.o
g++ -std=gnu++11 -I"/home/biocbuild/bbs-3.19-bioc/R/include" -DNDEBUG -I'/home/biocbuild/bbs-3.19-bioc/R/site-library/Rcpp/include' -I/usr/local/include -fpic -g -O2 -Wall -c fastGSEA.cpp -o fastGSEA.o
fastGSEA.cpp: In function ‘Rcpp::NumericVector calcGseaStatBatchCpp(const NumericVector&, const List&, const IntegerVector&)’:
fastGSEA.cpp:444:27: warning: comparison of integer expressions of different signedness: ‘int’ and ‘std::vector<int>::size_type’ {aka ‘long unsigned int’} [-Wsign-compare]
444 | for (int j = 0; j < S.size(); ++j) {
| ~~^~~~~~~~~~
gcc -I"/home/biocbuild/bbs-3.19-bioc/R/include" -DNDEBUG -I'/home/biocbuild/bbs-3.19-bioc/R/site-library/Rcpp/include' -I/usr/local/include -fpic -g -O2 -Wall -c fgsea_init.c -o fgsea_init.o
g++ -std=gnu++11 -shared -L/home/biocbuild/bbs-3.19-bioc/R/lib -L/usr/local/lib -o signatureSearch.so RcppExports.o fastGSEA.o fgsea_init.o -L/home/biocbuild/bbs-3.19-bioc/R/lib -lR
installing to /home/biocbuild/bbs-3.19-bioc/R/site-library/00LOCK-signatureSearch/00new/signatureSearch/libs
** R
** data
** inst
** byte-compile and prepare package for lazy loading
** help
*** installing help indices
** building package indices
** installing vignettes
** testing if installed package can be loaded from temporary location
** checking absolute paths in shared objects and dynamic libraries
** testing if installed package can be loaded from final location
** testing if installed package keeps a record of temporary installation path
* DONE (signatureSearch)
signatureSearch.Rcheck/tests/testthat.Rout
R version 4.4.1 (2024-06-14) -- "Race for Your Life"
Copyright (C) 2024 The R Foundation for Statistical Computing
Platform: x86_64-pc-linux-gnu
R is free software and comes with ABSOLUTELY NO WARRANTY.
You are welcome to redistribute it under certain conditions.
Type 'license()' or 'licence()' for distribution details.
R is a collaborative project with many contributors.
Type 'contributors()' for more information and
'citation()' on how to cite R or R packages in publications.
Type 'demo()' for some demos, 'help()' for on-line help, or
'help.start()' for an HTML browser interface to help.
Type 'q()' to quit R.
> # library(testthat)
> # library(signatureSearch)
> #
> # test_check("signatureSearch")
>
> proc.time()
user system elapsed
0.157 0.030 0.176
signatureSearch.Rcheck/signatureSearch-Ex.timings
| name | user | system | elapsed | |
| addGESSannot | 2.791 | 0.121 | 3.360 | |
| addMOA | 1.141 | 0.092 | 1.233 | |
| add_pcid | 0.244 | 0.000 | 0.244 | |
| append2H5 | 0.056 | 0.012 | 0.067 | |
| build_custom_db | 0.25 | 0.00 | 0.25 | |
| cellNtestPlot | 0.817 | 0.100 | 1.336 | |
| cell_info | 0.023 | 0.000 | 0.023 | |
| cell_info2 | 0.027 | 0.012 | 0.039 | |
| chembl_moa_list | 0.005 | 0.004 | 0.009 | |
| clue_moa_list | 0.005 | 0.004 | 0.010 | |
| comp_fea_res | 0.145 | 0.036 | 0.181 | |
| create_empty_h5 | 0.02 | 0.00 | 0.02 | |
| dim-methods | 0.007 | 0.000 | 0.007 | |
| drug_cell_ranks | 0.009 | 0.000 | 0.009 | |
| drugs-methods | 0.002 | 0.000 | 0.002 | |
| drugs10 | 0.000 | 0.002 | 0.001 | |
| dtnetplot | 1.986 | 0.183 | 2.493 | |
| enrichGO2 | 0 | 0 | 0 | |
| enrichKEGG2 | 0.000 | 0.000 | 0.001 | |
| enrichMOA | 0.064 | 0.000 | 0.065 | |
| enrichReactome | 0.001 | 0.000 | 0.000 | |
| fea | 0.002 | 0.001 | 0.004 | |
| feaResult | 0.002 | 0.001 | 0.003 | |
| gctx2h5 | 0.446 | 0.052 | 0.499 | |
| gess | 0.002 | 0.000 | 0.001 | |
| gessResult | 0.002 | 0.000 | 0.002 | |
| gess_res_vis | 0.331 | 0.000 | 0.332 | |
| getSig | 1.401 | 0.148 | 3.010 | |
| getTreats | 0.643 | 0.045 | 1.091 | |
| get_targets | 1.948 | 0.144 | 2.578 | |
| gmt2h5 | 0.084 | 0.008 | 0.092 | |
| gseGO2 | 0.000 | 0.002 | 0.003 | |
| gseKEGG2 | 0.009 | 0.001 | 0.011 | |
| gseReactome | 0.010 | 0.001 | 0.010 | |
| head-methods | 0.006 | 0.000 | 0.006 | |
| lincs_expr_inst_info | 0.048 | 0.004 | 0.051 | |
| lincs_pert_info | 0.250 | 0.019 | 0.270 | |
| lincs_pert_info2 | 1.040 | 0.007 | 1.047 | |
| lincs_sig_info | 0.058 | 0.000 | 0.058 | |
| list2df | 0.002 | 0.000 | 0.002 | |
| list_rev | 0.002 | 0.000 | 0.001 | |
| mabsGO | 0.002 | 0.000 | 0.002 | |
| mabsKEGG | 0.011 | 0.000 | 0.011 | |
| mabsReactome | 0.011 | 0.000 | 0.011 | |
| matrix2h5 | 0.046 | 0.000 | 0.046 | |
| meanExpr2h5 | 0.366 | 0.043 | 0.410 | |
| moa_conn | 0.028 | 0.000 | 0.028 | |
| parse_gctx | 0.156 | 0.052 | 0.209 | |
| qSig | 1.075 | 0.156 | 1.484 | |
| rand_query_ES | 6.547 | 2.404 | 9.209 | |
| read_gmt | 0.002 | 0.000 | 0.002 | |
| result-methods | 0.342 | 0.196 | 0.030 | |
| runWF | 7.039 | 1.049 | 9.453 | |
| set_readable | 68.155 | 1.758 | 70.174 | |
| show-methods | 0.033 | 0.001 | 0.033 | |
| sim_score_grp | 0.005 | 0.003 | 0.009 | |
| tail-methods | 0.006 | 0.001 | 0.006 | |
| tarReduce | 0.000 | 0.000 | 0.001 | |
| targetList | 0.004 | 0.000 | 0.003 | |
| vec_char_redu | 0 | 0 | 0 | |