| Back to Multiple platform build/check report for BioC 3.19: simplified long |
|
This page was generated on 2024-06-11 14:43 -0400 (Tue, 11 Jun 2024).
| Hostname | OS | Arch (*) | R version | Installed pkgs |
|---|---|---|---|---|
| nebbiolo1 | Linux (Ubuntu 22.04.3 LTS) | x86_64 | 4.4.0 (2024-04-24) -- "Puppy Cup" | 4757 |
| palomino3 | Windows Server 2022 Datacenter | x64 | 4.4.0 (2024-04-24 ucrt) -- "Puppy Cup" | 4491 |
| lconway | macOS 12.7.1 Monterey | x86_64 | 4.4.0 (2024-04-24) -- "Puppy Cup" | 4522 |
| kjohnson3 | macOS 13.6.5 Ventura | arm64 | 4.4.0 (2024-04-24) -- "Puppy Cup" | 4468 |
| Click on any hostname to see more info about the system (e.g. compilers) (*) as reported by 'uname -p', except on Windows and Mac OS X | ||||
| Package 1940/2300 | Hostname | OS / Arch | INSTALL | BUILD | CHECK | BUILD BIN | ||||||||
| seqArchRplus 1.4.0 (landing page) Sarvesh Nikumbh
| nebbiolo1 | Linux (Ubuntu 22.04.3 LTS) / x86_64 | OK | OK | OK | |||||||||
| palomino3 | Windows Server 2022 Datacenter / x64 | OK | OK | OK | OK | |||||||||
| lconway | macOS 12.7.1 Monterey / x86_64 | OK | OK | OK | OK | |||||||||
| kjohnson3 | macOS 13.6.5 Ventura / arm64 | OK | OK | OK | OK | |||||||||
|
To the developers/maintainers of the seqArchRplus package: - Allow up to 24 hours (and sometimes 48 hours) for your latest push to git@git.bioconductor.org:packages/seqArchRplus.git to reflect on this report. See Troubleshooting Build Report for more information. - Use the following Renviron settings to reproduce errors and warnings. - If 'R CMD check' started to fail recently on the Linux builder(s) over a missing dependency, add the missing dependency to 'Suggests:' in your DESCRIPTION file. See Renviron.bioc for more information. |
| Package: seqArchRplus |
| Version: 1.4.0 |
| Command: /Library/Frameworks/R.framework/Resources/bin/R CMD check --install=check:seqArchRplus.install-out.txt --library=/Library/Frameworks/R.framework/Resources/library --no-vignettes --timings seqArchRplus_1.4.0.tar.gz |
| StartedAt: 2024-06-09 23:01:02 -0400 (Sun, 09 Jun 2024) |
| EndedAt: 2024-06-09 23:06:32 -0400 (Sun, 09 Jun 2024) |
| EllapsedTime: 329.7 seconds |
| RetCode: 0 |
| Status: OK |
| CheckDir: seqArchRplus.Rcheck |
| Warnings: 0 |
##############################################################################
##############################################################################
###
### Running command:
###
### /Library/Frameworks/R.framework/Resources/bin/R CMD check --install=check:seqArchRplus.install-out.txt --library=/Library/Frameworks/R.framework/Resources/library --no-vignettes --timings seqArchRplus_1.4.0.tar.gz
###
##############################################################################
##############################################################################
* using log directory ‘/Users/biocbuild/bbs-3.19-bioc/meat/seqArchRplus.Rcheck’
* using R version 4.4.0 (2024-04-24)
* using platform: x86_64-apple-darwin20
* R was compiled by
Apple clang version 14.0.0 (clang-1400.0.29.202)
GNU Fortran (GCC) 12.2.0
* running under: macOS Monterey 12.7.1
* using session charset: UTF-8
* using option ‘--no-vignettes’
* checking for file ‘seqArchRplus/DESCRIPTION’ ... OK
* checking extension type ... Package
* this is package ‘seqArchRplus’ version ‘1.4.0’
* package encoding: UTF-8
* checking package namespace information ... OK
* checking package dependencies ... OK
* checking if this is a source package ... OK
* checking if there is a namespace ... OK
* checking for hidden files and directories ... OK
* checking for portable file names ... OK
* checking for sufficient/correct file permissions ... OK
* checking whether package ‘seqArchRplus’ can be installed ... OK
* checking installed package size ... OK
* checking package directory ... OK
* checking ‘build’ directory ... OK
* checking DESCRIPTION meta-information ... OK
* checking top-level files ... OK
* checking for left-over files ... OK
* checking index information ... OK
* checking package subdirectories ... OK
* checking code files for non-ASCII characters ... OK
* checking R files for syntax errors ... OK
* checking whether the package can be loaded ... OK
* checking whether the package can be loaded with stated dependencies ... OK
* checking whether the package can be unloaded cleanly ... OK
* checking whether the namespace can be loaded with stated dependencies ... OK
* checking whether the namespace can be unloaded cleanly ... OK
* checking whether startup messages can be suppressed ... OK
* checking dependencies in R code ... OK
* checking S3 generic/method consistency ... OK
* checking replacement functions ... OK
* checking foreign function calls ... OK
* checking R code for possible problems ... OK
* checking Rd files ... OK
* checking Rd metadata ... OK
* checking Rd cross-references ... OK
* checking for missing documentation entries ... OK
* checking for code/documentation mismatches ... OK
* checking Rd \usage sections ... OK
* checking Rd contents ... OK
* checking for unstated dependencies in examples ... OK
* checking files in ‘vignettes’ ... OK
* checking examples ... OK
Examples with CPU (user + system) or elapsed time > 5s
user system elapsed
per_cluster_go_term_enrichments 46.639 2.950 49.789
generate_all_plots 39.571 2.444 42.345
per_cluster_annotations 11.366 0.324 11.816
curate_clusters 8.538 0.253 8.811
plot_motif_heatmaps2 7.016 0.435 7.500
* checking for unstated dependencies in vignettes ... OK
* checking package vignettes ... OK
* checking running R code from vignettes ... SKIPPED
* checking re-building of vignette outputs ... SKIPPED
* checking PDF version of manual ... OK
* DONE
Status: OK
seqArchRplus.Rcheck/00install.out
############################################################################## ############################################################################## ### ### Running command: ### ### /Library/Frameworks/R.framework/Resources/bin/R CMD INSTALL seqArchRplus ### ############################################################################## ############################################################################## * installing to library ‘/Library/Frameworks/R.framework/Versions/4.4-x86_64/Resources/library’ * installing *source* package ‘seqArchRplus’ ... ** using staged installation ** R ** inst ** byte-compile and prepare package for lazy loading ** help *** installing help indices ** building package indices ** installing vignettes ** testing if installed package can be loaded from temporary location ** testing if installed package can be loaded from final location ** testing if installed package keeps a record of temporary installation path * DONE (seqArchRplus)
seqArchRplus.Rcheck/seqArchRplus-Ex.timings
| name | user | system | elapsed | |
| curate_clusters | 8.538 | 0.253 | 8.811 | |
| generate_all_plots | 39.571 | 2.444 | 42.345 | |
| generate_html_report | 0.010 | 0.001 | 0.011 | |
| handle_tc_from_cage | 0.856 | 0.168 | 1.099 | |
| iqw_tpm_plots | 0.524 | 0.005 | 0.531 | |
| order_clusters_iqw | 0.018 | 0.002 | 0.020 | |
| per_cluster_annotations | 11.366 | 0.324 | 11.816 | |
| per_cluster_go_term_enrichments | 46.639 | 2.950 | 49.789 | |
| per_cluster_seqlogos | 2.005 | 0.038 | 2.047 | |
| per_cluster_strand_dist | 1.031 | 0.009 | 1.043 | |
| plot_motif_heatmaps | 1.246 | 0.065 | 1.317 | |
| plot_motif_heatmaps2 | 7.016 | 0.435 | 7.500 | |
| seqs_acgt_image | 0.288 | 0.011 | 0.300 | |
| write_seqArchR_cluster_track_bed | 0.046 | 0.005 | 0.052 | |