| Back to Multiple platform build/check report for BioC 3.19: simplified long |
|
This page was generated on 2024-06-11 14:44 -0400 (Tue, 11 Jun 2024).
| Hostname | OS | Arch (*) | R version | Installed pkgs |
|---|---|---|---|---|
| nebbiolo1 | Linux (Ubuntu 22.04.3 LTS) | x86_64 | 4.4.0 (2024-04-24) -- "Puppy Cup" | 4757 |
| palomino3 | Windows Server 2022 Datacenter | x64 | 4.4.0 (2024-04-24 ucrt) -- "Puppy Cup" | 4491 |
| lconway | macOS 12.7.1 Monterey | x86_64 | 4.4.0 (2024-04-24) -- "Puppy Cup" | 4522 |
| kjohnson3 | macOS 13.6.5 Ventura | arm64 | 4.4.0 (2024-04-24) -- "Puppy Cup" | 4468 |
| Click on any hostname to see more info about the system (e.g. compilers) (*) as reported by 'uname -p', except on Windows and Mac OS X | ||||
| Package 1896/2300 | Hostname | OS / Arch | INSTALL | BUILD | CHECK | BUILD BIN | ||||||||
| scHOT 1.16.0 (landing page) Shila Ghazanfar
| nebbiolo1 | Linux (Ubuntu 22.04.3 LTS) / x86_64 | OK | OK | OK | |||||||||
| palomino3 | Windows Server 2022 Datacenter / x64 | OK | OK | OK | OK | |||||||||
| lconway | macOS 12.7.1 Monterey / x86_64 | OK | OK | OK | OK | |||||||||
| kjohnson3 | macOS 13.6.5 Ventura / arm64 | OK | OK | OK | OK | |||||||||
|
To the developers/maintainers of the scHOT package: - Allow up to 24 hours (and sometimes 48 hours) for your latest push to git@git.bioconductor.org:packages/scHOT.git to reflect on this report. See Troubleshooting Build Report for more information. - Use the following Renviron settings to reproduce errors and warnings. - If 'R CMD check' started to fail recently on the Linux builder(s) over a missing dependency, add the missing dependency to 'Suggests:' in your DESCRIPTION file. See Renviron.bioc for more information. |
| Package: scHOT |
| Version: 1.16.0 |
| Command: /Library/Frameworks/R.framework/Resources/bin/R CMD check --install=check:scHOT.install-out.txt --library=/Library/Frameworks/R.framework/Resources/library --no-vignettes --timings scHOT_1.16.0.tar.gz |
| StartedAt: 2024-06-11 04:35:15 -0400 (Tue, 11 Jun 2024) |
| EndedAt: 2024-06-11 04:43:07 -0400 (Tue, 11 Jun 2024) |
| EllapsedTime: 471.5 seconds |
| RetCode: 0 |
| Status: OK |
| CheckDir: scHOT.Rcheck |
| Warnings: 0 |
##############################################################################
##############################################################################
###
### Running command:
###
### /Library/Frameworks/R.framework/Resources/bin/R CMD check --install=check:scHOT.install-out.txt --library=/Library/Frameworks/R.framework/Resources/library --no-vignettes --timings scHOT_1.16.0.tar.gz
###
##############################################################################
##############################################################################
* using log directory ‘/Users/biocbuild/bbs-3.19-bioc/meat/scHOT.Rcheck’
* using R version 4.4.0 (2024-04-24)
* using platform: aarch64-apple-darwin20
* R was compiled by
Apple clang version 14.0.0 (clang-1400.0.29.202)
GNU Fortran (GCC) 12.2.0
* running under: macOS Ventura 13.6.5
* using session charset: UTF-8
* using option ‘--no-vignettes’
* checking for file ‘scHOT/DESCRIPTION’ ... OK
* checking extension type ... Package
* this is package ‘scHOT’ version ‘1.16.0’
* package encoding: UTF-8
* checking package namespace information ... OK
* checking package dependencies ... OK
* checking if this is a source package ... OK
* checking if there is a namespace ... OK
* checking for hidden files and directories ... OK
* checking for portable file names ... OK
* checking for sufficient/correct file permissions ... OK
* checking whether package ‘scHOT’ can be installed ... OK
* checking installed package size ... OK
* checking package directory ... OK
* checking ‘build’ directory ... OK
* checking DESCRIPTION meta-information ... OK
* checking top-level files ... OK
* checking for left-over files ... OK
* checking index information ... OK
* checking package subdirectories ... OK
* checking code files for non-ASCII characters ... OK
* checking R files for syntax errors ... OK
* checking whether the package can be loaded ... OK
* checking whether the package can be loaded with stated dependencies ... OK
* checking whether the package can be unloaded cleanly ... OK
* checking whether the namespace can be loaded with stated dependencies ... OK
* checking whether the namespace can be unloaded cleanly ... OK
* checking dependencies in R code ... OK
* checking S3 generic/method consistency ... OK
* checking replacement functions ... OK
* checking foreign function calls ... OK
* checking R code for possible problems ... OK
* checking Rd files ... OK
* checking Rd metadata ... OK
* checking Rd cross-references ... OK
* checking for missing documentation entries ... OK
* checking for code/documentation mismatches ... OK
* checking Rd \usage sections ... OK
* checking Rd contents ... OK
* checking for unstated dependencies in examples ... OK
* checking contents of ‘data’ directory ... OK
* checking data for non-ASCII characters ... OK
* checking LazyData ... OK
* checking data for ASCII and uncompressed saves ... OK
* checking files in ‘vignettes’ ... OK
* checking examples ... OK
Examples with CPU (user + system) or elapsed time > 5s
user system elapsed
scHOT 23.911 0.254 36.722
scHOT_performPermutationTest 22.755 0.256 33.412
scHOT_estimatePvalues 22.570 0.226 34.748
* checking for unstated dependencies in vignettes ... OK
* checking package vignettes ... OK
* checking running R code from vignettes ... SKIPPED
* checking re-building of vignette outputs ... SKIPPED
* checking PDF version of manual ... OK
* DONE
Status: OK
scHOT.Rcheck/00install.out
############################################################################## ############################################################################## ### ### Running command: ### ### /Library/Frameworks/R.framework/Resources/bin/R CMD INSTALL scHOT ### ############################################################################## ############################################################################## * installing to library ‘/Library/Frameworks/R.framework/Versions/4.4-arm64/Resources/library’ * installing *source* package ‘scHOT’ ... ** using staged installation ** R ** data *** moving datasets to lazyload DB ** byte-compile and prepare package for lazy loading ** help *** installing help indices ** building package indices ** installing vignettes ** testing if installed package can be loaded from temporary location ** testing if installed package can be loaded from final location ** testing if installed package keeps a record of temporary installation path * DONE (scHOT)
scHOT.Rcheck/scHOT-Ex.timings
| name | user | system | elapsed | |
| params-set | 0.359 | 0.026 | 0.591 | |
| plotColouredExpression | 1.253 | 0.060 | 1.985 | |
| plotHigherOrderSequence | 2.711 | 0.065 | 4.311 | |
| positionColData-set | 0.173 | 0.005 | 0.262 | |
| positionType-set | 0.165 | 0.009 | 0.257 | |
| scHOT | 23.911 | 0.254 | 36.722 | |
| scHOT_addTestingScaffold | 0.189 | 0.005 | 0.301 | |
| scHOT_buildFromMatrix | 0.167 | 0.003 | 0.234 | |
| scHOT_buildFromSCE | 0.613 | 0.027 | 0.951 | |
| scHOT_calculateGlobalHigherOrderFunction | 0.245 | 0.006 | 0.366 | |
| scHOT_calculateHigherOrderTestStatistics | 0.490 | 0.009 | 0.726 | |
| scHOT_estimatePvalues | 22.570 | 0.226 | 34.748 | |
| scHOT_output-set | 0.162 | 0.004 | 0.224 | |
| scHOT_performPermutationTest | 22.755 | 0.256 | 33.412 | |
| scHOT_setPermutationScaffold | 0.246 | 0.006 | 0.379 | |
| scHOT_setWeightMatrix | 0.217 | 0.006 | 0.348 | |
| scHOT_stripOutput | 0.185 | 0.006 | 0.302 | |
| spatialWeightMatrix | 0.003 | 0.000 | 0.004 | |
| testingScaffold-set | 0.207 | 0.006 | 0.334 | |
| thin | 0.011 | 0.002 | 0.018 | |
| trajectoryWeightMatrix | 0.003 | 0.000 | 0.006 | |
| weightMatrix-set | 0.428 | 0.024 | 0.673 | |
| weightedPearson | 0.000 | 0.001 | 0.000 | |
| weightedSpearman | 0.000 | 0.000 | 0.001 | |
| weightedVariance | 0 | 0 | 0 | |
| weightedZIKendall | 0.001 | 0.000 | 0.002 | |
| weightedZISpearman | 0.001 | 0.000 | 0.001 | |