| Back to Multiple platform build/check report for BioC 3.19: simplified long |
|
This page was generated on 2024-10-18 20:40 -0400 (Fri, 18 Oct 2024).
| Hostname | OS | Arch (*) | R version | Installed pkgs |
|---|---|---|---|---|
| nebbiolo1 | Linux (Ubuntu 22.04.3 LTS) | x86_64 | 4.4.1 (2024-06-14) -- "Race for Your Life" | 4763 |
| palomino7 | Windows Server 2022 Datacenter | x64 | 4.4.1 (2024-06-14 ucrt) -- "Race for Your Life" | 4500 |
| merida1 | macOS 12.7.5 Monterey | x86_64 | 4.4.1 (2024-06-14) -- "Race for Your Life" | 4530 |
| kjohnson1 | macOS 13.6.6 Ventura | arm64 | 4.4.1 (2024-06-14) -- "Race for Your Life" | 4480 |
| Click on any hostname to see more info about the system (e.g. compilers) (*) as reported by 'uname -p', except on Windows and Mac OS X | ||||
| Package 1894/2300 | Hostname | OS / Arch | INSTALL | BUILD | CHECK | BUILD BIN | ||||||||
| scGPS 1.18.0 (landing page) Quan Nguyen
| nebbiolo1 | Linux (Ubuntu 22.04.3 LTS) / x86_64 | OK | OK | OK | |||||||||
| palomino7 | Windows Server 2022 Datacenter / x64 | OK | OK | OK | OK | |||||||||
| merida1 | macOS 12.7.5 Monterey / x86_64 | OK | OK | OK | OK | |||||||||
| kjohnson1 | macOS 13.6.6 Ventura / arm64 | OK | OK | OK | NA | |||||||||
|
To the developers/maintainers of the scGPS package: - Allow up to 24 hours (and sometimes 48 hours) for your latest push to git@git.bioconductor.org:packages/scGPS.git to reflect on this report. See Troubleshooting Build Report for more information. - Use the following Renviron settings to reproduce errors and warnings. - If 'R CMD check' started to fail recently on the Linux builder(s) over a missing dependency, add the missing dependency to 'Suggests:' in your DESCRIPTION file. See Renviron.bioc for more information. |
| Package: scGPS |
| Version: 1.18.0 |
| Command: E:\biocbuild\bbs-3.19-bioc\R\bin\R.exe CMD check --no-multiarch --install=check:scGPS.install-out.txt --library=E:\biocbuild\bbs-3.19-bioc\R\library --no-vignettes --timings scGPS_1.18.0.tar.gz |
| StartedAt: 2024-10-17 05:27:32 -0400 (Thu, 17 Oct 2024) |
| EndedAt: 2024-10-17 05:35:49 -0400 (Thu, 17 Oct 2024) |
| EllapsedTime: 497.1 seconds |
| RetCode: 0 |
| Status: OK |
| CheckDir: scGPS.Rcheck |
| Warnings: 0 |
##############################################################################
##############################################################################
###
### Running command:
###
### E:\biocbuild\bbs-3.19-bioc\R\bin\R.exe CMD check --no-multiarch --install=check:scGPS.install-out.txt --library=E:\biocbuild\bbs-3.19-bioc\R\library --no-vignettes --timings scGPS_1.18.0.tar.gz
###
##############################################################################
##############################################################################
* using log directory 'E:/biocbuild/bbs-3.19-bioc/meat/scGPS.Rcheck'
* using R version 4.4.1 (2024-06-14 ucrt)
* using platform: x86_64-w64-mingw32
* R was compiled by
gcc.exe (GCC) 13.2.0
GNU Fortran (GCC) 13.2.0
* running under: Windows Server 2022 x64 (build 20348)
* using session charset: UTF-8
* using option '--no-vignettes'
* checking for file 'scGPS/DESCRIPTION' ... OK
* checking extension type ... Package
* this is package 'scGPS' version '1.18.0'
* package encoding: UTF-8
* checking package namespace information ... OK
* checking package dependencies ... OK
* checking if this is a source package ... OK
* checking if there is a namespace ... OK
* checking for hidden files and directories ... OK
* checking for portable file names ... OK
* checking whether package 'scGPS' can be installed ... OK
* used C++ compiler: 'G__~1.EXE (GCC) 13.2.0'
* checking installed package size ... OK
* checking package directory ... OK
* checking 'build' directory ... OK
* checking DESCRIPTION meta-information ... OK
* checking top-level files ... OK
* checking for left-over files ... OK
* checking index information ... OK
* checking package subdirectories ... OK
* checking code files for non-ASCII characters ... OK
* checking R files for syntax errors ... OK
* checking whether the package can be loaded ... OK
* checking whether the package can be loaded with stated dependencies ... OK
* checking whether the package can be unloaded cleanly ... OK
* checking whether the namespace can be loaded with stated dependencies ... OK
* checking whether the namespace can be unloaded cleanly ... OK
* checking dependencies in R code ... OK
* checking S3 generic/method consistency ... OK
* checking replacement functions ... OK
* checking foreign function calls ... OK
* checking R code for possible problems ... NOTE
plot_reduced: no visible binding for global variable '..count..'
Undefined global functions or variables:
..count..
* checking Rd files ... OK
* checking Rd metadata ... OK
* checking Rd cross-references ... OK
* checking for missing documentation entries ... OK
* checking for code/documentation mismatches ... OK
* checking Rd \usage sections ... OK
* checking Rd contents ... OK
* checking for unstated dependencies in examples ... OK
* checking contents of 'data' directory ... OK
* checking data for non-ASCII characters ... OK
* checking LazyData ... OK
* checking data for ASCII and uncompressed saves ... OK
* checking line endings in C/C++/Fortran sources/headers ... OK
* checking line endings in Makefiles ... OK
* checking compilation flags in Makevars ... OK
* checking for GNU extensions in Makefiles ... OK
* checking for portable use of $(BLAS_LIBS) and $(LAPACK_LIBS) ... OK
* checking use of PKG_*FLAGS in Makefiles ... OK
* checking compiled code ... NOTE
Note: information on .o files for x64 is not available
File 'E:/biocbuild/bbs-3.19-bioc/R/library/scGPS/libs/x64/scGPS.dll':
Found '_exit', possibly from '_exit' (C)
Found 'abort', possibly from 'abort' (C), 'runtime' (Fortran)
Found 'exit', possibly from 'exit' (C), 'stop' (Fortran)
Compiled code should not call entry points which might terminate R nor
write to stdout/stderr instead of to the console, nor use Fortran I/O
nor system RNGs nor [v]sprintf. The detected symbols are linked into
the code but might come from libraries and not actually be called.
See 'Writing portable packages' in the 'Writing R Extensions' manual.
* checking files in 'vignettes' ... OK
* checking examples ... OK
Examples with CPU (user + system) or elapsed time > 5s
user system elapsed
find_markers 83.97 1.41 85.36
annotate_clusters 51.16 1.85 53.06
CORE_bagging 14.03 0.38 11.33
clustering_bagging 11.31 0.36 8.23
clustering 8.34 0.19 4.52
CORE_subcluster 8.27 0.11 4.25
find_stability 8.02 0.20 4.94
CORE_clustering 7.95 0.08 4.34
plot_CORE 7.61 0.19 4.02
plot_optimal_CORE 7.38 0.14 4.89
find_optimal_stability 7.09 0.15 3.48
rand_index 6.25 0.24 3.87
plot_reduced 6.29 0.12 6.42
tSNE 5.70 0.11 5.81
PCA 5.29 0.07 5.37
* checking for unstated dependencies in 'tests' ... OK
* checking tests ...
Running 'testthat.R'
OK
* checking for unstated dependencies in vignettes ... OK
* checking package vignettes ... OK
* checking running R code from vignettes ... SKIPPED
* checking re-building of vignette outputs ... SKIPPED
* checking PDF version of manual ... OK
* DONE
Status: 2 NOTEs
See
'E:/biocbuild/bbs-3.19-bioc/meat/scGPS.Rcheck/00check.log'
for details.
scGPS.Rcheck/00install.out
############################################################################## ############################################################################## ### ### Running command: ### ### E:\biocbuild\bbs-3.19-bioc\R\bin\R.exe CMD INSTALL scGPS ### ############################################################################## ############################################################################## * installing to library 'E:/biocbuild/bbs-3.19-bioc/R/library' * installing *source* package 'scGPS' ... ** using staged installation ** libs using C++ compiler: 'G__~1.EXE (GCC) 13.2.0' g++ -std=gnu++17 -I"E:/biocbuild/bbs-3.19-bioc/R/include" -DNDEBUG -I'E:/biocbuild/bbs-3.19-bioc/R/library/Rcpp/include' -I'E:/biocbuild/bbs-3.19-bioc/R/library/RcppArmadillo/include' -I'E:/biocbuild/bbs-3.19-bioc/R/library/RcppParallel/include' -I"C:/rtools44/x86_64-w64-mingw32.static.posix/include" -O2 -Wall -mfpmath=sse -msse2 -mstackrealign -c RcppExports.cpp -o RcppExports.o g++ -std=gnu++17 -I"E:/biocbuild/bbs-3.19-bioc/R/include" -DNDEBUG -I'E:/biocbuild/bbs-3.19-bioc/R/library/Rcpp/include' -I'E:/biocbuild/bbs-3.19-bioc/R/library/RcppArmadillo/include' -I'E:/biocbuild/bbs-3.19-bioc/R/library/RcppParallel/include' -I"C:/rtools44/x86_64-w64-mingw32.static.posix/include" -O2 -Wall -mfpmath=sse -msse2 -mstackrealign -c dist_mat_cpp.cpp -o dist_mat_cpp.o g++ -std=gnu++17 -I"E:/biocbuild/bbs-3.19-bioc/R/include" -DNDEBUG -I'E:/biocbuild/bbs-3.19-bioc/R/library/Rcpp/include' -I'E:/biocbuild/bbs-3.19-bioc/R/library/RcppArmadillo/include' -I'E:/biocbuild/bbs-3.19-bioc/R/library/RcppParallel/include' -I"C:/rtools44/x86_64-w64-mingw32.static.posix/include" -O2 -Wall -mfpmath=sse -msse2 -mstackrealign -c dist_parallel_cpp.cpp -o dist_parallel_cpp.o g++ -std=gnu++17 -I"E:/biocbuild/bbs-3.19-bioc/R/include" -DNDEBUG -I'E:/biocbuild/bbs-3.19-bioc/R/library/Rcpp/include' -I'E:/biocbuild/bbs-3.19-bioc/R/library/RcppArmadillo/include' -I'E:/biocbuild/bbs-3.19-bioc/R/library/RcppParallel/include' -I"C:/rtools44/x86_64-w64-mingw32.static.posix/include" -O2 -Wall -mfpmath=sse -msse2 -mstackrealign -c utils_rcpp.cpp -o utils_rcpp.o g++ -std=gnu++17 -shared -s -static-libgcc -o scGPS.dll tmp.def RcppExports.o dist_mat_cpp.o dist_parallel_cpp.o utils_rcpp.o -LE:/biocbuild/bbs-3.19-bioc/R/bin/x64 -lRlapack -LE:/biocbuild/bbs-3.19-bioc/R/bin/x64 -lRblas -lgfortran -lm -lquadmath -LC:/rtools44/x86_64-w64-mingw32.static.posix/lib/x64 -LC:/rtools44/x86_64-w64-mingw32.static.posix/lib -LE:/biocbuild/bbs-3.19-bioc/R/bin/x64 -lR installing to E:/biocbuild/bbs-3.19-bioc/R/library/00LOCK-scGPS/00new/scGPS/libs/x64 ** R ** data *** moving datasets to lazyload DB ** byte-compile and prepare package for lazy loading ** help *** installing help indices *** copying figures ** building package indices ** installing vignettes ** testing if installed package can be loaded from temporary location ** testing if installed package can be loaded from final location ** testing if installed package keeps a record of temporary installation path * DONE (scGPS)
scGPS.Rcheck/tests/testthat.Rout
R version 4.4.1 (2024-06-14 ucrt) -- "Race for Your Life"
Copyright (C) 2024 The R Foundation for Statistical Computing
Platform: x86_64-w64-mingw32/x64
R is free software and comes with ABSOLUTELY NO WARRANTY.
You are welcome to redistribute it under certain conditions.
Type 'license()' or 'licence()' for distribution details.
R is a collaborative project with many contributors.
Type 'contributors()' for more information and
'citation()' on how to cite R or R packages in publications.
Type 'demo()' for some demos, 'help()' for on-line help, or
'help.start()' for an HTML browser interface to help.
Type 'q()' to quit R.
> library(testthat)
> library(scGPS)
Loading required package: SummarizedExperiment
Loading required package: MatrixGenerics
Loading required package: matrixStats
Attaching package: 'MatrixGenerics'
The following objects are masked from 'package:matrixStats':
colAlls, colAnyNAs, colAnys, colAvgsPerRowSet, colCollapse,
colCounts, colCummaxs, colCummins, colCumprods, colCumsums,
colDiffs, colIQRDiffs, colIQRs, colLogSumExps, colMadDiffs,
colMads, colMaxs, colMeans2, colMedians, colMins, colOrderStats,
colProds, colQuantiles, colRanges, colRanks, colSdDiffs, colSds,
colSums2, colTabulates, colVarDiffs, colVars, colWeightedMads,
colWeightedMeans, colWeightedMedians, colWeightedSds,
colWeightedVars, rowAlls, rowAnyNAs, rowAnys, rowAvgsPerColSet,
rowCollapse, rowCounts, rowCummaxs, rowCummins, rowCumprods,
rowCumsums, rowDiffs, rowIQRDiffs, rowIQRs, rowLogSumExps,
rowMadDiffs, rowMads, rowMaxs, rowMeans2, rowMedians, rowMins,
rowOrderStats, rowProds, rowQuantiles, rowRanges, rowRanks,
rowSdDiffs, rowSds, rowSums2, rowTabulates, rowVarDiffs, rowVars,
rowWeightedMads, rowWeightedMeans, rowWeightedMedians,
rowWeightedSds, rowWeightedVars
Loading required package: GenomicRanges
Loading required package: stats4
Loading required package: BiocGenerics
Attaching package: 'BiocGenerics'
The following objects are masked from 'package:stats':
IQR, mad, sd, var, xtabs
The following objects are masked from 'package:base':
Filter, Find, Map, Position, Reduce, anyDuplicated, aperm, append,
as.data.frame, basename, cbind, colnames, dirname, do.call,
duplicated, eval, evalq, get, grep, grepl, intersect, is.unsorted,
lapply, mapply, match, mget, order, paste, pmax, pmax.int, pmin,
pmin.int, rank, rbind, rownames, sapply, setdiff, table, tapply,
union, unique, unsplit, which.max, which.min
Loading required package: S4Vectors
Attaching package: 'S4Vectors'
The following object is masked from 'package:utils':
findMatches
The following objects are masked from 'package:base':
I, expand.grid, unname
Loading required package: IRanges
Attaching package: 'IRanges'
The following object is masked from 'package:grDevices':
windows
Loading required package: GenomeInfoDb
Loading required package: Biobase
Welcome to Bioconductor
Vignettes contain introductory material; view with
'browseVignettes()'. To cite Bioconductor, see
'citation("Biobase")', and for packages 'citation("pkgname")'.
Attaching package: 'Biobase'
The following object is masked from 'package:MatrixGenerics':
rowMedians
The following objects are masked from 'package:matrixStats':
anyMissing, rowMedians
Loading required package: dynamicTreeCut
Loading required package: SingleCellExperiment
>
> test_check("scGPS")
[ FAIL 0 | WARN 0 | SKIP 0 | PASS 2 ]
>
> proc.time()
user system elapsed
10.81 0.73 11.53
scGPS.Rcheck/scGPS-Ex.timings
| name | user | system | elapsed | |
| CORE_bagging | 14.03 | 0.38 | 11.33 | |
| CORE_clustering | 7.95 | 0.08 | 4.34 | |
| CORE_subcluster | 8.27 | 0.11 | 4.25 | |
| PCA | 5.29 | 0.07 | 5.37 | |
| PrinComp_cpp | 0.19 | 0.00 | 0.19 | |
| annotate_clusters | 51.16 | 1.85 | 53.06 | |
| bootstrap_parallel | 0.78 | 0.08 | 0.86 | |
| bootstrap_prediction | 3.56 | 0.17 | 3.75 | |
| calcDist | 0.63 | 0.34 | 0.97 | |
| calcDistArma | 0 | 0 | 0 | |
| clustering | 8.34 | 0.19 | 4.52 | |
| clustering_bagging | 11.31 | 0.36 | 8.23 | |
| distvec | 0 | 0 | 0 | |
| find_markers | 83.97 | 1.41 | 85.36 | |
| find_optimal_stability | 7.09 | 0.15 | 3.48 | |
| find_stability | 8.02 | 0.20 | 4.94 | |
| mean_cpp | 0 | 0 | 0 | |
| new_scGPS_object | 0.33 | 0.02 | 0.34 | |
| new_summarized_scGPS_object | 0.01 | 0.01 | 0.03 | |
| plot_CORE | 7.61 | 0.19 | 4.02 | |
| plot_optimal_CORE | 7.38 | 0.14 | 4.89 | |
| plot_reduced | 6.29 | 0.12 | 6.42 | |
| predicting | 1.30 | 0.16 | 1.45 | |
| rand_index | 6.25 | 0.24 | 3.87 | |
| rcpp_Eucl_distance_NotPar | 0.02 | 0.00 | 0.01 | |
| rcpp_parallel_distance | 0.23 | 0.00 | 0.24 | |
| reformat_LASSO | 3.60 | 0.33 | 3.92 | |
| sub_clustering | 0.09 | 0.01 | 0.11 | |
| subset_cpp | 0.20 | 0.04 | 0.23 | |
| summary_accuracy | 1.94 | 0.07 | 2.02 | |
| summary_deviance | 3.52 | 0.30 | 3.81 | |
| summary_prediction_lasso | 2.03 | 0.14 | 2.15 | |
| summary_prediction_lda | 2.14 | 0.25 | 2.40 | |
| tSNE | 5.70 | 0.11 | 5.81 | |
| top_var | 0.38 | 0.03 | 0.41 | |
| tp_cpp | 0.26 | 0.00 | 0.27 | |
| training | 1.03 | 0.10 | 1.12 | |
| var_cpp | 0 | 0 | 0 | |