| Back to Multiple platform build/check report for BioC 3.19: simplified long | 
 | 
This page was generated on 2024-10-18 20:41 -0400 (Fri, 18 Oct 2024).
| Hostname | OS | Arch (*) | R version | Installed pkgs | 
|---|---|---|---|---|
| nebbiolo1 | Linux (Ubuntu 22.04.3 LTS) | x86_64 | 4.4.1 (2024-06-14) -- "Race for Your Life" | 4763 | 
| palomino7 | Windows Server 2022 Datacenter | x64 | 4.4.1 (2024-06-14 ucrt) -- "Race for Your Life" | 4500 | 
| merida1 | macOS 12.7.5 Monterey | x86_64 | 4.4.1 (2024-06-14) -- "Race for Your Life" | 4530 | 
| kjohnson1 | macOS 13.6.6 Ventura | arm64 | 4.4.1 (2024-06-14) -- "Race for Your Life" | 4480 | 
| Click on any hostname to see more info about the system (e.g. compilers) (*) as reported by 'uname -p', except on Windows and Mac OS X | ||||
| Package 1880/2300 | Hostname | OS / Arch | INSTALL | BUILD | CHECK | BUILD BIN | ||||||||
| scBubbletree 1.6.0  (landing page) Simo Kitanovski 
 | nebbiolo1 | Linux (Ubuntu 22.04.3 LTS) / x86_64 | OK | OK | OK |  | ||||||||
| palomino7 | Windows Server 2022 Datacenter / x64 | OK | OK | OK | OK |  | ||||||||
| merida1 | macOS 12.7.5 Monterey / x86_64 | OK | OK | OK | OK |  | ||||||||
| kjohnson1 | macOS 13.6.6 Ventura / arm64 | OK | OK | OK | NA | |||||||||
| To the developers/maintainers of the scBubbletree package: - Allow up to 24 hours (and sometimes 48 hours) for your latest push to git@git.bioconductor.org:packages/scBubbletree.git to reflect on this report. See Troubleshooting Build Report for more information. - Use the following Renviron settings to reproduce errors and warnings. - If 'R CMD check' started to fail recently on the Linux builder(s) over a missing dependency, add the missing dependency to 'Suggests:' in your DESCRIPTION file. See Renviron.bioc for more information. | 
| Package: scBubbletree | 
| Version: 1.6.0 | 
| Command: /Library/Frameworks/R.framework/Resources/bin/R CMD check --install=check:scBubbletree.install-out.txt --library=/Library/Frameworks/R.framework/Resources/library --no-vignettes --timings scBubbletree_1.6.0.tar.gz | 
| StartedAt: 2024-10-17 12:32:04 -0400 (Thu, 17 Oct 2024) | 
| EndedAt: 2024-10-17 12:47:09 -0400 (Thu, 17 Oct 2024) | 
| EllapsedTime: 905.4 seconds | 
| RetCode: 0 | 
| Status: OK | 
| CheckDir: scBubbletree.Rcheck | 
| Warnings: 0 | 
##############################################################################
##############################################################################
###
### Running command:
###
###   /Library/Frameworks/R.framework/Resources/bin/R CMD check --install=check:scBubbletree.install-out.txt --library=/Library/Frameworks/R.framework/Resources/library --no-vignettes --timings scBubbletree_1.6.0.tar.gz
###
##############################################################################
##############################################################################
* using log directory ‘/Users/biocbuild/bbs-3.19-bioc/meat/scBubbletree.Rcheck’
* using R version 4.4.1 (2024-06-14)
* using platform: x86_64-apple-darwin20
* R was compiled by
    Apple clang version 14.0.0 (clang-1400.0.29.202)
    GNU Fortran (GCC) 12.2.0
* running under: macOS Monterey 12.7.6
* using session charset: UTF-8
* using option ‘--no-vignettes’
* checking for file ‘scBubbletree/DESCRIPTION’ ... OK
* checking extension type ... Package
* this is package ‘scBubbletree’ version ‘1.6.0’
* package encoding: UTF-8
* checking package namespace information ... OK
* checking package dependencies ... OK
* checking if this is a source package ... OK
* checking if there is a namespace ... OK
* checking for hidden files and directories ... OK
* checking for portable file names ... OK
* checking for sufficient/correct file permissions ... OK
* checking whether package ‘scBubbletree’ can be installed ... OK
* checking installed package size ... OK
* checking package directory ... OK
* checking ‘build’ directory ... OK
* checking DESCRIPTION meta-information ... OK
* checking top-level files ... OK
* checking for left-over files ... OK
* checking index information ... OK
* checking package subdirectories ... OK
* checking code files for non-ASCII characters ... OK
* checking R files for syntax errors ... OK
* checking whether the package can be loaded ... OK
* checking whether the package can be loaded with stated dependencies ... OK
* checking whether the package can be unloaded cleanly ... OK
* checking whether the namespace can be loaded with stated dependencies ... OK
* checking whether the namespace can be unloaded cleanly ... OK
* checking dependencies in R code ... OK
* checking S3 generic/method consistency ... OK
* checking replacement functions ... OK
* checking foreign function calls ... OK
* checking R code for possible problems ... OK
* checking Rd files ... OK
* checking Rd metadata ... OK
* checking Rd cross-references ... OK
* checking for missing documentation entries ... OK
* checking for code/documentation mismatches ... OK
* checking Rd \usage sections ... OK
* checking Rd contents ... OK
* checking for unstated dependencies in examples ... OK
* checking contents of ‘data’ directory ... OK
* checking data for non-ASCII characters ... OK
* checking data for ASCII and uncompressed saves ... OK
* checking files in ‘vignettes’ ... OK
* checking examples ... OK
Examples with CPU (user + system) or elapsed time > 5s
                        user system elapsed
get_r                 29.937  0.632  34.774
get_gini_k            18.598  0.351  21.581
get_bubbletree_kmeans 17.647  0.157  20.218
get_num_tiles         17.576  0.125  20.122
get_bubbletree_graph  14.960  0.217  17.205
get_num_violins       12.362  0.127  14.557
get_cat_tiles          8.999  0.090  10.354
get_bubbletree_dummy   7.189  0.077   8.214
* checking for unstated dependencies in ‘tests’ ... OK
* checking tests ...
  Running ‘testthat.R’
 OK
* checking for unstated dependencies in vignettes ... OK
* checking package vignettes ... OK
* checking running R code from vignettes ... SKIPPED
* checking re-building of vignette outputs ... SKIPPED
* checking PDF version of manual ... OK
* DONE
Status: OK
scBubbletree.Rcheck/00install.out
############################################################################## ############################################################################## ### ### Running command: ### ### /Library/Frameworks/R.framework/Resources/bin/R CMD INSTALL scBubbletree ### ############################################################################## ############################################################################## * installing to library ‘/Library/Frameworks/R.framework/Versions/4.4-x86_64/Resources/library’ * installing *source* package ‘scBubbletree’ ... ** using staged installation ** R ** data ** inst ** byte-compile and prepare package for lazy loading ** help *** installing help indices ** building package indices ** installing vignettes ** testing if installed package can be loaded from temporary location ** testing if installed package can be loaded from final location ** testing if installed package keeps a record of temporary installation path * DONE (scBubbletree)
scBubbletree.Rcheck/tests/testthat.Rout
R version 4.4.1 (2024-06-14) -- "Race for Your Life"
Copyright (C) 2024 The R Foundation for Statistical Computing
Platform: x86_64-apple-darwin20
R is free software and comes with ABSOLUTELY NO WARRANTY.
You are welcome to redistribute it under certain conditions.
Type 'license()' or 'licence()' for distribution details.
R is a collaborative project with many contributors.
Type 'contributors()' for more information and
'citation()' on how to cite R or R packages in publications.
Type 'demo()' for some demos, 'help()' for on-line help, or
'help.start()' for an HTML browser interface to help.
Type 'q()' to quit R.
> library(testthat)
> library(scBubbletree)
> 
> test_check("scBubbletree")
Tests input rules of get_bubbletree_graph 
Tests input rules of get_bubbletree_kmeans 
Tests input rules of get_cat_tiles 
Tests input rules of get_gini_k 
Tests input rules of get_gini 
Tests input rules of get_k 
Tests input rules of get_num_tiles 
Tests input rules of get_num_violins 
Tests input rules of get_r 
Tests input rules of util 
[ FAIL 0 | WARN 1 | SKIP 0 | PASS 481 ]
[ FAIL 0 | WARN 1 | SKIP 0 | PASS 481 ]
> 
> proc.time()
   user  system elapsed 
365.141   6.011 473.966 
scBubbletree.Rcheck/scBubbletree-Ex.timings
| name | user | system | elapsed | |
| d_500 | 0.009 | 0.003 | 0.016 | |
| d_ccl | 0.031 | 0.006 | 0.045 | |
| get_bubbletree_dummy | 7.189 | 0.077 | 8.214 | |
| get_bubbletree_graph | 14.960 | 0.217 | 17.205 | |
| get_bubbletree_kmeans | 17.647 | 0.157 | 20.218 | |
| get_cat_tiles | 8.999 | 0.090 | 10.354 | |
| get_gini | 0.004 | 0.001 | 0.006 | |
| get_gini_k | 18.598 | 0.351 | 21.581 | |
| get_k | 3.866 | 0.059 | 4.571 | |
| get_num_tiles | 17.576 | 0.125 | 20.122 | |
| get_num_violins | 12.362 | 0.127 | 14.557 | |
| get_r | 29.937 | 0.632 | 34.774 | |