| Back to Multiple platform build/check report for BioC 3.19: simplified long | 
 | 
This page was generated on 2024-06-28 17:42 -0400 (Fri, 28 Jun 2024).
| Hostname | OS | Arch (*) | R version | Installed pkgs | 
|---|---|---|---|---|
| nebbiolo1 | Linux (Ubuntu 22.04.3 LTS) | x86_64 | 4.4.0 (2024-04-24) -- "Puppy Cup" | 4760 | 
| palomino3 | Windows Server 2022 Datacenter | x64 | 4.4.0 (2024-04-24 ucrt) -- "Puppy Cup" | 4494 | 
| merida1 | macOS 12.7.4 Monterey | x86_64 | 4.4.0 (2024-04-24) -- "Puppy Cup" | 4508 | 
| kjohnson1 | macOS 13.6.6 Ventura | arm64 | 4.4.0 (2024-04-24) -- "Puppy Cup" | 4466 | 
| palomino7 | Windows Server 2022 Datacenter | x64 | 4.4.1 (2024-06-14 ucrt) -- "Race for Your Life" | 4362 | 
| Click on any hostname to see more info about the system (e.g. compilers) (*) as reported by 'uname -p', except on Windows and Mac OS X | ||||
| Package 1841/2300 | Hostname | OS / Arch | INSTALL | BUILD | CHECK | BUILD BIN | ||||||||
| rTRM 1.42.0  (landing page) Diego Diez 
 | nebbiolo1 | Linux (Ubuntu 22.04.3 LTS) / x86_64 | OK | OK | OK |  | ||||||||
| palomino3 | Windows Server 2022 Datacenter / x64 | OK | OK | OK | OK |  | ||||||||
| merida1 | macOS 12.7.4 Monterey / x86_64 | OK | OK | OK | OK |  | ||||||||
| kjohnson1 | macOS 13.6.6 Ventura / arm64 | OK | OK | OK | OK |  | ||||||||
| palomino7 | Windows Server 2022 Datacenter / x64 | OK | OK | OK | OK | |||||||||
| To the developers/maintainers of the rTRM package: - Allow up to 24 hours (and sometimes 48 hours) for your latest push to git@git.bioconductor.org:packages/rTRM.git to reflect on this report. See Troubleshooting Build Report for more information. - Use the following Renviron settings to reproduce errors and warnings. - If 'R CMD check' started to fail recently on the Linux builder(s) over a missing dependency, add the missing dependency to 'Suggests:' in your DESCRIPTION file. See Renviron.bioc for more information. | 
| Package: rTRM | 
| Version: 1.42.0 | 
| Command: chmod a+r rTRM -R && F:\biocbuild\bbs-3.19-bioc\R\bin\R.exe CMD build --keep-empty-dirs --no-resave-data rTRM | 
| StartedAt: 2024-06-26 21:34:32 -0400 (Wed, 26 Jun 2024) | 
| EndedAt: 2024-06-26 21:40:57 -0400 (Wed, 26 Jun 2024) | 
| EllapsedTime: 384.4 seconds | 
| RetCode: 0 | 
| Status: OK | 
| PackageFile: rTRM_1.42.0.tar.gz | 
| PackageFileSize: 3.17 MiB | 
##############################################################################
##############################################################################
###
### Running command:
###
###   chmod a+r rTRM -R && F:\biocbuild\bbs-3.19-bioc\R\bin\R.exe CMD build --keep-empty-dirs --no-resave-data rTRM
###
##############################################################################
##############################################################################
* checking for file 'rTRM/DESCRIPTION' ... OK
* preparing 'rTRM':
* checking DESCRIPTION meta-information ... OK
* installing the package to process help pages
Loading required package: igraph
Attaching package: 'igraph'
The following objects are masked from 'package:stats':
    decompose, spectrum
The following object is masked from 'package:base':
    union
This graph was created by an old(er) igraph version.
  Call upgrade_graph() on it to use with the current igraph version
  For now we convert it on the fly...
This graph was created by an old(er) igraph version.
  Call upgrade_graph() on it to use with the current igraph version
  For now we convert it on the fly...
* creating vignettes ... OK
* checking for LF line-endings in source and make files and shell scripts
* checking for empty or unneeded directories
* looking to see if a 'data/datalist' file should be added
* building 'rTRM_1.42.0.tar.gz'