| Back to Multiple platform build/check report for BioC 3.19: simplified long | 
 | 
This page was generated on 2024-05-22 11:36:05 -0400 (Wed, 22 May 2024).
| Hostname | OS | Arch (*) | R version | Installed pkgs | 
|---|---|---|---|---|
| nebbiolo1 | Linux (Ubuntu 22.04.3 LTS) | x86_64 | 4.4.0 (2024-04-24) -- "Puppy Cup" | 4751 | 
| palomino3 | Windows Server 2022 Datacenter | x64 | 4.4.0 (2024-04-24 ucrt) -- "Puppy Cup" | 4485 | 
| lconway | macOS 12.7.1 Monterey | x86_64 | 4.4.0 (2024-04-24) -- "Puppy Cup" | 3444 | 
| Click on any hostname to see more info about the system (e.g. compilers) (*) as reported by 'uname -p', except on Windows and Mac OS X | ||||
| Package 1708/2300 | Hostname | OS / Arch | INSTALL | BUILD | CHECK | BUILD BIN | ||||||||
| rDGIdb 1.30.0  (landing page) Lars Bosshard 
 | nebbiolo1 | Linux (Ubuntu 22.04.3 LTS) / x86_64 | OK | OK | OK |  | ||||||||
| palomino3 | Windows Server 2022 Datacenter / x64 | OK | OK | OK | OK |  | ||||||||
| lconway | macOS 12.7.1 Monterey / x86_64 | OK | OK | OK | OK |  | ||||||||
| kjohnson3 | macOS 13.6.5 Ventura / arm64 | see weekly results here | ||||||||||||
| To the developers/maintainers of the rDGIdb package: - Allow up to 24 hours (and sometimes 48 hours) for your latest push to git@git.bioconductor.org:packages/rDGIdb.git to reflect on this report. See Troubleshooting Build Report for more information. - Use the following Renviron settings to reproduce errors and warnings. - If 'R CMD check' started to fail recently on the Linux builder(s) over a missing dependency, add the missing dependency to 'Suggests:' in your DESCRIPTION file. See Renviron.bioc for more information. | 
| Package: rDGIdb | 
| Version: 1.30.0 | 
| Command: rm -rf rDGIdb.buildbin-libdir && mkdir rDGIdb.buildbin-libdir && F:\biocbuild\bbs-3.19-bioc\R\bin\R.exe CMD INSTALL --build --library=rDGIdb.buildbin-libdir rDGIdb_1.30.0.tar.gz | 
| StartedAt: 2024-05-22 09:13:07 -0400 (Wed, 22 May 2024) | 
| EndedAt: 2024-05-22 09:13:14 -0400 (Wed, 22 May 2024) | 
| EllapsedTime: 7.2 seconds | 
| RetCode: 0 | 
| Status: OK | 
| PackageFile: rDGIdb_1.30.0.zip | 
| PackageFileSize: 233 KiB | 
############################################################################## ############################################################################## ### ### Running command: ### ### rm -rf rDGIdb.buildbin-libdir && mkdir rDGIdb.buildbin-libdir && F:\biocbuild\bbs-3.19-bioc\R\bin\R.exe CMD INSTALL --build --library=rDGIdb.buildbin-libdir rDGIdb_1.30.0.tar.gz ### ############################################################################## ############################################################################## * installing *source* package 'rDGIdb' ... ** using staged installation ** R ** inst ** byte-compile and prepare package for lazy loading ** help *** installing help indices ** building package indices ** installing vignettes ** testing if installed package can be loaded from temporary location ** testing if installed package can be loaded from final location ** testing if installed package keeps a record of temporary installation path * MD5 sums packaged installation of 'rDGIdb' as rDGIdb_1.30.0.zip * DONE (rDGIdb)