| Back to Multiple platform build/check report for BioC 3.19: simplified long |
|
This page was generated on 2024-10-18 20:38 -0400 (Fri, 18 Oct 2024).
| Hostname | OS | Arch (*) | R version | Installed pkgs |
|---|---|---|---|---|
| nebbiolo1 | Linux (Ubuntu 22.04.3 LTS) | x86_64 | 4.4.1 (2024-06-14) -- "Race for Your Life" | 4763 |
| palomino7 | Windows Server 2022 Datacenter | x64 | 4.4.1 (2024-06-14 ucrt) -- "Race for Your Life" | 4500 |
| merida1 | macOS 12.7.5 Monterey | x86_64 | 4.4.1 (2024-06-14) -- "Race for Your Life" | 4530 |
| kjohnson1 | macOS 13.6.6 Ventura | arm64 | 4.4.1 (2024-06-14) -- "Race for Your Life" | 4480 |
| Click on any hostname to see more info about the system (e.g. compilers) (*) as reported by 'uname -p', except on Windows and Mac OS X | ||||
| Package 1646/2300 | Hostname | OS / Arch | INSTALL | BUILD | CHECK | BUILD BIN | ||||||||
| qPLEXanalyzer 1.22.1 (landing page) Ashley Sawle
| nebbiolo1 | Linux (Ubuntu 22.04.3 LTS) / x86_64 | OK | OK | ERROR | |||||||||
| palomino7 | Windows Server 2022 Datacenter / x64 | OK | OK | OK | OK | |||||||||
| merida1 | macOS 12.7.5 Monterey / x86_64 | OK | OK | OK | OK | |||||||||
| kjohnson1 | macOS 13.6.6 Ventura / arm64 | OK | OK | OK | OK | |||||||||
|
To the developers/maintainers of the qPLEXanalyzer package: - Allow up to 24 hours (and sometimes 48 hours) for your latest push to git@git.bioconductor.org:packages/qPLEXanalyzer.git to reflect on this report. See Troubleshooting Build Report for more information. - Use the following Renviron settings to reproduce errors and warnings. - If 'R CMD check' started to fail recently on the Linux builder(s) over a missing dependency, add the missing dependency to 'Suggests:' in your DESCRIPTION file. See Renviron.bioc for more information. |
| Package: qPLEXanalyzer |
| Version: 1.22.1 |
| Command: /home/biocbuild/bbs-3.19-bioc/R/bin/R CMD check --install=check:qPLEXanalyzer.install-out.txt --library=/home/biocbuild/bbs-3.19-bioc/R/site-library --timings qPLEXanalyzer_1.22.1.tar.gz |
| StartedAt: 2024-10-17 04:01:49 -0400 (Thu, 17 Oct 2024) |
| EndedAt: 2024-10-17 04:06:28 -0400 (Thu, 17 Oct 2024) |
| EllapsedTime: 278.5 seconds |
| RetCode: 1 |
| Status: ERROR |
| CheckDir: qPLEXanalyzer.Rcheck |
| Warnings: NA |
##############################################################################
##############################################################################
###
### Running command:
###
### /home/biocbuild/bbs-3.19-bioc/R/bin/R CMD check --install=check:qPLEXanalyzer.install-out.txt --library=/home/biocbuild/bbs-3.19-bioc/R/site-library --timings qPLEXanalyzer_1.22.1.tar.gz
###
##############################################################################
##############################################################################
* using log directory ‘/home/biocbuild/bbs-3.19-bioc/meat/qPLEXanalyzer.Rcheck’
* using R version 4.4.1 (2024-06-14)
* using platform: x86_64-pc-linux-gnu
* R was compiled by
gcc (Ubuntu 11.4.0-1ubuntu1~22.04) 11.4.0
GNU Fortran (Ubuntu 11.4.0-1ubuntu1~22.04) 11.4.0
* running under: Ubuntu 22.04.5 LTS
* using session charset: UTF-8
* checking for file ‘qPLEXanalyzer/DESCRIPTION’ ... OK
* checking extension type ... Package
* this is package ‘qPLEXanalyzer’ version ‘1.22.1’
* package encoding: UTF-8
* checking package namespace information ... OK
* checking package dependencies ... OK
* checking if this is a source package ... OK
* checking if there is a namespace ... OK
* checking for hidden files and directories ... OK
* checking for portable file names ... OK
* checking for sufficient/correct file permissions ... OK
* checking whether package ‘qPLEXanalyzer’ can be installed ... OK
* checking installed package size ... OK
* checking package directory ... OK
* checking ‘build’ directory ... OK
* checking DESCRIPTION meta-information ... OK
* checking top-level files ... OK
* checking for left-over files ... OK
* checking index information ... OK
* checking package subdirectories ... NOTE
Problems with news in ‘NEWS’:
Cannot process chunk/lines:
Updates to vignette to avoid build errors when attempting to connect to Uniprot
* checking code files for non-ASCII characters ... OK
* checking R files for syntax errors ... OK
* checking whether the package can be loaded ... OK
* checking whether the package can be loaded with stated dependencies ... OK
* checking whether the package can be unloaded cleanly ... OK
* checking whether the namespace can be loaded with stated dependencies ... OK
* checking whether the namespace can be unloaded cleanly ... OK
* checking loading without being on the library search path ... OK
* checking dependencies in R code ... OK
* checking S3 generic/method consistency ... OK
* checking replacement functions ... OK
* checking foreign function calls ... OK
* checking R code for possible problems ... NOTE
coefVar: no visible binding for global variable ‘SampleName’
coefVar: no visible binding for global variable ‘CV’
coefVar: no visible binding for global variable ‘cum_sum’
coefVar: no visible binding for global variable ‘fraction’
convertToMSnset: no visible binding for global variable ‘SampleName’
corrPlot: no visible binding for global variable ‘X’
corrPlot: no visible binding for global variable ‘AddValues’
corrPlot: no visible binding for global variable ‘Cor’
corrPlot: no visible binding for global variable ‘Y’
corrPlot: no visible binding for global variable ‘CorTxt’
coveragePlot: no visible binding for global variable ‘Accessions’
coveragePlot: no visible binding for global variable ‘Sequences’
getContrastResults: no visible binding for global variable ‘B’
getContrastResults: no visible binding for global variable ‘AveExpr’
getContrastResults: no visible binding for global variable ‘logFC’
groupScaling: no visible binding for global variable ‘sInt’
groupScaling: no visible binding for global variable
‘meanscaledIntensity’
hierarchicalPlot: no visible binding for global variable ‘x’
hierarchicalPlot: no visible binding for global variable ‘y’
hierarchicalPlot: no visible binding for global variable ‘xend’
hierarchicalPlot: no visible binding for global variable ‘yend’
hierarchicalPlot: no visible binding for global variable ‘SampleName’
intensityBoxplot: no visible binding for global variable ‘Intensity’
intensityBoxplot: no visible binding for global variable ‘logInt’
intensityBoxplot: no visible binding for global variable ‘SampleName’
intensityPlot: no visible binding for global variable ‘Intensity’
intensityPlot: no visible binding for global variable ‘SampleName’
maVolPlot: no visible binding for global variable ‘group’
maVolPlot: no visible binding for global variable ‘adj.P.Val’
maVolPlot: no visible binding for global variable ‘GeneSymbol’
maVolPlot: no visible binding for global variable ‘SymbolLab’
mergePeptides: no visible binding for global variable ‘Accessions’
mergePeptides: no visible binding for global variable ‘Sequences’
mergePeptides: no visible binding for global variable ‘Seq_Acc’
mergePeptides: no visible global function definition for ‘where’
mergePeptides: no visible binding for global variable ‘Count’
mergeSites: no visible binding for global variable ‘Accessions’
mergeSites: no visible binding for global variable ‘Sites’
mergeSites: no visible binding for global variable ‘Type’
mergeSites: no visible binding for global variable ‘Sites_Acc’
mergeSites: no visible global function definition for ‘where’
mergeSites: no visible binding for global variable ‘Count’
peptideIntensityPlot: no visible binding for global variable
‘PeptideID’
peptideIntensityPlot: no visible binding for global variable
‘Intensity’
peptideIntensityPlot: no visible binding for global variable
‘Accessions’
peptideIntensityPlot: no visible binding for global variable
‘SampleName’
peptideIntensityPlot: no visible binding for global variable
‘logIntensity’
peptideIntensityPlot: no visible binding for global variable
‘Sequences’
peptideIntensityPlot: no visible binding for global variable
‘Modifications’
plotMeanVar: no visible binding for global variable ‘x’
plotMeanVar: no visible binding for global variable ‘y’
plotMeanVar: no visible binding for global variable ‘Mean’
plotMeanVar: no visible binding for global variable ‘Variance’
rliPlot: no visible binding for global variable ‘RowID’
rliPlot: no visible binding for global variable ‘Intensity’
rliPlot: no visible binding for global variable ‘logInt’
rliPlot: no visible binding for global variable ‘medianLogInt’
rliPlot: no visible binding for global variable ‘SampleName’
rliPlot: no visible binding for global variable ‘RLI’
summarizeIntensities: no visible binding for global variable
‘Accessions’
summarizeIntensities: no visible binding for global variable
‘Sequences’
summarizeIntensities: no visible global function definition for ‘where’
summarizeIntensities: no visible binding for global variable ‘Count’
Undefined global functions or variables:
Accessions AddValues AveExpr B CV Cor CorTxt Count GeneSymbol
Intensity Mean Modifications PeptideID RLI RowID SampleName Seq_Acc
Sequences Sites Sites_Acc SymbolLab Type Variance X Y adj.P.Val
cum_sum fraction group logFC logInt logIntensity meanscaledIntensity
medianLogInt sInt where x xend y yend
* checking Rd files ... OK
* checking Rd metadata ... OK
* checking Rd cross-references ... OK
* checking for missing documentation entries ... OK
* checking for code/documentation mismatches ... OK
* checking Rd \usage sections ... OK
* checking Rd contents ... OK
* checking for unstated dependencies in examples ... OK
* checking contents of ‘data’ directory ... OK
* checking data for non-ASCII characters ... OK
* checking data for ASCII and uncompressed saves ... OK
* checking files in ‘vignettes’ ... OK
* checking examples ... OK
* checking for unstated dependencies in vignettes ... OK
* checking package vignettes ... OK
* checking re-building of vignette outputs ... ERROR
Error(s) in re-building vignettes:
...
--- re-building ‘qPLEXanalyzer.Rmd’ using rmarkdown
Quitting from lines 84-88 [libs] (qPLEXanalyzer.Rmd)
Error: processing vignette 'qPLEXanalyzer.Rmd' failed with diagnostics:
there is no package called 'patchwork'
--- failed re-building ‘qPLEXanalyzer.Rmd’
SUMMARY: processing the following file failed:
‘qPLEXanalyzer.Rmd’
Error: Vignette re-building failed.
Execution halted
* checking PDF version of manual ... OK
* DONE
Status: 1 ERROR, 2 NOTEs
See
‘/home/biocbuild/bbs-3.19-bioc/meat/qPLEXanalyzer.Rcheck/00check.log’
for details.
qPLEXanalyzer.Rcheck/00install.out
############################################################################## ############################################################################## ### ### Running command: ### ### /home/biocbuild/bbs-3.19-bioc/R/bin/R CMD INSTALL qPLEXanalyzer ### ############################################################################## ############################################################################## * installing to library ‘/home/biocbuild/bbs-3.19-bioc/R/site-library’ * installing *source* package ‘qPLEXanalyzer’ ... ** using staged installation ** R ** data ** inst ** byte-compile and prepare package for lazy loading Note: wrong number of arguments to '==' Note: wrong number of arguments to '==' ** help *** installing help indices ** building package indices ** installing vignettes ** testing if installed package can be loaded from temporary location ** testing if installed package can be loaded from final location ** testing if installed package keeps a record of temporary installation path * DONE (qPLEXanalyzer)
qPLEXanalyzer.Rcheck/qPLEXanalyzer-Ex.timings
| name | user | system | elapsed | |
| IRSnorm | 4.281 | 0.284 | 4.565 | |
| assignColours | 0.232 | 0.004 | 0.236 | |
| coefVar | 0.880 | 0.012 | 0.892 | |
| computeDiffStats | 0.451 | 0.023 | 0.474 | |
| convertToMSnset | 0.194 | 0.020 | 0.214 | |
| corrPlot | 0.682 | 0.016 | 0.698 | |
| coveragePlot | 0.569 | 0.015 | 0.586 | |
| getContrastResults | 1.226 | 0.039 | 1.267 | |
| groupScaling | 0.243 | 0.009 | 0.252 | |
| hierarchicalPlot | 0.290 | 0.004 | 0.295 | |
| intensityBoxplot | 0.937 | 0.023 | 0.962 | |
| intensityPlot | 0.801 | 0.004 | 0.804 | |
| maVolPlot | 0.956 | 0.016 | 0.971 | |
| mergePeptides | 0.545 | 0.004 | 0.549 | |
| mergeSites | 0.222 | 0.008 | 0.229 | |
| normalizeQuantiles | 0.254 | 0.004 | 0.258 | |
| normalizeScaling | 0.261 | 0.007 | 0.269 | |
| pcaPlot | 0.616 | 0.005 | 0.620 | |
| peptideIntensityPlot | 0.617 | 0.024 | 0.642 | |
| plotMeanVar | 0.586 | 0.012 | 0.597 | |
| regressIntensity | 1.891 | 0.028 | 1.920 | |
| rliPlot | 1.566 | 0.055 | 1.621 | |
| rowScaling | 0.464 | 0.005 | 0.467 | |
| summarizeIntensities | 0.385 | 0.004 | 0.389 | |