| Back to Multiple platform build/check report for BioC 3.19: simplified long |
|
This page was generated on 2024-06-11 14:44 -0400 (Tue, 11 Jun 2024).
| Hostname | OS | Arch (*) | R version | Installed pkgs |
|---|---|---|---|---|
| nebbiolo1 | Linux (Ubuntu 22.04.3 LTS) | x86_64 | 4.4.0 (2024-04-24) -- "Puppy Cup" | 4757 |
| palomino3 | Windows Server 2022 Datacenter | x64 | 4.4.0 (2024-04-24 ucrt) -- "Puppy Cup" | 4491 |
| lconway | macOS 12.7.1 Monterey | x86_64 | 4.4.0 (2024-04-24) -- "Puppy Cup" | 4522 |
| kjohnson3 | macOS 13.6.5 Ventura | arm64 | 4.4.0 (2024-04-24) -- "Puppy Cup" | 4468 |
| Click on any hostname to see more info about the system (e.g. compilers) (*) as reported by 'uname -p', except on Windows and Mac OS X | ||||
| Package 1585/2300 | Hostname | OS / Arch | INSTALL | BUILD | CHECK | BUILD BIN | ||||||||
| plyranges 1.24.0 (landing page) Michael Love
| nebbiolo1 | Linux (Ubuntu 22.04.3 LTS) / x86_64 | OK | OK | OK | |||||||||
| palomino3 | Windows Server 2022 Datacenter / x64 | OK | OK | OK | OK | |||||||||
| lconway | macOS 12.7.1 Monterey / x86_64 | OK | OK | OK | OK | |||||||||
| kjohnson3 | macOS 13.6.5 Ventura / arm64 | OK | OK | ERROR | OK | |||||||||
|
To the developers/maintainers of the plyranges package: - Allow up to 24 hours (and sometimes 48 hours) for your latest push to git@git.bioconductor.org:packages/plyranges.git to reflect on this report. See Troubleshooting Build Report for more information. - Use the following Renviron settings to reproduce errors and warnings. - If 'R CMD check' started to fail recently on the Linux builder(s) over a missing dependency, add the missing dependency to 'Suggests:' in your DESCRIPTION file. See Renviron.bioc for more information. |
| Package: plyranges |
| Version: 1.24.0 |
| Command: /Library/Frameworks/R.framework/Resources/bin/R CMD check --install=check:plyranges.install-out.txt --library=/Library/Frameworks/R.framework/Resources/library --no-vignettes --timings plyranges_1.24.0.tar.gz |
| StartedAt: 2024-06-11 01:29:35 -0400 (Tue, 11 Jun 2024) |
| EndedAt: 2024-06-11 01:37:20 -0400 (Tue, 11 Jun 2024) |
| EllapsedTime: 464.5 seconds |
| RetCode: 1 |
| Status: ERROR |
| CheckDir: plyranges.Rcheck |
| Warnings: NA |
##############################################################################
##############################################################################
###
### Running command:
###
### /Library/Frameworks/R.framework/Resources/bin/R CMD check --install=check:plyranges.install-out.txt --library=/Library/Frameworks/R.framework/Resources/library --no-vignettes --timings plyranges_1.24.0.tar.gz
###
##############################################################################
##############################################################################
* using log directory ‘/Users/biocbuild/bbs-3.19-bioc/meat/plyranges.Rcheck’
* using R version 4.4.0 (2024-04-24)
* using platform: aarch64-apple-darwin20
* R was compiled by
Apple clang version 14.0.0 (clang-1400.0.29.202)
GNU Fortran (GCC) 12.2.0
* running under: macOS Ventura 13.6.5
* using session charset: UTF-8
* using option ‘--no-vignettes’
* checking for file ‘plyranges/DESCRIPTION’ ... OK
* checking extension type ... Package
* this is package ‘plyranges’ version ‘1.24.0’
* package encoding: UTF-8
* checking package namespace information ... OK
* checking package dependencies ... OK
* checking if this is a source package ... OK
* checking if there is a namespace ... OK
* checking for hidden files and directories ... OK
* checking for portable file names ... OK
* checking for sufficient/correct file permissions ... OK
* checking whether package ‘plyranges’ can be installed ... OK
* checking installed package size ... OK
* checking package directory ... OK
* checking ‘build’ directory ... OK
* checking DESCRIPTION meta-information ... OK
* checking top-level files ... OK
* checking for left-over files ... OK
* checking index information ... OK
* checking package subdirectories ... OK
* checking code files for non-ASCII characters ... OK
* checking R files for syntax errors ... OK
* checking whether the package can be loaded ... OK
* checking whether the package can be loaded with stated dependencies ... OK
* checking whether the package can be unloaded cleanly ... OK
* checking whether the namespace can be loaded with stated dependencies ... OK
* checking whether the namespace can be unloaded cleanly ... OK
* checking dependencies in R code ... OK
* checking S3 generic/method consistency ... OK
* checking replacement functions ... OK
* checking foreign function calls ... OK
* checking R code for possible problems ... OK
* checking Rd files ... NOTE
checkRd: (-1) group_by-ranges.Rd:57: Lost braces in \itemize; meant \describe ?
checkRd: (-1) group_by-ranges.Rd:58: Lost braces in \itemize; meant \describe ?
checkRd: (-1) ranges-anchor.Rd:58: Lost braces in \itemize; meant \describe ?
checkRd: (-1) ranges-anchor.Rd:59: Lost braces in \itemize; meant \describe ?
checkRd: (-1) ranges-anchor.Rd:60: Lost braces in \itemize; meant \describe ?
checkRd: (-1) ranges-anchor.Rd:61-62: Lost braces in \itemize; meant \describe ?
checkRd: (-1) ranges-anchor.Rd:63-64: Lost braces in \itemize; meant \describe ?
* checking Rd metadata ... OK
* checking Rd cross-references ... OK
* checking for missing documentation entries ... OK
* checking for code/documentation mismatches ... OK
* checking Rd \usage sections ... OK
* checking Rd contents ... OK
* checking for unstated dependencies in examples ... OK
* checking files in ‘vignettes’ ... OK
* checking examples ... OK
Examples with CPU (user + system) or elapsed time > 5s
user system elapsed
io-bed-read 3.692 0.603 5.174
* checking for unstated dependencies in ‘tests’ ... OK
* checking tests ...
Running ‘testthat.R’
ERROR
Running the tests in ‘tests/testthat.R’ failed.
Last 13 lines of output:
filter
>
> test_check("plyranges")
[ FAIL 1 | WARN 8 | SKIP 0 | PASS 394 ]
══ Failed tests ════════════════════════════════════════════════════════════════
── Failure ('test-io-bed.R:136:3'): read_narrowpeaks returns correct GRanges ───
`gr` not identical to `test_gr`.
Objects equal but not identical
[ FAIL 1 | WARN 8 | SKIP 0 | PASS 394 ]
Error: Test failures
Execution halted
* checking for unstated dependencies in vignettes ... OK
* checking package vignettes ... OK
* checking running R code from vignettes ... SKIPPED
* checking re-building of vignette outputs ... SKIPPED
* checking PDF version of manual ... OK
* DONE
Status: 1 ERROR, 1 NOTE
See
‘/Users/biocbuild/bbs-3.19-bioc/meat/plyranges.Rcheck/00check.log’
for details.
plyranges.Rcheck/00install.out
############################################################################## ############################################################################## ### ### Running command: ### ### /Library/Frameworks/R.framework/Resources/bin/R CMD INSTALL plyranges ### ############################################################################## ############################################################################## * installing to library ‘/Library/Frameworks/R.framework/Versions/4.4-arm64/Resources/library’ * installing *source* package ‘plyranges’ ... ** using staged installation ** R ** inst ** byte-compile and prepare package for lazy loading ** help *** installing help indices *** copying figures ** building package indices ** installing vignettes ** testing if installed package can be loaded from temporary location ** testing if installed package can be loaded from final location ** testing if installed package keeps a record of temporary installation path * DONE (plyranges)
plyranges.Rcheck/tests/testthat.Rout.fail
R version 4.4.0 (2024-04-24) -- "Puppy Cup"
Copyright (C) 2024 The R Foundation for Statistical Computing
Platform: aarch64-apple-darwin20
R is free software and comes with ABSOLUTELY NO WARRANTY.
You are welcome to redistribute it under certain conditions.
Type 'license()' or 'licence()' for distribution details.
R is a collaborative project with many contributors.
Type 'contributors()' for more information and
'citation()' on how to cite R or R packages in publications.
Type 'demo()' for some demos, 'help()' for on-line help, or
'help.start()' for an HTML browser interface to help.
Type 'q()' to quit R.
> library(testthat)
> library(plyranges)
Loading required package: BiocGenerics
Attaching package: 'BiocGenerics'
The following objects are masked from 'package:stats':
IQR, mad, sd, var, xtabs
The following objects are masked from 'package:base':
Filter, Find, Map, Position, Reduce, anyDuplicated, aperm, append,
as.data.frame, basename, cbind, colnames, dirname, do.call,
duplicated, eval, evalq, get, grep, grepl, intersect, is.unsorted,
lapply, mapply, match, mget, order, paste, pmax, pmax.int, pmin,
pmin.int, rank, rbind, rownames, sapply, setdiff, table, tapply,
union, unique, unsplit, which.max, which.min
Loading required package: IRanges
Loading required package: S4Vectors
Loading required package: stats4
Attaching package: 'S4Vectors'
The following object is masked from 'package:utils':
findMatches
The following objects are masked from 'package:base':
I, expand.grid, unname
Loading required package: GenomicRanges
Loading required package: GenomeInfoDb
Attaching package: 'plyranges'
The following object is masked from 'package:IRanges':
slice
The following object is masked from 'package:stats':
filter
>
> test_check("plyranges")
[ FAIL 1 | WARN 8 | SKIP 0 | PASS 394 ]
══ Failed tests ════════════════════════════════════════════════════════════════
── Failure ('test-io-bed.R:136:3'): read_narrowpeaks returns correct GRanges ───
`gr` not identical to `test_gr`.
Objects equal but not identical
[ FAIL 1 | WARN 8 | SKIP 0 | PASS 394 ]
Error: Test failures
Execution halted
plyranges.Rcheck/plyranges-Ex.timings
| name | user | system | elapsed | |
| add-nearest-distance | 0.414 | 0.027 | 0.442 | |
| as_ranges | 0.130 | 0.012 | 0.212 | |
| compute_coverage | 0.017 | 0.003 | 0.023 | |
| element-setops | 0.106 | 0.013 | 0.118 | |
| filter-ranges | 0.630 | 0.017 | 0.647 | |
| group_by-ranges | 0.293 | 0.005 | 0.298 | |
| io-bam-read | 0.588 | 0.029 | 0.646 | |
| io-bed-read | 3.692 | 0.603 | 5.174 | |
| io-bed-write | 0 | 0 | 0 | |
| io-bigwig-read | 0.144 | 0.011 | 0.243 | |
| io-bigwig-write | 0 | 0 | 0 | |
| io-gff-read | 0.543 | 0.050 | 0.736 | |
| io-gff-write | 0 | 0 | 0 | |
| io-wig-read | 0.494 | 0.037 | 0.852 | |
| mutate-ranges | 0.902 | 0.037 | 1.013 | |
| n | 0.267 | 0.002 | 0.269 | |
| n_distinct | 0.027 | 0.000 | 0.028 | |
| overlap-joins | 0.183 | 0.003 | 0.186 | |
| ranges-anchor | 0.137 | 0.002 | 0.139 | |
| ranges-arrange | 0.054 | 0.001 | 0.056 | |
| ranges-bind | 0.158 | 0.009 | 0.167 | |
| ranges-chop | 0.356 | 0.012 | 0.368 | |
| ranges-construct | 0.142 | 0.004 | 0.251 | |
| ranges-count-overlaps | 0.085 | 0.001 | 0.154 | |
| ranges-disjoin | 0.874 | 0.011 | 1.508 | |
| ranges-expand | 0.522 | 0.009 | 0.531 | |
| ranges-filter-overlaps | 0.118 | 0.004 | 0.121 | |
| ranges-flank | 0.092 | 0.003 | 0.095 | |
| ranges-follow | 0.162 | 0.005 | 0.203 | |
| ranges-info | 0.056 | 0.002 | 0.102 | |
| ranges-interweave | 0.177 | 0.004 | 0.322 | |
| ranges-names | 0.160 | 0.003 | 0.289 | |
| ranges-nearest | 0.523 | 0.009 | 0.773 | |
| ranges-overlaps-self | 0.112 | 0.003 | 0.115 | |
| ranges-overlaps | 0.148 | 0.005 | 0.152 | |
| ranges-pairs | 0.326 | 0.006 | 0.333 | |
| ranges-precede | 0.144 | 0.004 | 0.148 | |
| ranges-reduce | 1.112 | 0.009 | 1.125 | |
| ranges-select | 0.102 | 0.005 | 0.107 | |
| ranges-setops | 1.022 | 0.012 | 1.278 | |
| ranges-shift | 0.191 | 0.003 | 0.195 | |
| ranges-summarise | 0.186 | 0.003 | 0.219 | |
| ranges-tile | 0.100 | 0.003 | 0.126 | |
| slice-ranges | 0.630 | 0.007 | 0.691 | |
| stretch | 0.240 | 0.003 | 0.305 | |