| Back to Multiple platform build/check report for BioC 3.19: simplified long |
|
This page was generated on 2024-05-09 11:41:15 -0400 (Thu, 09 May 2024).
| Hostname | OS | Arch (*) | R version | Installed pkgs |
|---|---|---|---|---|
| nebbiolo1 | Linux (Ubuntu 22.04.3 LTS) | x86_64 | 4.4.0 (2024-04-24) -- "Puppy Cup" | 4748 |
| palomino3 | Windows Server 2022 Datacenter | x64 | 4.4.0 (2024-04-24 ucrt) -- "Puppy Cup" | 4484 |
| lconway | macOS 12.7.1 Monterey | x86_64 | 4.4.0 (2024-04-24) -- "Puppy Cup" | 4514 |
| kunpeng2 | Linux (openEuler 22.03 LTS-SP1) | aarch64 | 4.4.0 beta (2024-04-15 r86425) -- "Puppy Cup" | 4480 |
| Click on any hostname to see more info about the system (e.g. compilers) (*) as reported by 'uname -p', except on Windows and Mac OS X | ||||
| Package 1570/2300 | Hostname | OS / Arch | INSTALL | BUILD | CHECK | BUILD BIN | ||||||||
| pipeComp 1.14.0 (landing page) Pierre-Luc Germain
| nebbiolo1 | Linux (Ubuntu 22.04.3 LTS) / x86_64 | OK | OK | OK | |||||||||
| palomino3 | Windows Server 2022 Datacenter / x64 | OK | OK | OK | OK | |||||||||
| lconway | macOS 12.7.1 Monterey / x86_64 | OK | OK | OK | OK | |||||||||
| kunpeng2 | Linux (openEuler 22.03 LTS-SP1) / aarch64 | OK | OK | OK | ||||||||||
| kjohnson3 | macOS 13.6.5 Ventura / arm64 | see weekly results here | ||||||||||||
|
To the developers/maintainers of the pipeComp package: - Allow up to 24 hours (and sometimes 48 hours) for your latest push to git@git.bioconductor.org:packages/pipeComp.git to reflect on this report. See Troubleshooting Build Report for more information. - Use the following Renviron settings to reproduce errors and warnings. - If 'R CMD check' started to fail recently on the Linux builder(s) over a missing dependency, add the missing dependency to 'Suggests:' in your DESCRIPTION file. See Renviron.bioc for more information. - See Martin Grigorov's blog post for how to debug Linux ARM64 related issues on a x86_64 host. |
| Package: pipeComp |
| Version: 1.14.0 |
| Command: /home/biocbuild/R/R-beta-2024-04-15_r86425/bin/R CMD check --install=check:pipeComp.install-out.txt --library=/home/biocbuild/R/R-beta-2024-04-15_r86425/site-library --no-vignettes --timings pipeComp_1.14.0.tar.gz |
| StartedAt: 2024-05-09 10:33:50 -0000 (Thu, 09 May 2024) |
| EndedAt: 2024-05-09 10:41:54 -0000 (Thu, 09 May 2024) |
| EllapsedTime: 484.9 seconds |
| RetCode: 0 |
| Status: OK |
| CheckDir: pipeComp.Rcheck |
| Warnings: 0 |
##############################################################################
##############################################################################
###
### Running command:
###
### /home/biocbuild/R/R-beta-2024-04-15_r86425/bin/R CMD check --install=check:pipeComp.install-out.txt --library=/home/biocbuild/R/R-beta-2024-04-15_r86425/site-library --no-vignettes --timings pipeComp_1.14.0.tar.gz
###
##############################################################################
##############################################################################
* using log directory ‘/home/biocbuild/bbs-3.19-bioc/meat/pipeComp.Rcheck’
* using R version 4.4.0 beta (2024-04-15 r86425)
* using platform: aarch64-unknown-linux-gnu
* R was compiled by
gcc (GCC) 10.3.1
GNU Fortran (GCC) 10.3.1
* running under: openEuler 22.03 (LTS-SP1)
* using session charset: UTF-8
* using option ‘--no-vignettes’
* checking for file ‘pipeComp/DESCRIPTION’ ... OK
* checking extension type ... Package
* this is package ‘pipeComp’ version ‘1.14.0’
* package encoding: UTF-8
* checking package namespace information ... OK
* checking package dependencies ... OK
* checking if this is a source package ... OK
* checking if there is a namespace ... OK
* checking for hidden files and directories ... OK
* checking for portable file names ... OK
* checking for sufficient/correct file permissions ... OK
* checking whether package ‘pipeComp’ can be installed ... OK
* checking installed package size ... OK
* checking package directory ... OK
* checking ‘build’ directory ... OK
* checking DESCRIPTION meta-information ... OK
* checking top-level files ... NOTE
File
LICENSE
is not mentioned in the DESCRIPTION file.
* checking for left-over files ... OK
* checking index information ... OK
* checking package subdirectories ... OK
* checking code files for non-ASCII characters ... OK
* checking R files for syntax errors ... OK
* checking whether the package can be loaded ... OK
* checking whether the package can be loaded with stated dependencies ... OK
* checking whether the package can be unloaded cleanly ... OK
* checking whether the namespace can be loaded with stated dependencies ... OK
* checking whether the namespace can be unloaded cleanly ... OK
* checking loading without being on the library search path ... OK
* checking dependencies in R code ... NOTE
There are ::: calls to the package's namespace in its code. A package
almost never needs to use ::: for its own objects:
‘.compileExcludedCells’ ‘.getMM’ ‘.homogenizeDEA’ ‘.runf’
* checking S3 generic/method consistency ... OK
* checking replacement functions ... OK
* checking foreign function calls ... OK
* checking R code for possible problems ... NOTE
scrna_describeDatasets: no visible binding for global variable
‘cluster’
scrna_describeDatasets: no visible binding for global variable ‘nb’
scrna_describeDatasets : pf: no visible binding for global variable
‘.x’
scrna_describeDatasets : rd: no visible binding for global variable ‘y’
scrna_describeDatasets : rd: no visible binding for global variable
‘cluster’
scrna_evalPlot_filtering: no visible binding for global variable
‘max.lost’
scrna_evalPlot_filtering: no visible binding for global variable
‘mean_F1’
scrna_evalPlot_filtering: no visible binding for global variable ‘filt’
scrna_evalPlot_filtering: no visible binding for global variable
‘doubletmethod’
scrna_evalPlot_filtering: no visible binding for global variable
‘method’
scrna_evalPlot_overall: no visible binding for global variable
‘true.nbClusts’
scrna_evalPlot_overall: no visible binding for global variable ‘n_clus’
Undefined global functions or variables:
.x cluster doubletmethod filt max.lost mean_F1 method n_clus nb
true.nbClusts y
* checking Rd files ... OK
* checking Rd metadata ... OK
* checking Rd cross-references ... OK
* checking for missing documentation entries ... OK
* checking for code/documentation mismatches ... OK
* checking Rd \usage sections ... OK
* checking Rd contents ... OK
* checking for unstated dependencies in examples ... OK
* checking contents of ‘data’ directory ... OK
* checking data for non-ASCII characters ... OK
* checking data for ASCII and uncompressed saves ... OK
* checking files in ‘vignettes’ ... OK
* checking examples ... OK
Examples with CPU (user + system) or elapsed time > 5s
user system elapsed
scrna_evalPlot_overall 5.763 0.043 5.823
* checking for unstated dependencies in vignettes ... OK
* checking package vignettes ... OK
* checking running R code from vignettes ... SKIPPED
* checking re-building of vignette outputs ... SKIPPED
* checking PDF version of manual ... OK
* DONE
Status: 3 NOTEs
See
‘/home/biocbuild/bbs-3.19-bioc/meat/pipeComp.Rcheck/00check.log’
for details.
pipeComp.Rcheck/00install.out
############################################################################## ############################################################################## ### ### Running command: ### ### /home/biocbuild/R/R-beta-2024-04-15_r86425/bin/R CMD INSTALL pipeComp ### ############################################################################## ############################################################################## * installing to library ‘/home/biocbuild/R/R-beta-2024-04-15_r86425/site-library’ * installing *source* package ‘pipeComp’ ... ** using staged installation ** R ** data ** inst ** byte-compile and prepare package for lazy loading ** help *** installing help indices ** building package indices ** installing vignettes ** testing if installed package can be loaded from temporary location ** testing if installed package can be loaded from final location ** testing if installed package keeps a record of temporary installation path * DONE (pipeComp)
pipeComp.Rcheck/pipeComp-Ex.timings
| name | user | system | elapsed | |
| PipelineDefinition-methods | 0.012 | 0.000 | 0.011 | |
| PipelineDefinition | 0.002 | 0.000 | 0.001 | |
| addPipelineStep | 0.004 | 0.000 | 0.003 | |
| aggregatePipelineResults | 1.256 | 0.021 | 1.281 | |
| buildCombMatrix | 0.003 | 0.000 | 0.003 | |
| checkPipelinePackages | 0.072 | 0.008 | 0.081 | |
| colCenterScale | 0.001 | 0.000 | 0.002 | |
| dea_evalPlot_curve | 0.786 | 0.004 | 0.791 | |
| dea_pipeline | 0.002 | 0.000 | 0.002 | |
| evalHeatmap | 3.250 | 0.048 | 3.304 | |
| evaluateClustering | 0.011 | 0.000 | 0.011 | |
| evaluateDEA | 0.067 | 0.004 | 0.072 | |
| evaluateDimRed | 2.065 | 0.012 | 2.083 | |
| evaluateNorm | 2.590 | 0.024 | 2.618 | |
| farthestPoint | 0.007 | 0.000 | 0.007 | |
| getQualitativePalette | 0 | 0 | 0 | |
| match_evaluate_multiple | 0.004 | 0.000 | 0.003 | |
| mergePipelineResults | 2.574 | 0.076 | 2.661 | |
| mockPipeline | 0.002 | 0.000 | 0.001 | |
| parsePipNames | 0.002 | 0.000 | 0.002 | |
| plotElapsed | 0.836 | 0.003 | 0.841 | |
| readPipelineResults | 1.190 | 0.009 | 1.201 | |
| runPipeline | 1.143 | 0.011 | 1.157 | |
| scrna_evalPlot_filtering | 0.452 | 0.001 | 0.454 | |
| scrna_evalPlot_overall | 5.763 | 0.043 | 5.823 | |
| scrna_evalPlot_silh | 1.073 | 0.008 | 1.083 | |
| scrna_pipeline | 0.000 | 0.002 | 0.002 | |