| Back to Multiple platform build/check report for BioC 3.19: simplified long |
|
This page was generated on 2024-10-18 20:39 -0400 (Fri, 18 Oct 2024).
| Hostname | OS | Arch (*) | R version | Installed pkgs |
|---|---|---|---|---|
| nebbiolo1 | Linux (Ubuntu 22.04.3 LTS) | x86_64 | 4.4.1 (2024-06-14) -- "Race for Your Life" | 4763 |
| palomino7 | Windows Server 2022 Datacenter | x64 | 4.4.1 (2024-06-14 ucrt) -- "Race for Your Life" | 4500 |
| merida1 | macOS 12.7.5 Monterey | x86_64 | 4.4.1 (2024-06-14) -- "Race for Your Life" | 4530 |
| kjohnson1 | macOS 13.6.6 Ventura | arm64 | 4.4.1 (2024-06-14) -- "Race for Your Life" | 4480 |
| Click on any hostname to see more info about the system (e.g. compilers) (*) as reported by 'uname -p', except on Windows and Mac OS X | ||||
| Package 1477/2300 | Hostname | OS / Arch | INSTALL | BUILD | CHECK | BUILD BIN | ||||||||
| openPrimeR 1.26.0 (landing page) Matthias Döring
| nebbiolo1 | Linux (Ubuntu 22.04.3 LTS) / x86_64 | OK | OK | OK | |||||||||
| palomino7 | Windows Server 2022 Datacenter / x64 | OK | OK | OK | OK | |||||||||
| merida1 | macOS 12.7.5 Monterey / x86_64 | OK | OK | OK | OK | |||||||||
| kjohnson1 | macOS 13.6.6 Ventura / arm64 | OK | OK | OK | OK | |||||||||
|
To the developers/maintainers of the openPrimeR package: - Allow up to 24 hours (and sometimes 48 hours) for your latest push to git@git.bioconductor.org:packages/openPrimeR.git to reflect on this report. See Troubleshooting Build Report for more information. - Use the following Renviron settings to reproduce errors and warnings. - If 'R CMD check' started to fail recently on the Linux builder(s) over a missing dependency, add the missing dependency to 'Suggests:' in your DESCRIPTION file. See Renviron.bioc for more information. |
| Package: openPrimeR |
| Version: 1.26.0 |
| Command: E:\biocbuild\bbs-3.19-bioc\R\bin\R.exe CMD check --no-multiarch --install=check:openPrimeR.install-out.txt --library=E:\biocbuild\bbs-3.19-bioc\R\library --no-vignettes --timings openPrimeR_1.26.0.tar.gz |
| StartedAt: 2024-10-17 04:08:31 -0400 (Thu, 17 Oct 2024) |
| EndedAt: 2024-10-17 04:13:36 -0400 (Thu, 17 Oct 2024) |
| EllapsedTime: 304.9 seconds |
| RetCode: 0 |
| Status: OK |
| CheckDir: openPrimeR.Rcheck |
| Warnings: 0 |
##############################################################################
##############################################################################
###
### Running command:
###
### E:\biocbuild\bbs-3.19-bioc\R\bin\R.exe CMD check --no-multiarch --install=check:openPrimeR.install-out.txt --library=E:\biocbuild\bbs-3.19-bioc\R\library --no-vignettes --timings openPrimeR_1.26.0.tar.gz
###
##############################################################################
##############################################################################
* using log directory 'E:/biocbuild/bbs-3.19-bioc/meat/openPrimeR.Rcheck'
* using R version 4.4.1 (2024-06-14 ucrt)
* using platform: x86_64-w64-mingw32
* R was compiled by
gcc.exe (GCC) 13.2.0
GNU Fortran (GCC) 13.2.0
* running under: Windows Server 2022 x64 (build 20348)
* using session charset: UTF-8
* using option '--no-vignettes'
* checking for file 'openPrimeR/DESCRIPTION' ... OK
* this is package 'openPrimeR' version '1.26.0'
* package encoding: UTF-8
* checking package namespace information ... OK
* checking package dependencies ... OK
* checking if this is a source package ... OK
* checking if there is a namespace ... OK
* checking for hidden files and directories ... NOTE
Found the following hidden files and directories:
.travis.yml
These were most likely included in error. See section 'Package
structure' in the 'Writing R Extensions' manual.
* checking for portable file names ... OK
* checking whether package 'openPrimeR' can be installed ... OK
* checking installed package size ... NOTE
installed size is 11.9Mb
sub-directories of 1Mb or more:
R 1.3Mb
extdata 10.0Mb
* checking package directory ... OK
* checking 'build' directory ... OK
* checking DESCRIPTION meta-information ... OK
* checking top-level files ... OK
* checking for left-over files ... OK
* checking index information ... OK
* checking package subdirectories ... OK
* checking code files for non-ASCII characters ... OK
* checking R files for syntax errors ... OK
* checking whether the package can be loaded ... OK
* checking whether the package can be loaded with stated dependencies ... OK
* checking whether the package can be unloaded cleanly ... OK
* checking whether the namespace can be loaded with stated dependencies ... OK
* checking whether the namespace can be unloaded cleanly ... OK
* checking whether startup messages can be suppressed ... OK
* checking dependencies in R code ... OK
* checking S3 generic/method consistency ... OK
* checking replacement functions ... OK
* checking foreign function calls ... OK
* checking R code for possible problems ... OK
* checking Rd files ... OK
* checking Rd metadata ... OK
* checking Rd cross-references ... OK
* checking for missing documentation entries ... OK
* checking for code/documentation mismatches ... OK
* checking Rd \usage sections ... NOTE
Documented arguments not in \usage in Rd file 'get_cvg_stats-Primers-method.Rd':
'primer.df' 'template.df'
Documented arguments not in \usage in Rd file 'plot_constraint-list-method.Rd':
'constraint.settings'
Documented arguments not in \usage in Rd file 'plot_constraint_deviation-list-method.Rd':
'constraint.df'
Documented arguments not in \usage in Rd file 'plot_primer_cvg-Primers-Templates-method.Rd':
'p.df' 'template.df' 'excluded.seqs'
Documented arguments not in \usage in Rd file 'plot_template_cvg-list-list-method.Rd':
'colors'
Functions with \usage entries need to have the appropriate \alias
entries, and all their arguments documented.
The \usage entries must correspond to syntactically valid R code.
See chapter 'Writing R documentation files' in the 'Writing R
Extensions' manual.
* checking Rd contents ... OK
* checking for unstated dependencies in examples ... OK
* checking contents of 'data' directory ... OK
* checking data for non-ASCII characters ... OK
* checking data for ASCII and uncompressed saves ... OK
* checking R/sysdata.rda ... OK
* checking files in 'vignettes' ... OK
* checking examples ... OK
Examples with CPU (user + system) or elapsed time > 5s
user system elapsed
Output 10.23 3.11 43.70
PrimerDesign 12.56 0.61 13.28
Plots 6.28 0.91 7.19
PrimerEval 6.03 0.83 6.91
* checking for unstated dependencies in 'tests' ... OK
* checking tests ...
Running 'testthat.R'
OK
* checking for unstated dependencies in vignettes ... OK
* checking package vignettes ... OK
* checking running R code from vignettes ... SKIPPED
* checking re-building of vignette outputs ... SKIPPED
* checking PDF version of manual ... OK
* DONE
Status: 3 NOTEs
See
'E:/biocbuild/bbs-3.19-bioc/meat/openPrimeR.Rcheck/00check.log'
for details.
openPrimeR.Rcheck/00install.out
############################################################################## ############################################################################## ### ### Running command: ### ### E:\biocbuild\bbs-3.19-bioc\R\bin\R.exe CMD INSTALL openPrimeR ### ############################################################################## ############################################################################## * installing to library 'E:/biocbuild/bbs-3.19-bioc/R/library' * installing *source* package 'openPrimeR' ... ** using staged installation ** R ** data ** inst ** byte-compile and prepare package for lazy loading ** help *** installing help indices ** building package indices ** installing vignettes ** testing if installed package can be loaded from temporary location ** testing if installed package can be loaded from final location ** testing if installed package keeps a record of temporary installation path * DONE (openPrimeR)
openPrimeR.Rcheck/tests/testthat.Rout
R version 4.4.1 (2024-06-14 ucrt) -- "Race for Your Life"
Copyright (C) 2024 The R Foundation for Statistical Computing
Platform: x86_64-w64-mingw32/x64
R is free software and comes with ABSOLUTELY NO WARRANTY.
You are welcome to redistribute it under certain conditions.
Type 'license()' or 'licence()' for distribution details.
R is a collaborative project with many contributors.
Type 'contributors()' for more information and
'citation()' on how to cite R or R packages in publications.
Type 'demo()' for some demos, 'help()' for on-line help, or
'help.start()' for an HTML browser interface to help.
Type 'q()' to quit R.
> require(testthat)
Loading required package: testthat
> require(openPrimeR)
Loading required package: openPrimeR
There are missing/non-functioning external tools.
To use the full potential of openPrimeR, please make sure
that the required versions of the speciied tools are
installed and that they are functional:
o MELTING (http://www.ebi.ac.uk/biomodels/tools/melting/)
o ViennaRNA (http://www.tbi.univie.ac.at/RNA/)
o OligoArrayAux (http://unafold.rna.albany.edu/OligoArrayAux.php)
o MAFFT (http://mafft.cbrc.jp/alignment/software/)
> #test_package("openPrimeR")
> test_check("openPrimeR")
pdftex: major issue: User/administrator updates are out-of-sync.
pdfcrop: major issue: User/administrator updates are out-of-sync.
pdftex: major issue: User/administrator updates are out-of-sync.
pdfcrop: major issue: User/administrator updates are out-of-sync.
pdftex: major issue: User/administrator updates are out-of-sync.
pdfcrop: major issue: User/administrator updates are out-of-sync.
pdftex: major issue: User/administrator updates are out-of-sync.
pdfcrop: major issue: User/administrator updates are out-of-sync.
pdftex: major issue: User/administrator updates are out-of-sync.
pdfcrop: major issue: User/administrator updates are out-of-sync.
[ FAIL 0 | WARN 3 | SKIP 9 | PASS 1467 ]
══ Skipped tests (9) ═══════════════════════════════════════════════════════════
• MAFFT not available. (1): 'test_primer_design.R:125:9'
• OligoArrayAux not available. (5): 'test_con_dimerization.R:7:9',
'test_con_dimerization.R:42:9', 'test_con_primer_coverage.R:50:9',
'test_con_primer_coverage.R:77:9', 'test_con_primer_specificity.R:40:9'
• On Bioconductor (1): 'test_primer_design.R:137:5'
• Secondary structure tests require ViennaRNA. (1):
'test_con_secondary_structure.R:7:9'
• empty test (1): 'test_primers.R:29:1'
[ FAIL 0 | WARN 3 | SKIP 9 | PASS 1467 ]
>
> proc.time()
user system elapsed
39.10 3.23 55.56
openPrimeR.Rcheck/openPrimeR-Ex.timings
| name | user | system | elapsed | |
| AnalysisStats | 1.42 | 0.06 | 1.48 | |
| Data | 0.88 | 0.08 | 0.96 | |
| Input | 2.18 | 0.09 | 2.50 | |
| Output | 10.23 | 3.11 | 43.70 | |
| Plots | 6.28 | 0.91 | 7.19 | |
| PrimerDesign | 12.56 | 0.61 | 13.28 | |
| PrimerEval | 6.03 | 0.83 | 6.91 | |
| Primers-method | 0.02 | 0.01 | 0.03 | |
| Scoring | 0.03 | 0.00 | 0.03 | |
| Settings | 0.30 | 0.61 | 1.14 | |
| Templates-method | 0.01 | 0.03 | 0.05 | |
| TemplatesFunctions | 0.13 | 0.03 | 0.17 | |
| runTutorial | 0 | 0 | 0 | |