| Back to Multiple platform build/check report for BioC 3.19: simplified long |
|
This page was generated on 2024-06-11 14:42 -0400 (Tue, 11 Jun 2024).
| Hostname | OS | Arch (*) | R version | Installed pkgs |
|---|---|---|---|---|
| nebbiolo1 | Linux (Ubuntu 22.04.3 LTS) | x86_64 | 4.4.0 (2024-04-24) -- "Puppy Cup" | 4757 |
| palomino3 | Windows Server 2022 Datacenter | x64 | 4.4.0 (2024-04-24 ucrt) -- "Puppy Cup" | 4491 |
| lconway | macOS 12.7.1 Monterey | x86_64 | 4.4.0 (2024-04-24) -- "Puppy Cup" | 4522 |
| kjohnson3 | macOS 13.6.5 Ventura | arm64 | 4.4.0 (2024-04-24) -- "Puppy Cup" | 4468 |
| Click on any hostname to see more info about the system (e.g. compilers) (*) as reported by 'uname -p', except on Windows and Mac OS X | ||||
| Package 1475/2300 | Hostname | OS / Arch | INSTALL | BUILD | CHECK | BUILD BIN | ||||||||
| ontoProc 1.26.0 (landing page) Vincent Carey
| nebbiolo1 | Linux (Ubuntu 22.04.3 LTS) / x86_64 | OK | OK | OK | |||||||||
| palomino3 | Windows Server 2022 Datacenter / x64 | OK | OK | OK | OK | |||||||||
| lconway | macOS 12.7.1 Monterey / x86_64 | OK | OK | OK | OK | |||||||||
| kjohnson3 | macOS 13.6.5 Ventura / arm64 | OK | OK | OK | OK | |||||||||
|
To the developers/maintainers of the ontoProc package: - Allow up to 24 hours (and sometimes 48 hours) for your latest push to git@git.bioconductor.org:packages/ontoProc.git to reflect on this report. See Troubleshooting Build Report for more information. - Use the following Renviron settings to reproduce errors and warnings. - If 'R CMD check' started to fail recently on the Linux builder(s) over a missing dependency, add the missing dependency to 'Suggests:' in your DESCRIPTION file. See Renviron.bioc for more information. |
| Package: ontoProc |
| Version: 1.26.0 |
| Command: /Library/Frameworks/R.framework/Resources/bin/R CMD check --install=check:ontoProc.install-out.txt --library=/Library/Frameworks/R.framework/Resources/library --no-vignettes --timings ontoProc_1.26.0.tar.gz |
| StartedAt: 2024-06-09 22:00:09 -0400 (Sun, 09 Jun 2024) |
| EndedAt: 2024-06-09 22:13:24 -0400 (Sun, 09 Jun 2024) |
| EllapsedTime: 795.1 seconds |
| RetCode: 0 |
| Status: OK |
| CheckDir: ontoProc.Rcheck |
| Warnings: 0 |
##############################################################################
##############################################################################
###
### Running command:
###
### /Library/Frameworks/R.framework/Resources/bin/R CMD check --install=check:ontoProc.install-out.txt --library=/Library/Frameworks/R.framework/Resources/library --no-vignettes --timings ontoProc_1.26.0.tar.gz
###
##############################################################################
##############################################################################
* using log directory ‘/Users/biocbuild/bbs-3.19-bioc/meat/ontoProc.Rcheck’
* using R version 4.4.0 (2024-04-24)
* using platform: x86_64-apple-darwin20
* R was compiled by
Apple clang version 14.0.0 (clang-1400.0.29.202)
GNU Fortran (GCC) 12.2.0
* running under: macOS Monterey 12.7.1
* using session charset: UTF-8
* using option ‘--no-vignettes’
* checking for file ‘ontoProc/DESCRIPTION’ ... OK
* this is package ‘ontoProc’ version ‘1.26.0’
* package encoding: UTF-8
* checking package namespace information ... OK
* checking package dependencies ... OK
* checking if this is a source package ... OK
* checking if there is a namespace ... OK
* checking for hidden files and directories ... OK
* checking for portable file names ... OK
* checking for sufficient/correct file permissions ... OK
* checking whether package ‘ontoProc’ can be installed ... OK
* checking installed package size ... NOTE
installed size is 10.0Mb
sub-directories of 1Mb or more:
app 1.9Mb
data 1.8Mb
ontoRda 2.8Mb
owl 2.9Mb
* checking package directory ... OK
* checking ‘build’ directory ... OK
* checking DESCRIPTION meta-information ... OK
* checking top-level files ... OK
* checking for left-over files ... OK
* checking index information ... OK
* checking package subdirectories ... OK
* checking code files for non-ASCII characters ... OK
* checking R files for syntax errors ... OK
* checking whether the package can be loaded ... OK
* checking whether the package can be loaded with stated dependencies ... OK
* checking whether the package can be unloaded cleanly ... OK
* checking whether the namespace can be loaded with stated dependencies ... OK
* checking whether the namespace can be unloaded cleanly ... OK
* checking dependencies in R code ... OK
* checking S3 generic/method consistency ... OK
* checking replacement functions ... OK
* checking foreign function calls ... OK
* checking R code for possible problems ... NOTE
CLfeat : prupdate: no visible binding for global variable ‘PROSYM’
CLfeat : prupdate: no visible binding for global variable ‘PRID’
CLfeat : prupdate: no visible binding for global variable ‘SYMBOL’
ctmarks : server: no visible binding for global variable ‘text’
ctmarks : server: no visible binding for global variable ‘packDesc2022’
ctmarks : server: no visible binding for global variable ‘packDesc2021’
ctmarks: no visible binding for global variable ‘cumu’
dropStop: no visible binding for global variable ‘stopWords’
getOnto: no visible binding for global variable ‘rdatadateadded’
getOnto: no visible binding for global variable ‘title’
getOnto: no visible binding for global variable ‘description’
ldfToTerm: no visible binding for global variable ‘PROSYM’
sym2CellOnto: no visible binding for global variable ‘PROSYM’
sym2CellOnto: no visible binding for global variable ‘SYMBOL’
Undefined global functions or variables:
PRID PROSYM SYMBOL cumu description packDesc2021 packDesc2022
rdatadateadded stopWords text title
Consider adding
importFrom("graphics", "text", "title")
to your NAMESPACE file.
* checking Rd files ... OK
* checking Rd metadata ... OK
* checking Rd cross-references ... OK
* checking for missing documentation entries ... OK
* checking for code/documentation mismatches ... OK
* checking Rd \usage sections ... NOTE
S3 methods shown with full name in Rd file 'plot.owlents.Rd':
‘plot.owlents’
The \usage entries for S3 methods should use the \method markup and not
their full name.
See chapter ‘Writing R documentation files’ in the ‘Writing R
Extensions’ manual.
* checking Rd contents ... OK
* checking for unstated dependencies in examples ... OK
* checking contents of ‘data’ directory ... OK
* checking data for non-ASCII characters ... NOTE
Note: found 162 marked UTF-8 strings
* checking data for ASCII and uncompressed saves ... OK
* checking files in ‘vignettes’ ... OK
* checking examples ... OK
Examples with CPU (user + system) or elapsed time > 5s
user system elapsed
sym2CellOnto 43.741 0.836 45.161
CLfeats 33.692 5.818 62.850
siblings_TAG 25.606 1.034 27.350
cleanCLOnames 18.376 0.598 35.097
getLeavesFromTerm 18.090 0.723 26.635
common_classes 16.420 1.716 36.654
plot.owlents 17.073 0.533 17.662
fastGrep 14.988 0.998 33.584
ancestors 13.027 1.937 18.663
owl2cache 13.967 0.678 14.942
nomenCheckup 13.973 0.386 14.761
findCommonAncestors 12.721 1.522 30.796
TermSet-class 9.904 3.774 23.698
liberalMap 9.167 0.400 9.826
mapOneNaive 8.989 0.372 9.634
secLevGen 8.386 0.397 9.292
make_graphNEL_from_ontology_plot 8.310 0.324 8.909
selectFromMap 8.087 0.371 8.907
getOnto 8.037 0.387 8.691
onto_plot2 7.984 0.351 8.546
* checking for unstated dependencies in ‘tests’ ... OK
* checking tests ...
Running ‘test.R’
OK
* checking for unstated dependencies in vignettes ... OK
* checking package vignettes ... OK
* checking running R code from vignettes ... SKIPPED
* checking re-building of vignette outputs ... SKIPPED
* checking PDF version of manual ... OK
* DONE
Status: 4 NOTEs
See
‘/Users/biocbuild/bbs-3.19-bioc/meat/ontoProc.Rcheck/00check.log’
for details.
ontoProc.Rcheck/00install.out
############################################################################## ############################################################################## ### ### Running command: ### ### /Library/Frameworks/R.framework/Resources/bin/R CMD INSTALL ontoProc ### ############################################################################## ############################################################################## * installing to library ‘/Library/Frameworks/R.framework/Versions/4.4-x86_64/Resources/library’ * installing *source* package ‘ontoProc’ ... ** using staged installation ** R ** data ** inst ** byte-compile and prepare package for lazy loading ** help *** installing help indices ** building package indices ** installing vignettes ** testing if installed package can be loaded from temporary location ** testing if installed package can be loaded from final location ** testing if installed package keeps a record of temporary installation path * DONE (ontoProc)
ontoProc.Rcheck/tests/test.Rout
R version 4.4.0 (2024-04-24) -- "Puppy Cup"
Copyright (C) 2024 The R Foundation for Statistical Computing
Platform: x86_64-apple-darwin20
R is free software and comes with ABSOLUTELY NO WARRANTY.
You are welcome to redistribute it under certain conditions.
Type 'license()' or 'licence()' for distribution details.
R is a collaborative project with many contributors.
Type 'contributors()' for more information and
'citation()' on how to cite R or R packages in publications.
Type 'demo()' for some demos, 'help()' for on-line help, or
'help.start()' for an HTML browser interface to help.
Type 'q()' to quit R.
>
> library(ontoProc)
Loading required package: ontologyIndex
> library(testthat)
>
> test_check("ontoProc")
[ FAIL 0 | WARN 0 | SKIP 0 | PASS 13 ]
>
>
> proc.time()
user system elapsed
83.319 4.021 92.317
ontoProc.Rcheck/ontoProc-Ex.timings
| name | user | system | elapsed | |
| CLfeats | 33.692 | 5.818 | 62.850 | |
| PROSYM | 0.289 | 0.009 | 0.302 | |
| TermSet-class | 9.904 | 3.774 | 23.698 | |
| allGOterms | 0.096 | 0.030 | 0.270 | |
| ancestors | 13.027 | 1.937 | 18.663 | |
| ancestors_names | 3.891 | 0.164 | 4.062 | |
| cellTypeToGO | 1.721 | 0.127 | 1.857 | |
| children_names | 4.048 | 0.074 | 4.136 | |
| cleanCLOnames | 18.376 | 0.598 | 35.097 | |
| common_classes | 16.420 | 1.716 | 36.654 | |
| ctmarks | 0.001 | 0.000 | 0.000 | |
| cyclicSigset | 0.009 | 0.001 | 0.015 | |
| demoApp | 0 | 0 | 0 | |
| dropStop | 0.005 | 0.003 | 0.018 | |
| fastGrep | 14.988 | 0.998 | 33.584 | |
| findCommonAncestors | 12.721 | 1.522 | 30.796 | |
| getLeavesFromTerm | 18.090 | 0.723 | 26.635 | |
| getOnto | 8.037 | 0.387 | 8.691 | |
| humrna | 0.006 | 0.003 | 0.009 | |
| ldfToTerms | 2.734 | 0.049 | 2.806 | |
| liberalMap | 9.167 | 0.400 | 9.826 | |
| makeSelectInput | 0.001 | 0.001 | 0.001 | |
| make_graphNEL_from_ontology_plot | 8.310 | 0.324 | 8.909 | |
| mapOneNaive | 8.989 | 0.372 | 9.634 | |
| minicorpus | 0.001 | 0.002 | 0.002 | |
| nomenCheckup | 13.973 | 0.386 | 14.761 | |
| onto_plot2 | 7.984 | 0.351 | 8.546 | |
| onto_roots | 0 | 0 | 0 | |
| owl2cache | 13.967 | 0.678 | 14.942 | |
| packDesc2019 | 0.003 | 0.002 | 0.005 | |
| packDesc2021 | 0.003 | 0.002 | 0.005 | |
| packDesc2022 | 0.002 | 0.002 | 0.004 | |
| packDesc2023 | 0.002 | 0.002 | 0.004 | |
| parents | 3.400 | 0.061 | 3.465 | |
| plot.owlents | 17.073 | 0.533 | 17.662 | |
| recognizedPredicates | 0.001 | 0.001 | 0.001 | |
| secLevGen | 8.386 | 0.397 | 9.292 | |
| selectFromMap | 8.087 | 0.371 | 8.907 | |
| setup_entities | 3.730 | 0.075 | 3.812 | |
| seur3kTab | 0.003 | 0.002 | 0.006 | |
| siblings_TAG | 25.606 | 1.034 | 27.350 | |
| stopWords | 0.002 | 0.001 | 0.002 | |
| subclasses | 4.430 | 0.068 | 4.504 | |
| sym2CellOnto | 43.741 | 0.836 | 45.161 | |
| valid_ontonames | 0 | 0 | 0 | |