| Back to Multiple platform build/check report for BioC 3.19: simplified long |
|
This page was generated on 2024-06-11 14:44 -0400 (Tue, 11 Jun 2024).
| Hostname | OS | Arch (*) | R version | Installed pkgs |
|---|---|---|---|---|
| nebbiolo1 | Linux (Ubuntu 22.04.3 LTS) | x86_64 | 4.4.0 (2024-04-24) -- "Puppy Cup" | 4757 |
| palomino3 | Windows Server 2022 Datacenter | x64 | 4.4.0 (2024-04-24 ucrt) -- "Puppy Cup" | 4491 |
| lconway | macOS 12.7.1 Monterey | x86_64 | 4.4.0 (2024-04-24) -- "Puppy Cup" | 4522 |
| kjohnson3 | macOS 13.6.5 Ventura | arm64 | 4.4.0 (2024-04-24) -- "Puppy Cup" | 4468 |
| Click on any hostname to see more info about the system (e.g. compilers) (*) as reported by 'uname -p', except on Windows and Mac OS X | ||||
| Package 1457/2300 | Hostname | OS / Arch | INSTALL | BUILD | CHECK | BUILD BIN | ||||||||
| omada 1.6.0 (landing page) Sokratis Kariotis
| nebbiolo1 | Linux (Ubuntu 22.04.3 LTS) / x86_64 | OK | OK | OK | |||||||||
| palomino3 | Windows Server 2022 Datacenter / x64 | OK | OK | OK | OK | |||||||||
| lconway | macOS 12.7.1 Monterey / x86_64 | OK | OK | OK | OK | |||||||||
| kjohnson3 | macOS 13.6.5 Ventura / arm64 | OK | OK | OK | OK | |||||||||
|
To the developers/maintainers of the omada package: - Allow up to 24 hours (and sometimes 48 hours) for your latest push to git@git.bioconductor.org:packages/omada.git to reflect on this report. See Troubleshooting Build Report for more information. - Use the following Renviron settings to reproduce errors and warnings. - If 'R CMD check' started to fail recently on the Linux builder(s) over a missing dependency, add the missing dependency to 'Suggests:' in your DESCRIPTION file. See Renviron.bioc for more information. |
| Package: omada |
| Version: 1.6.0 |
| Command: /Library/Frameworks/R.framework/Resources/bin/R CMD check --install=check:omada.install-out.txt --library=/Library/Frameworks/R.framework/Resources/library --no-vignettes --timings omada_1.6.0.tar.gz |
| StartedAt: 2024-06-11 00:09:01 -0400 (Tue, 11 Jun 2024) |
| EndedAt: 2024-06-11 00:24:17 -0400 (Tue, 11 Jun 2024) |
| EllapsedTime: 916.5 seconds |
| RetCode: 0 |
| Status: OK |
| CheckDir: omada.Rcheck |
| Warnings: 0 |
##############################################################################
##############################################################################
###
### Running command:
###
### /Library/Frameworks/R.framework/Resources/bin/R CMD check --install=check:omada.install-out.txt --library=/Library/Frameworks/R.framework/Resources/library --no-vignettes --timings omada_1.6.0.tar.gz
###
##############################################################################
##############################################################################
* using log directory ‘/Users/biocbuild/bbs-3.19-bioc/meat/omada.Rcheck’
* using R version 4.4.0 (2024-04-24)
* using platform: aarch64-apple-darwin20
* R was compiled by
Apple clang version 14.0.0 (clang-1400.0.29.202)
GNU Fortran (GCC) 12.2.0
* running under: macOS Ventura 13.6.5
* using session charset: UTF-8
* using option ‘--no-vignettes’
* checking for file ‘omada/DESCRIPTION’ ... OK
* checking extension type ... Package
* this is package ‘omada’ version ‘1.6.0’
* package encoding: UTF-8
* checking package namespace information ... OK
* checking package dependencies ... NOTE
Depends: includes the non-default packages:
'pdfCluster', 'kernlab', 'fpc', 'Rcpp', 'diceR', 'ggplot2',
'reshape', 'genieclust', 'clValid', 'glmnet', 'dplyr'
Adding so many packages to the search path is excessive and importing
selectively is preferable.
* checking if this is a source package ... OK
* checking if there is a namespace ... OK
* checking for hidden files and directories ... OK
* checking for portable file names ... OK
* checking for sufficient/correct file permissions ... OK
* checking whether package ‘omada’ can be installed ... OK
* checking installed package size ... OK
* checking package directory ... OK
* checking ‘build’ directory ... OK
* checking DESCRIPTION meta-information ... NOTE
Package listed in more than one of Depends, Imports, Suggests, Enhances:
‘clValid’
A package should be listed in only one of these fields.
* checking top-level files ... NOTE
File
LICENSE
is not mentioned in the DESCRIPTION file.
* checking for left-over files ... OK
* checking index information ... OK
* checking package subdirectories ... OK
* checking code files for non-ASCII characters ... OK
* checking R files for syntax errors ... OK
* checking whether the package can be loaded ... OK
* checking whether the package can be loaded with stated dependencies ... OK
* checking whether the package can be unloaded cleanly ... OK
* checking whether the namespace can be loaded with stated dependencies ... OK
* checking whether the namespace can be unloaded cleanly ... OK
* checking dependencies in R code ... NOTE
Packages in Depends field not imported from:
‘Rcpp’ ‘dplyr’ ‘genieclust’ ‘glmnet’ ‘kernlab’ ‘reshape’
These packages need to be imported from (in the NAMESPACE file)
for when this namespace is loaded but not attached.
* checking S3 generic/method consistency ... OK
* checking replacement functions ... OK
* checking foreign function calls ... OK
* checking R code for possible problems ... NOTE
Index.15and28: no visible global function definition for ‘dist’
Index.15and28: no visible global function definition for ‘as.dist’
Index.sPlussMoins: no visible global function definition for ‘dist’
Index.sPlussMoins: no visible global function definition for ‘as.dist’
Index.sPlussMoins: no visible global function definition for ‘median’
Indice.cindex: no visible global function definition for ‘dist’
clusterVoting: no visible global function definition for ‘calinhara’
clusterVoting: no visible global function definition for
‘generalised_dunn_index’
clusterVoting: no visible global function definition for
‘silhouette_index’
clusterVoting: no visible global function definition for
‘negated_davies_bouldin_index’
clusterVoting: no visible binding for global variable ‘k’
clusterVoting: no visible binding for global variable ‘Frequency’
clusteringMethodSelection: no visible binding for global variable
‘value’
clusteringMethodSelection: no visible binding for global variable
‘methods’
featureSelection: no visible binding for global variable ‘featureSet’
featureSelection: no visible binding for global variable ‘means’
Undefined global functions or variables:
Frequency as.dist calinhara dist featureSet generalised_dunn_index k
means median methods negated_davies_bouldin_index silhouette_index
value
Consider adding
importFrom("stats", "as.dist", "dist", "median")
importFrom("utils", "methods")
to your NAMESPACE file.
* checking Rd files ... OK
* checking Rd metadata ... OK
* checking Rd cross-references ... OK
* checking for missing documentation entries ... OK
* checking for code/documentation mismatches ... OK
* checking Rd \usage sections ... OK
* checking Rd contents ... OK
* checking for unstated dependencies in examples ... OK
* checking contents of ‘data’ directory ... OK
* checking data for non-ASCII characters ... OK
* checking LazyData ... OK
* checking data for ASCII and uncompressed saves ... OK
* checking files in ‘vignettes’ ... OK
* checking examples ... OK
Examples with CPU (user + system) or elapsed time > 5s
user system elapsed
get_feature_selection_optimal_number_of_features 44.910 1.201 54.575
get_feature_selection_scores 44.713 0.991 61.095
plot_partition_agreement 32.838 0.742 43.887
get_cluster_voting_metric_votes 31.872 0.650 42.561
get_partition_agreement_scores 30.329 0.655 42.761
plot_feature_selection 30.075 0.712 38.717
get_cluster_voting_memberships 29.911 0.549 39.795
get_cluster_voting_k_votes 28.478 0.588 36.463
get_cluster_voting_scores 28.373 0.555 40.386
get_feature_selection_optimal_features 27.366 0.687 34.858
get_sample_memberships 27.193 0.609 39.236
plot_cluster_voting 24.221 0.459 34.062
omada 23.721 0.518 33.721
get_optimal_number_of_features 10.922 0.191 15.414
get_optimal_features 10.211 0.170 14.765
get_optimal_memberships 9.885 0.180 13.797
plot_average_stabilities 9.520 0.186 13.375
get_optimal_stability_score 8.925 0.164 12.813
featureSelection 8.150 0.121 10.534
get_optimal_parameter_used 7.627 0.173 9.675
get_average_feature_k_stabilities 4.748 0.066 6.284
feasibilityAnalysisDataBased 4.118 0.082 5.394
clusterVoting 3.704 0.340 5.141
get_generated_dataset 3.864 0.048 5.529
* checking for unstated dependencies in ‘tests’ ... OK
* checking tests ...
Running ‘testthat.R’
OK
* checking for unstated dependencies in vignettes ... OK
* checking package vignettes ... OK
* checking running R code from vignettes ... SKIPPED
* checking re-building of vignette outputs ... SKIPPED
* checking PDF version of manual ... OK
* DONE
Status: 5 NOTEs
See
‘/Users/biocbuild/bbs-3.19-bioc/meat/omada.Rcheck/00check.log’
for details.
omada.Rcheck/00install.out
############################################################################## ############################################################################## ### ### Running command: ### ### /Library/Frameworks/R.framework/Resources/bin/R CMD INSTALL omada ### ############################################################################## ############################################################################## * installing to library ‘/Library/Frameworks/R.framework/Versions/4.4-arm64/Resources/library’ * installing *source* package ‘omada’ ... ** using staged installation ** R ** data *** moving datasets to lazyload DB ** inst ** byte-compile and prepare package for lazy loading ** help *** installing help indices ** building package indices ** installing vignettes ** testing if installed package can be loaded from temporary location ** testing if installed package can be loaded from final location ** testing if installed package keeps a record of temporary installation path * DONE (omada)
omada.Rcheck/tests/testthat.Rout
R version 4.4.0 (2024-04-24) -- "Puppy Cup"
Copyright (C) 2024 The R Foundation for Statistical Computing
Platform: aarch64-apple-darwin20
R is free software and comes with ABSOLUTELY NO WARRANTY.
You are welcome to redistribute it under certain conditions.
Type 'license()' or 'licence()' for distribution details.
R is a collaborative project with many contributors.
Type 'contributors()' for more information and
'citation()' on how to cite R or R packages in publications.
Type 'demo()' for some demos, 'help()' for on-line help, or
'help.start()' for an HTML browser interface to help.
Type 'q()' to quit R.
> library(testthat)
> library(omada)
Loading required package: pdfCluster
pdfCluster 1.0-4
Loading required package: kernlab
Loading required package: fpc
Loading required package: Rcpp
Loading required package: diceR
Loading required package: ggplot2
Attaching package: 'ggplot2'
The following object is masked from 'package:kernlab':
alpha
Loading required package: reshape
Loading required package: genieclust
Loading required package: clValid
Loading required package: cluster
Loading required package: glmnet
Loading required package: Matrix
Attaching package: 'Matrix'
The following object is masked from 'package:reshape':
expand
Loaded glmnet 4.1-8
Loading required package: dplyr
Attaching package: 'dplyr'
The following object is masked from 'package:reshape':
rename
The following object is masked from 'package:pdfCluster':
groups
The following object is masked from 'package:testthat':
matches
The following objects are masked from 'package:stats':
filter, lag
The following objects are masked from 'package:base':
intersect, setdiff, setequal, union
>
> test_check("omada")
[ FAIL 0 | WARN 1 | SKIP 0 | PASS 38 ]
[ FAIL 0 | WARN 1 | SKIP 0 | PASS 38 ]
>
> proc.time()
user system elapsed
95.471 1.913 132.966
omada.Rcheck/omada-Ex.timings
| name | user | system | elapsed | |
| clusterVoting | 3.704 | 0.340 | 5.141 | |
| clusteringMethodSelection | 1.217 | 0.040 | 1.611 | |
| feasibilityAnalysis | 1.178 | 0.019 | 1.596 | |
| feasibilityAnalysisDataBased | 4.118 | 0.082 | 5.394 | |
| featureSelection | 8.150 | 0.121 | 10.534 | |
| get_agreement_scores | 0.624 | 0.007 | 0.790 | |
| get_average_feature_k_stabilities | 4.748 | 0.066 | 6.284 | |
| get_average_stabilities_per_k | 0.810 | 0.014 | 1.070 | |
| get_average_stability | 0.804 | 0.010 | 1.027 | |
| get_cluster_memberships_k | 0.831 | 0.087 | 1.182 | |
| get_cluster_voting_k_votes | 28.478 | 0.588 | 36.463 | |
| get_cluster_voting_memberships | 29.911 | 0.549 | 39.795 | |
| get_cluster_voting_metric_votes | 31.872 | 0.650 | 42.561 | |
| get_cluster_voting_scores | 28.373 | 0.555 | 40.386 | |
| get_feature_selection_optimal_features | 27.366 | 0.687 | 34.858 | |
| get_feature_selection_optimal_number_of_features | 44.910 | 1.201 | 54.575 | |
| get_feature_selection_scores | 44.713 | 0.991 | 61.095 | |
| get_generated_dataset | 3.864 | 0.048 | 5.529 | |
| get_internal_metric_scores | 0.846 | 0.094 | 1.287 | |
| get_max_stability | 0.846 | 0.017 | 1.244 | |
| get_metric_votes_k | 0.846 | 0.104 | 1.354 | |
| get_optimal_features | 10.211 | 0.170 | 14.765 | |
| get_optimal_memberships | 9.885 | 0.180 | 13.797 | |
| get_optimal_number_of_features | 10.922 | 0.191 | 15.414 | |
| get_optimal_parameter_used | 7.627 | 0.173 | 9.675 | |
| get_optimal_stability_score | 8.925 | 0.164 | 12.813 | |
| get_partition_agreement_scores | 30.329 | 0.655 | 42.761 | |
| get_sample_memberships | 27.193 | 0.609 | 39.236 | |
| get_vote_frequencies_k | 1.233 | 0.093 | 1.847 | |
| omada | 23.721 | 0.518 | 33.721 | |
| optimalClustering | 0.084 | 0.004 | 0.127 | |
| partitionAgreement | 0.338 | 0.010 | 0.492 | |
| plot_average_stabilities | 9.520 | 0.186 | 13.375 | |
| plot_cluster_voting | 24.221 | 0.459 | 34.062 | |
| plot_feature_selection | 30.075 | 0.712 | 38.717 | |
| plot_partition_agreement | 32.838 | 0.742 | 43.887 | |
| plot_vote_frequencies | 0.990 | 0.087 | 1.494 | |
| toy_gene_memberships | 0.018 | 0.006 | 0.033 | |
| toy_genes | 0.001 | 0.002 | 0.005 | |