| Back to Multiple platform build/check report for BioC 3.19: simplified long | 
 | 
This page was generated on 2024-06-11 14:44 -0400 (Tue, 11 Jun 2024).
| Hostname | OS | Arch (*) | R version | Installed pkgs | 
|---|---|---|---|---|
| nebbiolo1 | Linux (Ubuntu 22.04.3 LTS) | x86_64 | 4.4.0 (2024-04-24) -- "Puppy Cup" | 4757 | 
| palomino3 | Windows Server 2022 Datacenter | x64 | 4.4.0 (2024-04-24 ucrt) -- "Puppy Cup" | 4491 | 
| lconway | macOS 12.7.1 Monterey | x86_64 | 4.4.0 (2024-04-24) -- "Puppy Cup" | 4522 | 
| kjohnson3 | macOS 13.6.5 Ventura | arm64 | 4.4.0 (2024-04-24) -- "Puppy Cup" | 4468 | 
| Click on any hostname to see more info about the system (e.g. compilers) (*) as reported by 'uname -p', except on Windows and Mac OS X | ||||
| Package 1453/2300 | Hostname | OS / Arch | INSTALL | BUILD | CHECK | BUILD BIN | ||||||||
| oligo 1.68.2  (landing page) Benilton Carvalho 
 | nebbiolo1 | Linux (Ubuntu 22.04.3 LTS) / x86_64 | OK | OK | WARNINGS |  | ||||||||
| palomino3 | Windows Server 2022 Datacenter / x64 | OK | OK | WARNINGS | OK |  | ||||||||
| lconway | macOS 12.7.1 Monterey / x86_64 | OK | OK | WARNINGS | OK |  | ||||||||
| kjohnson3 | macOS 13.6.5 Ventura / arm64 | OK | OK | WARNINGS | OK |  | ||||||||
| To the developers/maintainers of the oligo package: - Allow up to 24 hours (and sometimes 48 hours) for your latest push to git@git.bioconductor.org:packages/oligo.git to reflect on this report. See Troubleshooting Build Report for more information. - Use the following Renviron settings to reproduce errors and warnings. - If 'R CMD check' started to fail recently on the Linux builder(s) over a missing dependency, add the missing dependency to 'Suggests:' in your DESCRIPTION file. See Renviron.bioc for more information. | 
| Package: oligo | 
| Version: 1.68.2 | 
| Command: /Library/Frameworks/R.framework/Resources/bin/R CMD INSTALL oligo | 
| StartedAt: 2024-06-09 15:31:07 -0400 (Sun, 09 Jun 2024) | 
| EndedAt: 2024-06-09 15:31:57 -0400 (Sun, 09 Jun 2024) | 
| EllapsedTime: 50.0 seconds | 
| RetCode: 0 | 
| Status: OK | 
##############################################################################
##############################################################################
###
### Running command:
###
###   /Library/Frameworks/R.framework/Resources/bin/R CMD INSTALL oligo
###
##############################################################################
##############################################################################
* installing to library ‘/Library/Frameworks/R.framework/Versions/4.4-arm64/Resources/library’
* installing *source* package ‘oligo’ ...
** using staged installation
** libs
using C compiler: ‘Apple clang version 15.0.0 (clang-1500.1.0.2.5)’
using SDK: ‘MacOSX11.3.sdk’
clang -arch arm64 -I"/Library/Frameworks/R.framework/Resources/include" -DNDEBUG  -I'/Library/Frameworks/R.framework/Versions/4.4-arm64/Resources/library/preprocessCore/include' -I/opt/R/arm64/include    -fPIC  -falign-functions=64 -Wall -g -O2  -c DABG.c -o DABG.o
clang -arch arm64 -I"/Library/Frameworks/R.framework/Resources/include" -DNDEBUG  -I'/Library/Frameworks/R.framework/Versions/4.4-arm64/Resources/library/preprocessCore/include' -I/opt/R/arm64/include    -fPIC  -falign-functions=64 -Wall -g -O2  -c ParserGzXYS.c -o ParserGzXYS.o
clang -arch arm64 -I"/Library/Frameworks/R.framework/Resources/include" -DNDEBUG  -I'/Library/Frameworks/R.framework/Versions/4.4-arm64/Resources/library/preprocessCore/include' -I/opt/R/arm64/include    -fPIC  -falign-functions=64 -Wall -g -O2  -c ParserXYS.c -o ParserXYS.o
clang -arch arm64 -I"/Library/Frameworks/R.framework/Resources/include" -DNDEBUG  -I'/Library/Frameworks/R.framework/Versions/4.4-arm64/Resources/library/preprocessCore/include' -I/opt/R/arm64/include    -fPIC  -falign-functions=64 -Wall -g -O2  -c baseProfile.c -o baseProfile.o
clang -arch arm64 -I"/Library/Frameworks/R.framework/Resources/include" -DNDEBUG  -I'/Library/Frameworks/R.framework/Versions/4.4-arm64/Resources/library/preprocessCore/include' -I/opt/R/arm64/include    -fPIC  -falign-functions=64 -Wall -g -O2  -c basecontent.c -o basecontent.o
clang -arch arm64 -I"/Library/Frameworks/R.framework/Resources/include" -DNDEBUG  -I'/Library/Frameworks/R.framework/Versions/4.4-arm64/Resources/library/preprocessCore/include' -I/opt/R/arm64/include    -fPIC  -falign-functions=64 -Wall -g -O2  -c chipbackground.c -o chipbackground.o
clang -arch arm64 -I"/Library/Frameworks/R.framework/Resources/include" -DNDEBUG  -I'/Library/Frameworks/R.framework/Versions/4.4-arm64/Resources/library/preprocessCore/include' -I/opt/R/arm64/include    -fPIC  -falign-functions=64 -Wall -g -O2  -c mas5calls.c -o mas5calls.o
clang -arch arm64 -I"/Library/Frameworks/R.framework/Resources/include" -DNDEBUG  -I'/Library/Frameworks/R.framework/Versions/4.4-arm64/Resources/library/preprocessCore/include' -I/opt/R/arm64/include    -fPIC  -falign-functions=64 -Wall -g -O2  -c rma2.c -o rma2.o
clang -arch arm64 -I"/Library/Frameworks/R.framework/Resources/include" -DNDEBUG  -I'/Library/Frameworks/R.framework/Versions/4.4-arm64/Resources/library/preprocessCore/include' -I/opt/R/arm64/include    -fPIC  -falign-functions=64 -Wall -g -O2  -c rma_common.c -o rma_common.o
clang -arch arm64 -I"/Library/Frameworks/R.framework/Resources/include" -DNDEBUG  -I'/Library/Frameworks/R.framework/Versions/4.4-arm64/Resources/library/preprocessCore/include' -I/opt/R/arm64/include    -fPIC  -falign-functions=64 -Wall -g -O2  -c trimmed.c -o trimmed.o
trimmed.c:48:13: warning: variable 'n1' set but not used [-Wunused-but-set-variable]
  int i, j, n1, n2, n3;
            ^
trimmed.c:48:17: warning: variable 'n2' set but not used [-Wunused-but-set-variable]
  int i, j, n1, n2, n3;
                ^
trimmed.c:48:21: warning: variable 'n3' set but not used [-Wunused-but-set-variable]
  int i, j, n1, n2, n3;
                    ^
3 warnings generated.
clang -arch arm64 -dynamiclib -Wl,-headerpad_max_install_names -undefined dynamic_lookup -L/Library/Frameworks/R.framework/Resources/lib -L/opt/R/arm64/lib -o oligo.so DABG.o ParserGzXYS.o ParserXYS.o baseProfile.o basecontent.o chipbackground.o mas5calls.o rma2.o rma_common.o trimmed.o -lz -L/opt/gfortran/lib/gcc/aarch64-apple-darwin20.0/12.2.0 -L/opt/gfortran/lib -lgfortran -lemutls_w -lquadmath -L/Library/Frameworks/R.framework/Resources/lib -lRlapack -L/Library/Frameworks/R.framework/Resources/lib -lRblas -F/Library/Frameworks/R.framework/.. -framework R -Wl,-framework -Wl,CoreFoundation
installing to /Library/Frameworks/R.framework/Versions/4.4-arm64/Resources/library/00LOCK-oligo/00new/oligo/libs
** R
** inst
** byte-compile and prepare package for lazy loading
Note: in method for ‘pm<-’ with signature
‘object="TilingFeatureSet",subset="ANY",target="ANY",value="array"’:
expanding the signature to include omitted arguments in definition:
subset = "missing", target = "missing"
Note: in method for ‘mm<-’ with signature
‘object="TilingFeatureSet",subset="ANY",target="ANY",value="array"’:
expanding the signature to include omitted arguments in definition:
subset = "missing", target = "missing"
** help
*** installing help indices
** building package indices
** installing vignettes
** testing if installed package can be loaded from temporary location
** checking absolute paths in shared objects and dynamic libraries
** testing if installed package can be loaded from final location
** testing if installed package keeps a record of temporary installation path
* DONE (oligo)