| Back to Multiple platform build/check report for BioC 3.19: simplified long |
|
This page was generated on 2024-06-11 14:42 -0400 (Tue, 11 Jun 2024).
| Hostname | OS | Arch (*) | R version | Installed pkgs |
|---|---|---|---|---|
| nebbiolo1 | Linux (Ubuntu 22.04.3 LTS) | x86_64 | 4.4.0 (2024-04-24) -- "Puppy Cup" | 4757 |
| palomino3 | Windows Server 2022 Datacenter | x64 | 4.4.0 (2024-04-24 ucrt) -- "Puppy Cup" | 4491 |
| lconway | macOS 12.7.1 Monterey | x86_64 | 4.4.0 (2024-04-24) -- "Puppy Cup" | 4522 |
| kjohnson3 | macOS 13.6.5 Ventura | arm64 | 4.4.0 (2024-04-24) -- "Puppy Cup" | 4468 |
| Click on any hostname to see more info about the system (e.g. compilers) (*) as reported by 'uname -p', except on Windows and Mac OS X | ||||
| Package 1446/2300 | Hostname | OS / Arch | INSTALL | BUILD | CHECK | BUILD BIN | ||||||||
| nullranges 1.10.0 (landing page) Michael Love
| nebbiolo1 | Linux (Ubuntu 22.04.3 LTS) / x86_64 | OK | OK | OK | |||||||||
| palomino3 | Windows Server 2022 Datacenter / x64 | OK | OK | OK | OK | |||||||||
| lconway | macOS 12.7.1 Monterey / x86_64 | OK | OK | OK | OK | |||||||||
| kjohnson3 | macOS 13.6.5 Ventura / arm64 | OK | OK | OK | OK | |||||||||
|
To the developers/maintainers of the nullranges package: - Allow up to 24 hours (and sometimes 48 hours) for your latest push to git@git.bioconductor.org:packages/nullranges.git to reflect on this report. See Troubleshooting Build Report for more information. - Use the following Renviron settings to reproduce errors and warnings. - If 'R CMD check' started to fail recently on the Linux builder(s) over a missing dependency, add the missing dependency to 'Suggests:' in your DESCRIPTION file. See Renviron.bioc for more information. |
| Package: nullranges |
| Version: 1.10.0 |
| Command: /Library/Frameworks/R.framework/Resources/bin/R CMD check --install=check:nullranges.install-out.txt --library=/Library/Frameworks/R.framework/Resources/library --no-vignettes --timings nullranges_1.10.0.tar.gz |
| StartedAt: 2024-06-09 21:56:24 -0400 (Sun, 09 Jun 2024) |
| EndedAt: 2024-06-09 22:01:23 -0400 (Sun, 09 Jun 2024) |
| EllapsedTime: 299.3 seconds |
| RetCode: 0 |
| Status: OK |
| CheckDir: nullranges.Rcheck |
| Warnings: 0 |
##############################################################################
##############################################################################
###
### Running command:
###
### /Library/Frameworks/R.framework/Resources/bin/R CMD check --install=check:nullranges.install-out.txt --library=/Library/Frameworks/R.framework/Resources/library --no-vignettes --timings nullranges_1.10.0.tar.gz
###
##############################################################################
##############################################################################
* using log directory ‘/Users/biocbuild/bbs-3.19-bioc/meat/nullranges.Rcheck’
* using R version 4.4.0 (2024-04-24)
* using platform: x86_64-apple-darwin20
* R was compiled by
Apple clang version 14.0.0 (clang-1400.0.29.202)
GNU Fortran (GCC) 12.2.0
* running under: macOS Monterey 12.7.1
* using session charset: UTF-8
* using option ‘--no-vignettes’
* checking for file ‘nullranges/DESCRIPTION’ ... OK
* this is package ‘nullranges’ version ‘1.10.0’
* package encoding: UTF-8
* checking package namespace information ... OK
* checking package dependencies ... OK
* checking if this is a source package ... OK
* checking if there is a namespace ... OK
* checking for hidden files and directories ... OK
* checking for portable file names ... OK
* checking for sufficient/correct file permissions ... OK
* checking whether package ‘nullranges’ can be installed ... OK
* checking installed package size ... OK
* checking package directory ... OK
* checking ‘build’ directory ... OK
* checking DESCRIPTION meta-information ... OK
* checking top-level files ... OK
* checking for left-over files ... OK
* checking index information ... OK
* checking package subdirectories ... OK
* checking code files for non-ASCII characters ... OK
* checking R files for syntax errors ... OK
* checking whether the package can be loaded ... OK
* checking whether the package can be loaded with stated dependencies ... OK
* checking whether the package can be unloaded cleanly ... OK
* checking whether the namespace can be loaded with stated dependencies ... OK
* checking whether the namespace can be unloaded cleanly ... OK
* checking dependencies in R code ... OK
* checking S3 generic/method consistency ... OK
* checking replacement functions ... OK
* checking foreign function calls ... OK
* checking R code for possible problems ... OK
* checking Rd files ... NOTE
checkRd: (-1) MatchedDataFrame.Rd:68: Lost braces in \itemize; meant \describe ?
checkRd: (-1) MatchedDataFrame.Rd:69: Lost braces in \itemize; meant \describe ?
checkRd: (-1) MatchedDataFrame.Rd:70: Lost braces in \itemize; meant \describe ?
checkRd: (-1) MatchedDataFrame.Rd:71: Lost braces in \itemize; meant \describe ?
checkRd: (-1) MatchedDataFrame.Rd:72: Lost braces in \itemize; meant \describe ?
checkRd: (-1) MatchedDataFrame.Rd:83: Lost braces in \itemize; meant \describe ?
checkRd: (-1) MatchedDataFrame.Rd:84: Lost braces in \itemize; meant \describe ?
checkRd: (-1) MatchedDataFrame.Rd:85: Lost braces in \itemize; meant \describe ?
checkRd: (-1) MatchedDataFrame.Rd:86: Lost braces in \itemize; meant \describe ?
checkRd: (-1) MatchedGInteractions.Rd:68: Lost braces in \itemize; meant \describe ?
checkRd: (-1) MatchedGInteractions.Rd:69: Lost braces in \itemize; meant \describe ?
checkRd: (-1) MatchedGInteractions.Rd:70: Lost braces in \itemize; meant \describe ?
checkRd: (-1) MatchedGInteractions.Rd:71: Lost braces in \itemize; meant \describe ?
checkRd: (-1) MatchedGInteractions.Rd:72: Lost braces in \itemize; meant \describe ?
checkRd: (-1) MatchedGInteractions.Rd:83: Lost braces in \itemize; meant \describe ?
checkRd: (-1) MatchedGInteractions.Rd:84: Lost braces in \itemize; meant \describe ?
checkRd: (-1) MatchedGInteractions.Rd:85: Lost braces in \itemize; meant \describe ?
checkRd: (-1) MatchedGInteractions.Rd:86: Lost braces in \itemize; meant \describe ?
checkRd: (-1) MatchedGRanges.Rd:70: Lost braces in \itemize; meant \describe ?
checkRd: (-1) MatchedGRanges.Rd:71: Lost braces in \itemize; meant \describe ?
checkRd: (-1) MatchedGRanges.Rd:72: Lost braces in \itemize; meant \describe ?
checkRd: (-1) MatchedGRanges.Rd:73: Lost braces in \itemize; meant \describe ?
checkRd: (-1) MatchedGRanges.Rd:74: Lost braces in \itemize; meant \describe ?
checkRd: (-1) MatchedGRanges.Rd:85: Lost braces in \itemize; meant \describe ?
checkRd: (-1) MatchedGRanges.Rd:86: Lost braces in \itemize; meant \describe ?
checkRd: (-1) MatchedGRanges.Rd:87: Lost braces in \itemize; meant \describe ?
checkRd: (-1) MatchedGRanges.Rd:88: Lost braces in \itemize; meant \describe ?
checkRd: (-1) matchRanges.Rd:67-70: Lost braces in \itemize; meant \describe ?
checkRd: (-1) matchRanges.Rd:71-73: Lost braces in \itemize; meant \describe ?
checkRd: (-1) matchRanges.Rd:74-77: Lost braces in \itemize; meant \describe ?
checkRd: (-1) matchedClass.Rd:37: Lost braces in \itemize; meant \describe ?
checkRd: (-1) matchedClass.Rd:38: Lost braces in \itemize; meant \describe ?
checkRd: (-1) matchedClass.Rd:39: Lost braces in \itemize; meant \describe ?
checkRd: (-1) matchedClass.Rd:40: Lost braces in \itemize; meant \describe ?
checkRd: (-1) matchedClass.Rd:41: Lost braces in \itemize; meant \describe ?
checkRd: (-1) segmentDensity.Rd:28: Lost braces in \itemize; \value handles \item{}{} directly
checkRd: (-1) segmentDensity.Rd:29: Lost braces in \itemize; \value handles \item{}{} directly
* checking Rd metadata ... OK
* checking Rd cross-references ... OK
* checking for missing documentation entries ... OK
* checking for code/documentation mismatches ... OK
* checking Rd \usage sections ... OK
* checking Rd contents ... OK
* checking for unstated dependencies in examples ... OK
* checking files in ‘vignettes’ ... OK
* checking examples ... OK
* checking for unstated dependencies in ‘tests’ ... OK
* checking tests ...
Running ‘testthat.R’
OK
* checking for unstated dependencies in vignettes ... OK
* checking package vignettes ... OK
* checking running R code from vignettes ... SKIPPED
* checking re-building of vignette outputs ... SKIPPED
* checking PDF version of manual ... OK
* DONE
Status: 1 NOTE
See
‘/Users/biocbuild/bbs-3.19-bioc/meat/nullranges.Rcheck/00check.log’
for details.
nullranges.Rcheck/00install.out
############################################################################## ############################################################################## ### ### Running command: ### ### /Library/Frameworks/R.framework/Resources/bin/R CMD INSTALL nullranges ### ############################################################################## ############################################################################## * installing to library ‘/Library/Frameworks/R.framework/Versions/4.4-x86_64/Resources/library’ * installing *source* package ‘nullranges’ ... ** using staged installation ** R ** inst ** byte-compile and prepare package for lazy loading ** help *** installing help indices *** copying figures ** building package indices ** installing vignettes ** testing if installed package can be loaded from temporary location ** testing if installed package can be loaded from final location ** testing if installed package keeps a record of temporary installation path * DONE (nullranges)
nullranges.Rcheck/tests/testthat.Rout
R version 4.4.0 (2024-04-24) -- "Puppy Cup"
Copyright (C) 2024 The R Foundation for Statistical Computing
Platform: x86_64-apple-darwin20
R is free software and comes with ABSOLUTELY NO WARRANTY.
You are welcome to redistribute it under certain conditions.
Type 'license()' or 'licence()' for distribution details.
R is a collaborative project with many contributors.
Type 'contributors()' for more information and
'citation()' on how to cite R or R packages in publications.
Type 'demo()' for some demos, 'help()' for on-line help, or
'help.start()' for an HTML browser interface to help.
Type 'q()' to quit R.
> library(testthat)
> library(nullranges)
>
> test_check("nullranges")
[ FAIL 0 | WARN 0 | SKIP 0 | PASS 9 ]
>
> proc.time()
user system elapsed
18.487 0.782 19.328
nullranges.Rcheck/nullranges-Ex.timings
| name | user | system | elapsed | |
| MatchedDataFrame | 1.770 | 0.115 | 1.888 | |
| MatchedGInteractions | 0.577 | 0.029 | 0.607 | |
| MatchedGRanges | 1.307 | 0.048 | 1.357 | |
| bootRanges | 0.274 | 0.008 | 0.282 | |
| combnCov | 0.002 | 0.000 | 0.003 | |
| covariates | 0.109 | 0.009 | 0.119 | |
| focal | 0.152 | 0.021 | 0.174 | |
| indices | 0.127 | 0.020 | 0.147 | |
| makeExampleMatchedDataSet | 0.564 | 0.045 | 0.615 | |
| matchRanges | 1.264 | 0.108 | 1.375 | |
| matched | 0.128 | 0.011 | 0.139 | |
| matchedClass | 0.161 | 0.021 | 0.182 | |
| matchedData | 0.106 | 0.017 | 0.123 | |
| method | 0.093 | 0.010 | 0.104 | |
| oneRegionSegment | 0.441 | 0.056 | 0.862 | |
| overview | 0.137 | 0.005 | 0.142 | |
| plotCovariate | 3.120 | 0.141 | 3.270 | |
| plotPropensity | 1.366 | 0.040 | 1.411 | |
| plotSegment | 1.752 | 0.096 | 1.854 | |
| pool | 0.138 | 0.009 | 0.147 | |
| reduceSegment | 0.299 | 0.011 | 0.312 | |
| segmentDensity | 0.652 | 0.048 | 0.703 | |
| unmatched | 0.165 | 0.010 | 0.175 | |
| withReplacement | 0.161 | 0.018 | 0.179 | |