| Back to Multiple platform build/check report for BioC 3.19: simplified long |
|
This page was generated on 2024-06-11 14:44 -0400 (Tue, 11 Jun 2024).
| Hostname | OS | Arch (*) | R version | Installed pkgs |
|---|---|---|---|---|
| nebbiolo1 | Linux (Ubuntu 22.04.3 LTS) | x86_64 | 4.4.0 (2024-04-24) -- "Puppy Cup" | 4757 |
| palomino3 | Windows Server 2022 Datacenter | x64 | 4.4.0 (2024-04-24 ucrt) -- "Puppy Cup" | 4491 |
| lconway | macOS 12.7.1 Monterey | x86_64 | 4.4.0 (2024-04-24) -- "Puppy Cup" | 4522 |
| kjohnson3 | macOS 13.6.5 Ventura | arm64 | 4.4.0 (2024-04-24) -- "Puppy Cup" | 4468 |
| Click on any hostname to see more info about the system (e.g. compilers) (*) as reported by 'uname -p', except on Windows and Mac OS X | ||||
| Package 1357/2300 | Hostname | OS / Arch | INSTALL | BUILD | CHECK | BUILD BIN | ||||||||
| msPurity 1.30.1 (landing page) Thomas N. Lawson
| nebbiolo1 | Linux (Ubuntu 22.04.3 LTS) / x86_64 | OK | OK | OK | |||||||||
| palomino3 | Windows Server 2022 Datacenter / x64 | OK | TIMEOUT | skipped | skipped | |||||||||
| lconway | macOS 12.7.1 Monterey / x86_64 | OK | OK | OK | OK | |||||||||
| kjohnson3 | macOS 13.6.5 Ventura / arm64 | OK | OK | OK | OK | |||||||||
|
To the developers/maintainers of the msPurity package: - Allow up to 24 hours (and sometimes 48 hours) for your latest push to git@git.bioconductor.org:packages/msPurity.git to reflect on this report. See Troubleshooting Build Report for more information. - Use the following Renviron settings to reproduce errors and warnings. - If 'R CMD check' started to fail recently on the Linux builder(s) over a missing dependency, add the missing dependency to 'Suggests:' in your DESCRIPTION file. See Renviron.bioc for more information. |
| Package: msPurity |
| Version: 1.30.1 |
| Command: /Library/Frameworks/R.framework/Resources/bin/R CMD check --install=check:msPurity.install-out.txt --library=/Library/Frameworks/R.framework/Resources/library --no-vignettes --timings msPurity_1.30.1.tar.gz |
| StartedAt: 2024-06-10 23:05:52 -0400 (Mon, 10 Jun 2024) |
| EndedAt: 2024-06-10 23:23:18 -0400 (Mon, 10 Jun 2024) |
| EllapsedTime: 1046.2 seconds |
| RetCode: 0 |
| Status: OK |
| CheckDir: msPurity.Rcheck |
| Warnings: 0 |
##############################################################################
##############################################################################
###
### Running command:
###
### /Library/Frameworks/R.framework/Resources/bin/R CMD check --install=check:msPurity.install-out.txt --library=/Library/Frameworks/R.framework/Resources/library --no-vignettes --timings msPurity_1.30.1.tar.gz
###
##############################################################################
##############################################################################
* using log directory ‘/Users/biocbuild/bbs-3.19-bioc/meat/msPurity.Rcheck’
* using R version 4.4.0 (2024-04-24)
* using platform: aarch64-apple-darwin20
* R was compiled by
Apple clang version 14.0.0 (clang-1400.0.29.202)
GNU Fortran (GCC) 12.2.0
* running under: macOS Ventura 13.6.5
* using session charset: UTF-8
* using option ‘--no-vignettes’
* checking for file ‘msPurity/DESCRIPTION’ ... OK
* checking extension type ... Package
* this is package ‘msPurity’ version ‘1.30.1’
* package encoding: UTF-8
* checking package namespace information ... NOTE
Found export directive that requires package ‘methods’:
‘exportMethods’
Remove all such namespace directives (if obsolete) or ensure that the
DESCRIPTION Depends or Imports field contains ‘methods’.
* checking package dependencies ... OK
* checking if this is a source package ... OK
* checking if there is a namespace ... OK
* checking for hidden files and directories ... NOTE
Found the following hidden files and directories:
.travis.yml
These were most likely included in error. See section ‘Package
structure’ in the ‘Writing R Extensions’ manual.
* checking for portable file names ... OK
* checking for sufficient/correct file permissions ... OK
* checking whether package ‘msPurity’ can be installed ... OK
* checking installed package size ... NOTE
installed size is 19.6Mb
sub-directories of 1Mb or more:
extdata 18.8Mb
* checking package directory ... OK
* checking ‘build’ directory ... OK
* checking DESCRIPTION meta-information ... OK
* checking top-level files ... OK
* checking for left-over files ... OK
* checking index information ... OK
* checking package subdirectories ... OK
* checking code files for non-ASCII characters ... OK
* checking R files for syntax errors ... OK
* checking whether the package can be loaded ... OK
* checking whether the package can be loaded with stated dependencies ... OK
* checking whether the package can be unloaded cleanly ... OK
* checking whether the namespace can be loaded with stated dependencies ... OK
* checking whether the namespace can be unloaded cleanly ... OK
* checking dependencies in R code ... NOTE
Package in Depends field not imported from: ‘Rcpp’
These packages need to be imported from (in the NAMESPACE file)
for when this namespace is loaded but not attached.
package 'methods' is used but not declared
* checking S3 generic/method consistency ... OK
* checking replacement functions ... OK
* checking foreign function calls ... OK
* checking R code for possible problems ... NOTE
addGenericMS1LookupResults: no visible global function definition for
‘count.fields’
addMetFragResults: no visible global function definition for
‘count.fields’
addSiriusResults: no visible global function definition for
‘count.fields’
assessPuritySingle: no visible binding for global variable ‘parallel’
combineAnnotations: no visible binding for global variable
‘compoundDbname’
createDatabase: no visible global function definition for
‘featureValues’
create_database : getxcmsSetObject: no visible global function
definition for ‘sampclass<-’
dimsPredictPuritySingleMz: no visible binding for global variable
‘mtchi’
dimsPredictPuritySingleMz: no visible binding for global variable
‘alli’
dimsPredictPuritySingleMz: no visible binding for global variable
‘mtch’
filterPrecursors: no visible binding for global variable
‘l_speakmetaFiltered’
filterSMeta: no visible binding for global variable ‘accession’
filterSMeta: no visible binding for global variable ‘inPurity’
filterSMeta: no visible global function definition for ‘lower’
filterSMeta: no visible binding for global variable ‘polarity’
filterSMeta: no visible binding for global variable ‘instrument_type’
filterSMeta: no visible binding for global variable ‘instrument’
filterSMeta: no visible binding for global variable ‘name.y’
filterSMeta: no visible binding for global variable ‘retention_time’
filterSMeta: no visible binding for global variable ‘grpid’
filterSMeta: no visible binding for global variable ‘pid’
filterSMeta: no visible binding for global variable ‘spectrum_type’
flag_remove: no visible global function definition for
‘PeakDensityParam’
flag_remove: no visible global function definition for ‘chromPeaks<-’
flag_remove: no visible global function definition for ‘chromPeaks’
getScanPeaksSqlite: no visible binding for global variable ‘pid’
getScanPeaksSqlite: no visible binding for global variable
‘library_spectra_meta_id’
getScanPeaksSqlite: no visible binding for global variable ‘pass_flag’
getScanPeaksSqlite: no visible binding for global variable ‘type’
getScanPeaksSqlite: no visible binding for global variable
‘spectraType’
getScanPeaksSqlite: no visible binding for global variable ‘ra’
getSmeta: no visible binding for global variable ‘pid’
get_topn: no visible binding for global variable ‘topn’
matchi: no visible global function definition for ‘match_factor’
plotPurity: no visible binding for global variable ‘idx’
plotPurity: no visible binding for global variable ‘purity’
plotPurity: no visible binding for global variable ‘variable’
purityA: no visible binding for global variable ‘i’
queryVlibrary: no visible binding for global variable ‘precursor_mz’
queryVlibrary: no visible binding for global variable ‘retention_time’
queryVlibrarySingle: no visible binding for global variable ‘pid’
queryVlibrarySingle: no visible binding for global variable
‘library_spectra_meta_id’
sum_calc_peaklist: no visible global function definition for
‘phenoData’
averageSpectra,purityD: no visible binding for global variable ‘i’
subtract,purityD: no visible binding for global variable ‘i’
Undefined global functions or variables:
PeakDensityParam accession alli chromPeaks chromPeaks<-
compoundDbname count.fields featureValues grpid i idx inPurity
instrument instrument_type l_speakmetaFiltered
library_spectra_meta_id lower match_factor mtch mtchi name.y parallel
pass_flag phenoData pid polarity precursor_mz purity ra
retention_time sampclass<- spectraType spectrum_type topn type
variable
Consider adding
importFrom("utils", "count.fields")
to your NAMESPACE file.
* checking Rd files ... NOTE
checkRd: (-1) createMSP-purityA-method.Rd:25: Lost braces; missing escapes or markup?
25 | \item{msp_file_pth}{character; Name of the output msp file, if NULL the file "frag_spectra_{time stamp}.msp" will be created in the current directory}
| ^
* checking Rd metadata ... OK
* checking Rd cross-references ... OK
* checking for missing documentation entries ... OK
* checking for code/documentation mismatches ... OK
* checking Rd \usage sections ... OK
* checking Rd contents ... OK
* checking for unstated dependencies in examples ... OK
* checking files in ‘vignettes’ ... OK
* checking examples ... OK
Examples with CPU (user + system) or elapsed time > 5s
user system elapsed
createDatabase 195.714 5.761 208.795
frag4feature-purityA-method 174.092 5.479 184.965
flag_remove 41.014 5.286 32.271
dimsPredictPurity-purityD-method 35.793 1.378 50.854
purityX 28.992 1.947 35.695
combineAnnotations 10.450 0.653 14.197
groupPeaks-purityD-method 9.665 0.864 13.266
purityA 7.878 0.108 10.416
assessPuritySingle 7.667 0.110 9.591
spectralMatching 5.838 1.909 11.262
subtract-purityD-method 6.708 0.452 7.929
groupPeaksEx 4.774 0.447 6.635
averageSpectra-purityD-method 4.105 0.536 5.489
* checking for unstated dependencies in ‘tests’ ... OK
* checking tests ...
Running ‘testthat.R’
OK
* checking for unstated dependencies in vignettes ... OK
* checking package vignettes ... OK
* checking running R code from vignettes ... SKIPPED
* checking re-building of vignette outputs ... SKIPPED
* checking PDF version of manual ... OK
* DONE
Status: 6 NOTEs
See
‘/Users/biocbuild/bbs-3.19-bioc/meat/msPurity.Rcheck/00check.log’
for details.
msPurity.Rcheck/00install.out
############################################################################## ############################################################################## ### ### Running command: ### ### /Library/Frameworks/R.framework/Resources/bin/R CMD INSTALL msPurity ### ############################################################################## ############################################################################## * installing to library ‘/Library/Frameworks/R.framework/Versions/4.4-arm64/Resources/library’ * installing *source* package ‘msPurity’ ... ** using staged installation ** R ** inst ** byte-compile and prepare package for lazy loading ** help *** installing help indices ** building package indices ** installing vignettes ** testing if installed package can be loaded from temporary location ** testing if installed package can be loaded from final location ** testing if installed package keeps a record of temporary installation path * DONE (msPurity)
msPurity.Rcheck/tests/testthat.Rout
R version 4.4.0 (2024-04-24) -- "Puppy Cup"
Copyright (C) 2024 The R Foundation for Statistical Computing
Platform: aarch64-apple-darwin20
R is free software and comes with ABSOLUTELY NO WARRANTY.
You are welcome to redistribute it under certain conditions.
Type 'license()' or 'licence()' for distribution details.
R is a collaborative project with many contributors.
Type 'contributors()' for more information and
'citation()' on how to cite R or R packages in publications.
Type 'demo()' for some demos, 'help()' for on-line help, or
'help.start()' for an HTML browser interface to help.
Type 'q()' to quit R.
> library(testthat)
> library(msPurity)
Loading required package: Rcpp
> Sys.setenv("R_TESTS" = "")
> test_check("msPurity")
[1] "\n"
[1] "########################################################"
[1] "## Checking pcalc functions ##"
[1] "########################################################"
[1] "\n"
[1] "########################################################"
[1] "## Checking purityA ##"
[1] "########################################################"
[1] "\n"
[1] "########################################################"
[1] "## Checking frag4feature ##"
[1] "########################################################"
[1] "\n"
[1] "########################################################"
[1] "## Checking frag4feature (fillpeaks) ##"
[1] "########################################################"
[1] "/Library/Frameworks/R.framework/Versions/4.4-arm64/Resources/library/msPurity/extdata/tests/xcms/msms_only_xcmsnexp.rds"
[1] "/Library/Frameworks/R.framework/Versions/4.4-arm64/Resources/library/msPurity/extdata/tests/xcms/msms_only_xset.rds"
[1] "\n"
[1] "########################################################"
[1] "## Checking filterFragSpectra ##"
[1] "########################################################"
[1] "\n"
[1] "########################################################"
[1] "## Checking averageIntraFragSpectra ##"
[1] "########################################################"
[1] "\n"
[1] "########################################################"
[1] "## Checking averageInterFragSpectra ##"
[1] "########################################################"
[1] "\n"
[1] "########################################################"
[1] "## Checking averageAllFragSpectra ##"
[1] "########################################################"
[1] "\n"
[1] "########################################################"
[1] "## Checking averageIntraFragSpectra (with filter) ##"
[1] "########################################################"
[1] "\n"
[1] "########################################################"
[1] "## Checking averageInterFragSpectra (with filter) ##"
[1] "########################################################"
[1] "\n"
[1] "########################################################"
[1] "## Checking averageAllFragSpectra (with filter) ##"
[1] "########################################################"
[1] "\n"
[1] "########################################################"
[1] "## Checking createMSP functions ##"
[1] "########################################################"
[1] "\n"
[1] "########################################################"
[1] "## Checking frag4feature (xcms v2 functions) ##"
[1] "########################################################"
[1] "\n"
[1] "####################################################################"
[1] "## Checking frag4feature (fillpeaks) (xcms v2 functions) ##"
[1] "####################################################################"
[1] "\n"
[1] "########################################################"
[1] "## Checking filterFragSpectra (xcms v2 functions) ##"
[1] "########################################################"
[1] "\n"
[1] "##############################################################"
[1] "## Checking averageIntraFragSpectra (xcms v2 functions) ##"
[1] "##############################################################"
[1] "\n"
[1] "#############################################################"
[1] "## Checking averageInterFragSpectra (xcms v2 functions) #"
[1] "#############################################################"
[1] "\n"
[1] "########################################################"
[1] "## Checking averageAllFragSpectra (xcms v2 functions) #"
[1] "########################################################"
[1] "\n"
[1] "###########################################################################"
[1] "## Checking averageIntraFragSpectra (with filter) (xcms v2 functions) ##"
[1] "###########################################################################"
[1] "\n"
[1] "############################################################################"
[1] "## Checking averageInterFragSpectra (with filter) (xcms v2 functions) ##"
[1] "############################################################################"
[1] "\n"
[1] "#########################################################################"
[1] "## Checking averageAllFragSpectra (with filter) (xcms v2 functions) ##"
[1] "#########################################################################"
[1] "\n"
[1] "########################################################"
[1] "## Checking createMSP functions (xcms v2 functions) ##"
[1] "########################################################"
[1] "\n"
[1] "########################################################"
[1] "## checking flag and remove (lc-ms) ##"
[1] "########################################################"
[1] "\n"
[1] "#######################################################"
[1] "## Checking database (new schema) ##"
[1] "#######################################################"
[1] "\n"
[1] "###############################################################"
[1] "## Checking database (new schema) (xcms v2 functions) ##"
[1] "###############################################################"
[1] "\n"
[1] "########################################################"
[1] "## Checking database (old schema) ##"
[1] "########################################################"
2024-06-10 23:20:13.169 R[94745:38081827] XType: Using static font registry.
[1] "\n"
[1] "########################################################"
[1] "## Testing spectral matching (spectralMatching) qvl ##"
[1] "########################################################"
[1] "\n"
[1] "########################################################"
[1] "## Testing spectral matching (spectralMatching) lvl ##"
[1] "########################################################"
[1] "\n"
[1] "########################################################"
[1] "## Testing spectral matching (spectralMatching) qvq ##"
[1] "########################################################"
[1] "\n"
[1] "#################################################################"
[1] "## Testing spectral matching (spectralMatching) q(scan) v q ##"
[1] "#################################################################"
[1] "\n"
[1] "############################################################################"
[1] "## Testing spectral matching (spectralMatching) qvl (xcms v2 functions) ##"
[1] "############################################################################"
[1] "\n"
[1] "############################################################################"
[1] "## Testing spectral matching (spectralMatching) qvq (xcms v2 functions) ##"
[1] "############################################################################"
[1] "\n"
[1] "######################################################################################"
[1] "## Testing spectral matching (spectralMatching) q(scan) v q (xcms v2 functions) ##"
[1] "######################################################################################"
[1] "\n"
[1] "########################################################"
[1] "## Checking combine annotations based functions ##"
[1] "########################################################"
[1] "\n"
[1] "########################################################"
[1] "## Checking purityX (grouped) ##"
[1] "########################################################"
[1] "\n"
[1] "########################################################"
[1] "## Checking purityX (single file) ##"
[1] "########################################################"
[1] "\n"
[1] "########################################################"
[1] "## Checking file list function ##"
[1] "########################################################"
[1] "=== check for using csv ==="
[1] "=== check for using mzML ==="
[1] "########################################################"
[1] "## Check average spectra (function only) ##"
[1] "########################################################"
[1] "=== check single core ==="
[1] "=== check simple clustering ==="
[1] "=== check using MsFileReader output (median SNR thres) ==="
snmeth: median[1] "=== check using MsFileReader output (precalc SNR thres) ==="
snmeth: precalc[1] "########################################################"
[1] "## Check mz subtraction (function only) ##"
[1] "########################################################"
[1] "########################################################"
[1] "## Check predict purity (function only) ##"
[1] "########################################################"
[1] "=== Check predicted purity for mzML files ==="
[1] "########################################################"
[1] "## Check groupPeaks (function only) ##"
[1] "########################################################"
[1] "=== check single core ==="
[1] "########################################################"
[1] "## Check mzML Workflow ##"
[1] "########################################################"
[1] "averaging spectra"
[1] "filtering spectra"
[1] "subtracting"
[1] "purity prediction"
[ FAIL 0 | WARN 0 | SKIP 0 | PASS 306 ]
Warning message:
call dbDisconnect() when finished working with a connection
>
> proc.time()
user system elapsed
223.994 23.776 317.916
msPurity.Rcheck/msPurity-Ex.timings
| name | user | system | elapsed | |
| Getfiles | 0.002 | 0.001 | 0.009 | |
| assessPuritySingle | 7.667 | 0.110 | 9.591 | |
| averageAllFragSpectra-purityA-method | 0.174 | 0.004 | 0.269 | |
| averageInterFragSpectra-purityA-method | 0.612 | 0.013 | 0.968 | |
| averageIntraFragSpectra-purityA-method | 0.444 | 0.009 | 0.507 | |
| averageSpectra-purityD-method | 4.105 | 0.536 | 5.489 | |
| averageSpectraSingle | 1.556 | 0.185 | 1.829 | |
| combineAnnotations | 10.450 | 0.653 | 14.197 | |
| createDatabase | 195.714 | 5.761 | 208.795 | |
| createMSP-purityA-method | 0.096 | 0.020 | 0.122 | |
| create_database | 1.066 | 0.055 | 1.673 | |
| dimsPredictPurity-purityD-method | 35.793 | 1.378 | 50.854 | |
| dimsPredictPuritySingle | 0.037 | 0.002 | 0.054 | |
| filterFragSpectra-purityA-method | 0.070 | 0.002 | 0.098 | |
| filterp-purityD-method | 2.827 | 0.402 | 4.173 | |
| flag_remove | 41.014 | 5.286 | 32.271 | |
| frag4feature-purityA-method | 174.092 | 5.479 | 184.965 | |
| getP-purityD-method | 0.002 | 0.001 | 0.003 | |
| get_additional_mzml_meta | 0.020 | 0.002 | 0.033 | |
| groupPeaks-purityD-method | 9.665 | 0.864 | 13.266 | |
| groupPeaksEx | 4.774 | 0.447 | 6.635 | |
| initialize-purityD-method | 0.002 | 0.001 | 0.003 | |
| iwNormGauss | 0.001 | 0.001 | 0.001 | |
| iwNormQE.5 | 0.001 | 0.000 | 0.001 | |
| iwNormRcosine | 0.001 | 0.000 | 0.001 | |
| pcalc | 0.003 | 0.000 | 0.003 | |
| purityA | 7.878 | 0.108 | 10.416 | |
| purityD-class | 0.002 | 0.001 | 0.004 | |
| purityX | 28.992 | 1.947 | 35.695 | |
| spectralMatching | 5.838 | 1.909 | 11.262 | |
| spectral_matching | 0.001 | 0.000 | 0.000 | |
| subtract-purityD-method | 6.708 | 0.452 | 7.929 | |
| subtractMZ | 0.000 | 0.001 | 0.000 | |