| Back to Multiple platform build/check report for BioC 3.19: simplified long |
|
This page was generated on 2024-06-11 14:44 -0400 (Tue, 11 Jun 2024).
| Hostname | OS | Arch (*) | R version | Installed pkgs |
|---|---|---|---|---|
| nebbiolo1 | Linux (Ubuntu 22.04.3 LTS) | x86_64 | 4.4.0 (2024-04-24) -- "Puppy Cup" | 4757 |
| palomino3 | Windows Server 2022 Datacenter | x64 | 4.4.0 (2024-04-24 ucrt) -- "Puppy Cup" | 4491 |
| lconway | macOS 12.7.1 Monterey | x86_64 | 4.4.0 (2024-04-24) -- "Puppy Cup" | 4522 |
| kjohnson3 | macOS 13.6.5 Ventura | arm64 | 4.4.0 (2024-04-24) -- "Puppy Cup" | 4468 |
| Click on any hostname to see more info about the system (e.g. compilers) (*) as reported by 'uname -p', except on Windows and Mac OS X | ||||
| Package 1318/2300 | Hostname | OS / Arch | INSTALL | BUILD | CHECK | BUILD BIN | ||||||||
| monaLisa 1.10.0 (landing page) Michael Stadler
| nebbiolo1 | Linux (Ubuntu 22.04.3 LTS) / x86_64 | OK | OK | OK | |||||||||
| palomino3 | Windows Server 2022 Datacenter / x64 | OK | OK | OK | OK | |||||||||
| lconway | macOS 12.7.1 Monterey / x86_64 | OK | OK | OK | OK | |||||||||
| kjohnson3 | macOS 13.6.5 Ventura / arm64 | OK | OK | OK | OK | |||||||||
|
To the developers/maintainers of the monaLisa package: - Allow up to 24 hours (and sometimes 48 hours) for your latest push to git@git.bioconductor.org:packages/monaLisa.git to reflect on this report. See Troubleshooting Build Report for more information. - Use the following Renviron settings to reproduce errors and warnings. - If 'R CMD check' started to fail recently on the Linux builder(s) over a missing dependency, add the missing dependency to 'Suggests:' in your DESCRIPTION file. See Renviron.bioc for more information. |
| Package: monaLisa |
| Version: 1.10.0 |
| Command: /Library/Frameworks/R.framework/Resources/bin/R CMD check --install=check:monaLisa.install-out.txt --library=/Library/Frameworks/R.framework/Resources/library --no-vignettes --timings monaLisa_1.10.0.tar.gz |
| StartedAt: 2024-06-10 22:38:31 -0400 (Mon, 10 Jun 2024) |
| EndedAt: 2024-06-10 22:48:04 -0400 (Mon, 10 Jun 2024) |
| EllapsedTime: 572.9 seconds |
| RetCode: 0 |
| Status: OK |
| CheckDir: monaLisa.Rcheck |
| Warnings: 0 |
##############################################################################
##############################################################################
###
### Running command:
###
### /Library/Frameworks/R.framework/Resources/bin/R CMD check --install=check:monaLisa.install-out.txt --library=/Library/Frameworks/R.framework/Resources/library --no-vignettes --timings monaLisa_1.10.0.tar.gz
###
##############################################################################
##############################################################################
* using log directory ‘/Users/biocbuild/bbs-3.19-bioc/meat/monaLisa.Rcheck’
* using R version 4.4.0 (2024-04-24)
* using platform: aarch64-apple-darwin20
* R was compiled by
Apple clang version 14.0.0 (clang-1400.0.29.202)
GNU Fortran (GCC) 12.2.0
* running under: macOS Ventura 13.6.5
* using session charset: UTF-8
* using option ‘--no-vignettes’
* checking for file ‘monaLisa/DESCRIPTION’ ... OK
* checking extension type ... Package
* this is package ‘monaLisa’ version ‘1.10.0’
* package encoding: UTF-8
* checking package namespace information ... OK
* checking package dependencies ... OK
* checking if this is a source package ... OK
* checking if there is a namespace ... OK
* checking for hidden files and directories ... OK
* checking for portable file names ... OK
* checking for sufficient/correct file permissions ... OK
* checking whether package ‘monaLisa’ can be installed ... OK
* checking installed package size ... OK
* checking package directory ... OK
* checking ‘build’ directory ... OK
* checking DESCRIPTION meta-information ... OK
* checking top-level files ... OK
* checking for left-over files ... OK
* checking index information ... OK
* checking package subdirectories ... OK
* checking code files for non-ASCII characters ... OK
* checking R files for syntax errors ... OK
* checking whether the package can be loaded ... OK
* checking whether the package can be loaded with stated dependencies ... OK
* checking whether the package can be unloaded cleanly ... OK
* checking whether the namespace can be loaded with stated dependencies ... OK
* checking whether the namespace can be unloaded cleanly ... OK
* checking dependencies in R code ... OK
* checking S3 generic/method consistency ... OK
* checking replacement functions ... OK
* checking foreign function calls ... OK
* checking R code for possible problems ... OK
* checking Rd files ... NOTE
checkRd: (-1) calcBinnedKmerEnr.Rd:137-138: Lost braces in \itemize; meant \describe ?
checkRd: (-1) calcBinnedKmerEnr.Rd:139: Lost braces in \itemize; meant \describe ?
checkRd: (-1) calcBinnedKmerEnr.Rd:140-144: Lost braces in \itemize; meant \describe ?
checkRd: (-1) calcBinnedKmerEnr.Rd:145-154: Lost braces in \itemize; meant \describe ?
checkRd: (-1) calcBinnedKmerEnr.Rd:155-162: Lost braces in \itemize; meant \describe ?
checkRd: (-1) calcBinnedKmerEnr.Rd:181-184: Lost braces in \itemize; meant \describe ?
checkRd: (-1) calcBinnedKmerEnr.Rd:185-188: Lost braces in \itemize; meant \describe ?
checkRd: (-1) calcBinnedKmerEnr.Rd:105: Lost braces in \itemize; \value handles \item{}{} directly
checkRd: (-1) calcBinnedKmerEnr.Rd:106: Lost braces in \itemize; \value handles \item{}{} directly
checkRd: (-1) calcBinnedKmerEnr.Rd:107: Lost braces in \itemize; \value handles \item{}{} directly
checkRd: (-1) calcBinnedKmerEnr.Rd:108-109: Lost braces in \itemize; \value handles \item{}{} directly
checkRd: (-1) calcBinnedKmerEnr.Rd:110: Lost braces in \itemize; \value handles \item{}{} directly
checkRd: (-1) calcBinnedKmerEnr.Rd:111-112: Lost braces in \itemize; \value handles \item{}{} directly
checkRd: (-1) calcBinnedKmerEnr.Rd:113-114: Lost braces in \itemize; \value handles \item{}{} directly
checkRd: (-1) calcBinnedMotifEnrHomer.Rd:62: Lost braces in \itemize; \value handles \item{}{} directly
checkRd: (-1) calcBinnedMotifEnrHomer.Rd:63: Lost braces in \itemize; \value handles \item{}{} directly
checkRd: (-1) calcBinnedMotifEnrHomer.Rd:64: Lost braces in \itemize; \value handles \item{}{} directly
checkRd: (-1) calcBinnedMotifEnrHomer.Rd:65-66: Lost braces in \itemize; \value handles \item{}{} directly
checkRd: (-1) calcBinnedMotifEnrHomer.Rd:67: Lost braces in \itemize; \value handles \item{}{} directly
checkRd: (-1) calcBinnedMotifEnrHomer.Rd:68-69: Lost braces in \itemize; \value handles \item{}{} directly
checkRd: (-1) calcBinnedMotifEnrHomer.Rd:70-71: Lost braces in \itemize; \value handles \item{}{} directly
checkRd: (-1) calcBinnedMotifEnrR.Rd:130-131: Lost braces in \itemize; meant \describe ?
checkRd: (-1) calcBinnedMotifEnrR.Rd:132: Lost braces in \itemize; meant \describe ?
checkRd: (-1) calcBinnedMotifEnrR.Rd:133-137: Lost braces in \itemize; meant \describe ?
checkRd: (-1) calcBinnedMotifEnrR.Rd:138-147: Lost braces in \itemize; meant \describe ?
checkRd: (-1) calcBinnedMotifEnrR.Rd:166-169: Lost braces in \itemize; meant \describe ?
checkRd: (-1) calcBinnedMotifEnrR.Rd:170-173: Lost braces in \itemize; meant \describe ?
checkRd: (-1) calcBinnedMotifEnrR.Rd:96: Lost braces in \itemize; \value handles \item{}{} directly
checkRd: (-1) calcBinnedMotifEnrR.Rd:97: Lost braces in \itemize; \value handles \item{}{} directly
checkRd: (-1) calcBinnedMotifEnrR.Rd:98: Lost braces in \itemize; \value handles \item{}{} directly
checkRd: (-1) calcBinnedMotifEnrR.Rd:99-100: Lost braces in \itemize; \value handles \item{}{} directly
checkRd: (-1) calcBinnedMotifEnrR.Rd:101: Lost braces in \itemize; \value handles \item{}{} directly
checkRd: (-1) calcBinnedMotifEnrR.Rd:102-103: Lost braces in \itemize; \value handles \item{}{} directly
checkRd: (-1) calcBinnedMotifEnrR.Rd:104-105: Lost braces in \itemize; \value handles \item{}{} directly
checkRd: (-1) dot-calcKmerEnrichment.Rd:22: Lost braces in \itemize; \value handles \item{}{} directly
checkRd: (-1) dot-calcKmerEnrichment.Rd:23-25: Lost braces in \itemize; \value handles \item{}{} directly
checkRd: (-1) dot-calcKmerEnrichment.Rd:26-27: Lost braces in \itemize; \value handles \item{}{} directly
checkRd: (-1) dot-calcKmerEnrichment.Rd:28-29: Lost braces in \itemize; \value handles \item{}{} directly
checkRd: (-1) dot-calcKmerEnrichment.Rd:30-31: Lost braces in \itemize; \value handles \item{}{} directly
checkRd: (-1) dot-calcKmerEnrichment.Rd:32-33: Lost braces in \itemize; \value handles \item{}{} directly
checkRd: (-1) dot-calcMotifEnrichment.Rd:28: Lost braces in \itemize; \value handles \item{}{} directly
checkRd: (-1) dot-calcMotifEnrichment.Rd:29-31: Lost braces in \itemize; \value handles \item{}{} directly
checkRd: (-1) dot-calcMotifEnrichment.Rd:32-34: Lost braces in \itemize; \value handles \item{}{} directly
checkRd: (-1) dot-calcMotifEnrichment.Rd:35-37: Lost braces in \itemize; \value handles \item{}{} directly
checkRd: (-1) dot-calcMotifEnrichment.Rd:38-39: Lost braces in \itemize; \value handles \item{}{} directly
checkRd: (-1) dot-calcMotifEnrichment.Rd:40-41: Lost braces in \itemize; \value handles \item{}{} directly
checkRd: (-1) dot-checkDfValidity.Rd:13: Lost braces in \itemize; meant \describe ?
checkRd: (-1) dot-checkDfValidity.Rd:14-15: Lost braces in \itemize; meant \describe ?
checkRd: (-1) dot-checkDfValidity.Rd:16: Lost braces in \itemize; meant \describe ?
checkRd: (-1) dot-checkDfValidity.Rd:17: Lost braces in \itemize; meant \describe ?
checkRd: (-1) dot-checkDfValidity.Rd:18-19: Lost braces in \itemize; meant \describe ?
checkRd: (-1) dot-checkDfValidity.Rd:20-21: Lost braces in \itemize; meant \describe ?
checkRd: (-1) dot-iterativeNormForKmers.Rd:35-39: Lost braces in \itemize; \value handles \item{}{} directly
checkRd: (-1) dot-iterativeNormForKmers.Rd:39-40: Lost braces in \itemize; \value handles \item{}{} directly
checkRd: (-1) findMotifHits-methods.Rd:142-144: Lost braces in \itemize; meant \describe ?
checkRd: (-1) findMotifHits-methods.Rd:145: Lost braces in \itemize; meant \describe ?
checkRd: (-1) findMotifHits-methods.Rd:146: Lost braces in \itemize; meant \describe ?
checkRd: (-1) findMotifHits-methods.Rd:151-152: Lost braces in \itemize; meant \describe ?
checkRd: (-1) findMotifHits-methods.Rd:153: Lost braces in \itemize; meant \describe ?
checkRd: (-1) findMotifHits-methods.Rd:154: Lost braces in \itemize; meant \describe ?
checkRd: (-1) findMotifHits-methods.Rd:155-156: Lost braces in \itemize; meant \describe ?
checkRd: (-1) findMotifHits-methods.Rd:165: Lost braces in \itemize; meant \describe ?
checkRd: (-1) findMotifHits-methods.Rd:166: Lost braces in \itemize; meant \describe ?
checkRd: (-1) plotBinDiagnostics.Rd:37-38: Lost braces in \itemize; meant \describe ?
checkRd: (-1) plotBinDiagnostics.Rd:39-40: Lost braces in \itemize; meant \describe ?
checkRd: (-1) plotBinDiagnostics.Rd:41-45: Lost braces in \itemize; meant \describe ?
checkRd: (-1) randLassoStabSel.Rd:48-51: Lost braces in \itemize; \value handles \item{}{} directly
checkRd: (-1) randLassoStabSel.Rd:49: Lost braces in \itemize; \value handles \item{}{} directly
checkRd: (-1) randLassoStabSel.Rd:52-55: Lost braces in \itemize; \value handles \item{}{} directly
checkRd: (-1) randLassoStabSel.Rd:53: Lost braces in \itemize; \value handles \item{}{} directly
checkRd: (-1) randLassoStabSel.Rd:56-66: Lost braces in \itemize; \value handles \item{}{} directly
checkRd: (-1) randLassoStabSel.Rd:57-58: Lost braces in \itemize; \value handles \item{}{} directly
checkRd: (-1) randLassoStabSel.Rd:59-60: Lost braces in \itemize; \value handles \item{}{} directly
checkRd: (-1) randLassoStabSel.Rd:61-62: Lost braces in \itemize; \value handles \item{}{} directly
checkRd: (-1) randLassoStabSel.Rd:63-64: Lost braces in \itemize; \value handles \item{}{} directly
checkRd: (-1) randLassoStabSel.Rd:67-94: Lost braces in \itemize; \value handles \item{}{} directly
checkRd: (-1) randLassoStabSel.Rd:69-70: Lost braces in \itemize; \value handles \item{}{} directly
checkRd: (-1) randLassoStabSel.Rd:71-73: Lost braces in \itemize; \value handles \item{}{} directly
checkRd: (-1) randLassoStabSel.Rd:74-75: Lost braces in \itemize; \value handles \item{}{} directly
checkRd: (-1) randLassoStabSel.Rd:76-77: Lost braces in \itemize; \value handles \item{}{} directly
checkRd: (-1) randLassoStabSel.Rd:78-79: Lost braces in \itemize; \value handles \item{}{} directly
checkRd: (-1) randLassoStabSel.Rd:80-81: Lost braces in \itemize; \value handles \item{}{} directly
checkRd: (-1) randLassoStabSel.Rd:82-83: Lost braces in \itemize; \value handles \item{}{} directly
checkRd: (-1) randLassoStabSel.Rd:84-85: Lost braces in \itemize; \value handles \item{}{} directly
checkRd: (-1) randLassoStabSel.Rd:86-87: Lost braces in \itemize; \value handles \item{}{} directly
checkRd: (-1) randLassoStabSel.Rd:88-89: Lost braces in \itemize; \value handles \item{}{} directly
checkRd: (-1) randLassoStabSel.Rd:90: Lost braces in \itemize; \value handles \item{}{} directly
checkRd: (-1) randLassoStabSel.Rd:91-92: Lost braces in \itemize; \value handles \item{}{} directly
* checking Rd metadata ... OK
* checking Rd cross-references ... OK
* checking for missing documentation entries ... OK
* checking for code/documentation mismatches ... OK
* checking Rd \usage sections ... OK
* checking Rd contents ... OK
* checking for unstated dependencies in examples ... OK
* checking files in ‘vignettes’ ... OK
* checking examples ... OK
Examples with CPU (user + system) or elapsed time > 5s
user system elapsed
randLassoStabSel 4.960 1.803 5.363
plotMotifHeatmaps 4.244 0.081 5.472
* checking for unstated dependencies in ‘tests’ ... OK
* checking tests ...
Running ‘testthat.R’
OK
* checking for unstated dependencies in vignettes ... OK
* checking package vignettes ... OK
* checking running R code from vignettes ... SKIPPED
* checking re-building of vignette outputs ... SKIPPED
* checking PDF version of manual ... OK
* DONE
Status: 1 NOTE
See
‘/Users/biocbuild/bbs-3.19-bioc/meat/monaLisa.Rcheck/00check.log’
for details.
monaLisa.Rcheck/00install.out
############################################################################## ############################################################################## ### ### Running command: ### ### /Library/Frameworks/R.framework/Resources/bin/R CMD INSTALL monaLisa ### ############################################################################## ############################################################################## * installing to library ‘/Library/Frameworks/R.framework/Versions/4.4-arm64/Resources/library’ * installing *source* package ‘monaLisa’ ... ** using staged installation ** R ** inst ** byte-compile and prepare package for lazy loading ** help *** installing help indices *** copying figures ** building package indices ** installing vignettes ** testing if installed package can be loaded from temporary location ** testing if installed package can be loaded from final location ** testing if installed package keeps a record of temporary installation path * DONE (monaLisa)
monaLisa.Rcheck/tests/testthat.Rout
R version 4.4.0 (2024-04-24) -- "Puppy Cup"
Copyright (C) 2024 The R Foundation for Statistical Computing
Platform: aarch64-apple-darwin20
R is free software and comes with ABSOLUTELY NO WARRANTY.
You are welcome to redistribute it under certain conditions.
Type 'license()' or 'licence()' for distribution details.
R is a collaborative project with many contributors.
Type 'contributors()' for more information and
'citation()' on how to cite R or R packages in publications.
Type 'demo()' for some demos, 'help()' for on-line help, or
'help.start()' for an HTML browser interface to help.
Type 'q()' to quit R.
> library(testthat)
> library(monaLisa)
>
> test_check("monaLisa")
[ FAIL 0 | WARN 0 | SKIP 1 | PASS 539 ]
══ Skipped tests (1) ═══════════════════════════════════════════════════════════
• empty test (1): 'test_Homer.R:134:1'
[ FAIL 0 | WARN 0 | SKIP 1 | PASS 539 ]
>
> proc.time()
user system elapsed
55.796 4.435 78.141
monaLisa.Rcheck/monaLisa-Ex.timings
| name | user | system | elapsed | |
| annoSeqlogo | 0.403 | 0.018 | 0.577 | |
| bin | 0.008 | 0.003 | 0.018 | |
| calcBinnedKmerEnr | 2.315 | 0.035 | 2.653 | |
| calcBinnedMotifEnrHomer | 0.002 | 0.004 | 0.010 | |
| calcBinnedMotifEnrR | 0.644 | 0.064 | 0.751 | |
| dumpJaspar | 0.033 | 0.005 | 0.045 | |
| findHomer | 0.001 | 0.003 | 0.005 | |
| findMotifHits-methods | 0.308 | 0.018 | 0.409 | |
| getColsByBin | 0.004 | 0.000 | 0.005 | |
| getKmerFreq | 0.031 | 0.001 | 0.042 | |
| getSetZeroBin | 0.002 | 0.001 | 0.002 | |
| homerToPFMatrixList | 0.068 | 0.007 | 0.096 | |
| motifKmerSimilarity | 0.021 | 0.001 | 0.027 | |
| motifSimilarity | 0.008 | 0.001 | 0.013 | |
| parseHomerOutput | 0.012 | 0.002 | 0.019 | |
| plotBinDensity | 0.013 | 0.002 | 0.022 | |
| plotBinDiagnostics | 0.550 | 0.018 | 0.625 | |
| plotBinHist | 0.008 | 0.001 | 0.009 | |
| plotBinScatter | 0.005 | 0.001 | 0.006 | |
| plotMotifHeatmaps | 4.244 | 0.081 | 5.472 | |
| plotSelectionProb | 1.009 | 0.021 | 1.266 | |
| plotStabilityPaths | 0.710 | 0.017 | 0.872 | |
| prepareHomer | 0.065 | 0.010 | 0.117 | |
| randLassoStabSel | 4.960 | 1.803 | 5.363 | |
| sampleRandomRegions | 0.050 | 0.013 | 0.078 | |
| seqLogoGrob | 1.998 | 0.264 | 2.517 | |