| Back to Multiple platform build/check report for BioC 3.19: simplified long |
|
This page was generated on 2024-10-18 20:42 -0400 (Fri, 18 Oct 2024).
| Hostname | OS | Arch (*) | R version | Installed pkgs |
|---|---|---|---|---|
| nebbiolo1 | Linux (Ubuntu 22.04.3 LTS) | x86_64 | 4.4.1 (2024-06-14) -- "Race for Your Life" | 4763 |
| palomino7 | Windows Server 2022 Datacenter | x64 | 4.4.1 (2024-06-14 ucrt) -- "Race for Your Life" | 4500 |
| merida1 | macOS 12.7.5 Monterey | x86_64 | 4.4.1 (2024-06-14) -- "Race for Your Life" | 4530 |
| kjohnson1 | macOS 13.6.6 Ventura | arm64 | 4.4.1 (2024-06-14) -- "Race for Your Life" | 4480 |
| Click on any hostname to see more info about the system (e.g. compilers) (*) as reported by 'uname -p', except on Windows and Mac OS X | ||||
| Package 1315/2300 | Hostname | OS / Arch | INSTALL | BUILD | CHECK | BUILD BIN | ||||||||
| mogsa 1.38.0 (landing page) Chen Meng
| nebbiolo1 | Linux (Ubuntu 22.04.3 LTS) / x86_64 | OK | OK | OK | |||||||||
| palomino7 | Windows Server 2022 Datacenter / x64 | OK | OK | OK | OK | |||||||||
| merida1 | macOS 12.7.5 Monterey / x86_64 | OK | OK | OK | OK | |||||||||
| kjohnson1 | macOS 13.6.6 Ventura / arm64 | OK | OK | OK | OK | |||||||||
|
To the developers/maintainers of the mogsa package: - Allow up to 24 hours (and sometimes 48 hours) for your latest push to git@git.bioconductor.org:packages/mogsa.git to reflect on this report. See Troubleshooting Build Report for more information. - Use the following Renviron settings to reproduce errors and warnings. - If 'R CMD check' started to fail recently on the Linux builder(s) over a missing dependency, add the missing dependency to 'Suggests:' in your DESCRIPTION file. See Renviron.bioc for more information. |
| Package: mogsa |
| Version: 1.38.0 |
| Command: /Library/Frameworks/R.framework/Resources/bin/R CMD check --install=check:mogsa.install-out.txt --library=/Library/Frameworks/R.framework/Resources/library --no-vignettes --timings mogsa_1.38.0.tar.gz |
| StartedAt: 2024-10-18 04:39:05 -0400 (Fri, 18 Oct 2024) |
| EndedAt: 2024-10-18 04:42:09 -0400 (Fri, 18 Oct 2024) |
| EllapsedTime: 184.1 seconds |
| RetCode: 0 |
| Status: OK |
| CheckDir: mogsa.Rcheck |
| Warnings: 0 |
##############################################################################
##############################################################################
###
### Running command:
###
### /Library/Frameworks/R.framework/Resources/bin/R CMD check --install=check:mogsa.install-out.txt --library=/Library/Frameworks/R.framework/Resources/library --no-vignettes --timings mogsa_1.38.0.tar.gz
###
##############################################################################
##############################################################################
* using log directory ‘/Users/biocbuild/bbs-3.19-bioc/meat/mogsa.Rcheck’
* using R version 4.4.1 (2024-06-14)
* using platform: aarch64-apple-darwin20
* R was compiled by
Apple clang version 14.0.0 (clang-1400.0.29.202)
GNU Fortran (GCC) 12.2.0
* running under: macOS Ventura 13.6.6
* using session charset: UTF-8
* using option ‘--no-vignettes’
* checking for file ‘mogsa/DESCRIPTION’ ... OK
* checking extension type ... Package
* this is package ‘mogsa’ version ‘1.38.0’
* checking package namespace information ... OK
* checking package dependencies ... OK
* checking if this is a source package ... OK
* checking if there is a namespace ... OK
* checking for hidden files and directories ... OK
* checking for portable file names ... OK
* checking for sufficient/correct file permissions ... OK
* checking whether package ‘mogsa’ can be installed ... OK
* checking installed package size ... OK
* checking package directory ... OK
* checking ‘build’ directory ... OK
* checking DESCRIPTION meta-information ... OK
* checking top-level files ... OK
* checking for left-over files ... OK
* checking index information ... OK
* checking package subdirectories ... OK
* checking code files for non-ASCII characters ... OK
* checking R files for syntax errors ... OK
* checking whether the package can be loaded ... OK
* checking whether the package can be loaded with stated dependencies ... OK
* checking whether the package can be unloaded cleanly ... OK
* checking whether the namespace can be loaded with stated dependencies ... OK
* checking whether the namespace can be unloaded cleanly ... OK
* checking dependencies in R code ... OK
* checking S3 generic/method consistency ... OK
* checking replacement functions ... OK
* checking foreign function calls ... OK
* checking R code for possible problems ... OK
* checking Rd files ... NOTE
checkRd: (-1) GIS.Rd:57: Lost braces; missing escapes or markup?
57 | log2(var(GS_{-i})/var(GS))
| ^
checkRd: (-1) GIS.Rd:59: Lost braces; missing escapes or markup?
59 | where GS is the gene set score, and the GS_{-i} is a recalculate of
| ^
checkRd: (-1) GIS.Rd:65: Lost braces; missing escapes or markup?
65 | log2(F(GS_{-i})/F(GS))
| ^
checkRd: (-1) NCI60_4array_supdata.Rd:15: Escaped LaTeX specials: \$
checkRd: (-1) NCI60_4array_supdata.Rd:15-17: Lost braces in \itemize; meant \describe ?
checkRd: (-1) NCI60_4array_supdata.Rd:19: Escaped LaTeX specials: \$
checkRd: (-1) NCI60_4array_supdata.Rd:19-21: Lost braces in \itemize; meant \describe ?
checkRd: (-1) NCI60_4array_supdata.Rd:23: Escaped LaTeX specials: \$
checkRd: (-1) NCI60_4array_supdata.Rd:23-25: Lost braces in \itemize; meant \describe ?
checkRd: (-1) NCI60_4array_supdata.Rd:27: Escaped LaTeX specials: \$
checkRd: (-1) NCI60_4array_supdata.Rd:27-29: Lost braces in \itemize; meant \describe ?
checkRd: (-1) NCI60_4arrays.Rd:21: Escaped LaTeX specials: \$
checkRd: (-1) NCI60_4arrays.Rd:21-23: Lost braces in \itemize; meant \describe ?
checkRd: (-1) NCI60_4arrays.Rd:25: Escaped LaTeX specials: \$
checkRd: (-1) NCI60_4arrays.Rd:25-27: Lost braces in \itemize; meant \describe ?
checkRd: (-1) NCI60_4arrays.Rd:29: Escaped LaTeX specials: \$
checkRd: (-1) NCI60_4arrays.Rd:29-31: Lost braces in \itemize; meant \describe ?
checkRd: (-1) NCI60_4arrays.Rd:33: Escaped LaTeX specials: \$
checkRd: (-1) NCI60_4arrays.Rd:33-35: Lost braces in \itemize; meant \describe ?
checkRd: (-1) mgsa-class.Rd:22-24: Lost braces
22 | \item{combine}{\code{signature(x = "mgsa", y = "mgsa")}}{
| ^
* checking Rd metadata ... OK
* checking Rd cross-references ... OK
* checking for missing documentation entries ... OK
* checking for code/documentation mismatches ... OK
* checking Rd \usage sections ... OK
* checking Rd contents ... OK
* checking for unstated dependencies in examples ... OK
* checking contents of ‘data’ directory ... OK
* checking data for non-ASCII characters ... OK
* checking data for ASCII and uncompressed saves ... OK
* checking sizes of PDF files under ‘inst/doc’ ... OK
* checking files in ‘vignettes’ ... OK
* checking examples ... OK
Examples with CPU (user + system) or elapsed time > 5s
user system elapsed
prepSupMoa 5.329 0.186 5.622
* checking for unstated dependencies in vignettes ... OK
* checking package vignettes ... OK
* checking running R code from vignettes ... SKIPPED
* checking re-building of vignette outputs ... SKIPPED
* checking PDF version of manual ... OK
* DONE
Status: 1 NOTE
See
‘/Users/biocbuild/bbs-3.19-bioc/meat/mogsa.Rcheck/00check.log’
for details.
mogsa.Rcheck/00install.out
############################################################################## ############################################################################## ### ### Running command: ### ### /Library/Frameworks/R.framework/Resources/bin/R CMD INSTALL mogsa ### ############################################################################## ############################################################################## * installing to library ‘/Library/Frameworks/R.framework/Versions/4.4-arm64/Resources/library’ * installing *source* package ‘mogsa’ ... ** using staged installation ** R ** data ** inst ** byte-compile and prepare package for lazy loading ** help *** installing help indices ** building package indices ** installing vignettes ** testing if installed package can be loaded from temporary location ** testing if installed package can be loaded from final location ** testing if installed package keeps a record of temporary installation path * DONE (mogsa)
mogsa.Rcheck/mogsa-Ex.timings
| name | user | system | elapsed | |
| GIS | 0.850 | 0.124 | 0.982 | |
| annotate.gs | 0.143 | 0.020 | 0.164 | |
| bootMbpca | 0 | 0 | 0 | |
| bootMoa | 0 | 0 | 0 | |
| box.gs.feature | 0.225 | 0.017 | 0.245 | |
| combine-methods | 0.265 | 0.024 | 0.292 | |
| decompose.gs.group | 0.725 | 0.019 | 0.753 | |
| decompose.gs.ind | 0.144 | 0.014 | 0.157 | |
| distMoa | 0.320 | 0.015 | 0.340 | |
| getmgsa | 0.149 | 0.014 | 0.163 | |
| matpower | 0.001 | 0.000 | 0.001 | |
| mbpca | 2.690 | 0.096 | 2.847 | |
| mgsa-class | 0.192 | 0.021 | 0.214 | |
| moGap | 2.270 | 0.069 | 2.440 | |
| moa-class | 0.104 | 0.006 | 0.112 | |
| moa | 0.977 | 0.063 | 1.051 | |
| moa.sup-class | 0.125 | 0.008 | 0.134 | |
| moaCoef | 0.331 | 0.014 | 0.370 | |
| moaScore | 0.336 | 0.014 | 0.351 | |
| mogsa-package | 0.269 | 0.027 | 0.298 | |
| mogsa | 0.386 | 0.031 | 0.417 | |
| pairwise.rv | 0.017 | 0.002 | 0.019 | |
| plotGS | 0.156 | 0.017 | 0.177 | |
| prepGraphite | 0.334 | 0.007 | 0.342 | |
| prepMsigDB | 0.003 | 0.001 | 0.004 | |
| prepSupMoa | 5.329 | 0.186 | 5.622 | |
| softK | 0.000 | 0.001 | 0.000 | |
| sup.moa | 0.325 | 0.026 | 0.361 | |
| wsvd | 0.002 | 0.000 | 0.001 | |