| Back to Multiple platform build/check report for BioC 3.19: simplified long |
|
This page was generated on 2024-06-11 14:42 -0400 (Tue, 11 Jun 2024).
| Hostname | OS | Arch (*) | R version | Installed pkgs |
|---|---|---|---|---|
| nebbiolo1 | Linux (Ubuntu 22.04.3 LTS) | x86_64 | 4.4.0 (2024-04-24) -- "Puppy Cup" | 4757 |
| palomino3 | Windows Server 2022 Datacenter | x64 | 4.4.0 (2024-04-24 ucrt) -- "Puppy Cup" | 4491 |
| lconway | macOS 12.7.1 Monterey | x86_64 | 4.4.0 (2024-04-24) -- "Puppy Cup" | 4522 |
| kjohnson3 | macOS 13.6.5 Ventura | arm64 | 4.4.0 (2024-04-24) -- "Puppy Cup" | 4468 |
| Click on any hostname to see more info about the system (e.g. compilers) (*) as reported by 'uname -p', except on Windows and Mac OS X | ||||
| Package 1299/2300 | Hostname | OS / Arch | INSTALL | BUILD | CHECK | BUILD BIN | ||||||||
| mixOmics 6.28.0 (landing page) Max Bladen
| nebbiolo1 | Linux (Ubuntu 22.04.3 LTS) / x86_64 | OK | OK | OK | |||||||||
| palomino3 | Windows Server 2022 Datacenter / x64 | OK | OK | OK | OK | |||||||||
| lconway | macOS 12.7.1 Monterey / x86_64 | OK | OK | OK | OK | |||||||||
| kjohnson3 | macOS 13.6.5 Ventura / arm64 | OK | OK | OK | OK | |||||||||
|
To the developers/maintainers of the mixOmics package: - Allow up to 24 hours (and sometimes 48 hours) for your latest push to git@git.bioconductor.org:packages/mixOmics.git to reflect on this report. See Troubleshooting Build Report for more information. - Use the following Renviron settings to reproduce errors and warnings. - If 'R CMD check' started to fail recently on the Linux builder(s) over a missing dependency, add the missing dependency to 'Suggests:' in your DESCRIPTION file. See Renviron.bioc for more information. |
| Package: mixOmics |
| Version: 6.28.0 |
| Command: /Library/Frameworks/R.framework/Resources/bin/R CMD check --install=check:mixOmics.install-out.txt --library=/Library/Frameworks/R.framework/Resources/library --no-vignettes --timings mixOmics_6.28.0.tar.gz |
| StartedAt: 2024-06-09 21:36:07 -0400 (Sun, 09 Jun 2024) |
| EndedAt: 2024-06-09 21:42:32 -0400 (Sun, 09 Jun 2024) |
| EllapsedTime: 385.7 seconds |
| RetCode: 0 |
| Status: OK |
| CheckDir: mixOmics.Rcheck |
| Warnings: 0 |
##############################################################################
##############################################################################
###
### Running command:
###
### /Library/Frameworks/R.framework/Resources/bin/R CMD check --install=check:mixOmics.install-out.txt --library=/Library/Frameworks/R.framework/Resources/library --no-vignettes --timings mixOmics_6.28.0.tar.gz
###
##############################################################################
##############################################################################
* using log directory ‘/Users/biocbuild/bbs-3.19-bioc/meat/mixOmics.Rcheck’
* using R version 4.4.0 (2024-04-24)
* using platform: x86_64-apple-darwin20
* R was compiled by
Apple clang version 14.0.0 (clang-1400.0.29.202)
GNU Fortran (GCC) 12.2.0
* running under: macOS Monterey 12.7.1
* using session charset: UTF-8
* using option ‘--no-vignettes’
* checking for file ‘mixOmics/DESCRIPTION’ ... OK
* checking extension type ... Package
* this is package ‘mixOmics’ version ‘6.28.0’
* package encoding: UTF-8
* checking package namespace information ... OK
* checking package dependencies ... OK
* checking if this is a source package ... OK
* checking if there is a namespace ... OK
* checking for hidden files and directories ... OK
* checking for portable file names ... OK
* checking for sufficient/correct file permissions ... OK
* checking whether package ‘mixOmics’ can be installed ... OK
* checking installed package size ... NOTE
installed size is 8.1Mb
sub-directories of 1Mb or more:
R 1.4Mb
data 3.3Mb
doc 1.9Mb
* checking package directory ... OK
* checking DESCRIPTION meta-information ... OK
* checking top-level files ... OK
* checking for left-over files ... OK
* checking index information ... OK
* checking package subdirectories ... OK
* checking code files for non-ASCII characters ... OK
* checking R files for syntax errors ... OK
* checking whether the package can be loaded ... OK
* checking whether the package can be loaded with stated dependencies ... OK
* checking whether the package can be unloaded cleanly ... OK
* checking whether the namespace can be loaded with stated dependencies ... OK
* checking whether the namespace can be unloaded cleanly ... OK
* checking whether startup messages can be suppressed ... OK
* checking dependencies in R code ... OK
* checking S3 generic/method consistency ... OK
* checking replacement functions ... OK
* checking foreign function calls ... OK
* checking R code for possible problems ... OK
* checking Rd files ... OK
* checking Rd metadata ... OK
* checking Rd cross-references ... OK
* checking for missing documentation entries ... OK
* checking for code/documentation mismatches ... OK
* checking Rd \usage sections ... OK
* checking Rd contents ... OK
* checking for unstated dependencies in examples ... OK
* checking contents of ‘data’ directory ... OK
* checking data for non-ASCII characters ... OK
* checking data for ASCII and uncompressed saves ... OK
* checking installed files from ‘inst/doc’ ... OK
* checking files in ‘vignettes’ ... OK
* checking examples ... OK
Examples with CPU (user + system) or elapsed time > 5s
user system elapsed
biplot 10.708 0.075 10.808
background.predict 7.636 1.625 9.350
block.splsda 7.054 0.102 7.175
circosPlot 6.731 0.086 6.837
block.spls 5.683 0.079 5.778
* checking for unstated dependencies in ‘tests’ ... OK
* checking tests ...
Running ‘testthat.R’
OK
* checking for unstated dependencies in vignettes ... OK
* checking package vignettes ... OK
* checking running R code from vignettes ... SKIPPED
* checking re-building of vignette outputs ... SKIPPED
* checking PDF version of manual ... OK
* DONE
Status: 1 NOTE
See
‘/Users/biocbuild/bbs-3.19-bioc/meat/mixOmics.Rcheck/00check.log’
for details.
mixOmics.Rcheck/00install.out
############################################################################## ############################################################################## ### ### Running command: ### ### /Library/Frameworks/R.framework/Resources/bin/R CMD INSTALL mixOmics ### ############################################################################## ############################################################################## * installing to library ‘/Library/Frameworks/R.framework/Versions/4.4-x86_64/Resources/library’ * installing *source* package ‘mixOmics’ ... ** using staged installation ** R ** data ** inst ** byte-compile and prepare package for lazy loading ** help *** installing help indices ** building package indices ** installing vignettes ** testing if installed package can be loaded from temporary location ** testing if installed package can be loaded from final location ** testing if installed package keeps a record of temporary installation path * DONE (mixOmics)
mixOmics.Rcheck/tests/testthat.Rout
R version 4.4.0 (2024-04-24) -- "Puppy Cup"
Copyright (C) 2024 The R Foundation for Statistical Computing
Platform: x86_64-apple-darwin20
R is free software and comes with ABSOLUTELY NO WARRANTY.
You are welcome to redistribute it under certain conditions.
Type 'license()' or 'licence()' for distribution details.
R is a collaborative project with many contributors.
Type 'contributors()' for more information and
'citation()' on how to cite R or R packages in publications.
Type 'demo()' for some demos, 'help()' for on-line help, or
'help.start()' for an HTML browser interface to help.
Type 'q()' to quit R.
> library(testthat)
> library(mixOmics)
Loading required package: MASS
Loading required package: lattice
Loading required package: ggplot2
Loaded mixOmics 6.28.0
Thank you for using mixOmics!
Tutorials: http://mixomics.org
Bookdown vignette: https://mixomicsteam.github.io/Bookdown
Questions, issues: Follow the prompts at http://mixomics.org/contact-us
Cite us: citation('mixOmics')
>
> test_check("mixOmics")
2024-06-09 21:40:01.269 R[40186:33809038] XType: com.apple.fonts is not accessible.
2024-06-09 21:40:01.269 R[40186:33809038] XType: XTFontStaticRegistry is enabled.
[ FAIL 0 | WARN 4 | SKIP 0 | PASS 236 ]
[ FAIL 0 | WARN 4 | SKIP 0 | PASS 236 ]
Warning messages:
1: closing unused connection 6 (<-localhost:11386)
2: closing unused connection 5 (<-localhost:11386)
>
> proc.time()
user system elapsed
109.441 5.187 148.193
mixOmics.Rcheck/mixOmics-Ex.timings
| name | user | system | elapsed | |
| S3methods-print | 0.014 | 0.004 | 0.017 | |
| auroc | 1.040 | 0.046 | 1.088 | |
| background.predict | 7.636 | 1.625 | 9.350 | |
| biplot | 10.708 | 0.075 | 10.808 | |
| block.pls | 0.547 | 0.008 | 0.556 | |
| block.plsda | 0.669 | 0.007 | 0.679 | |
| block.spls | 5.683 | 0.079 | 5.778 | |
| block.splsda | 7.054 | 0.102 | 7.175 | |
| cim | 0.041 | 0.007 | 0.047 | |
| cimDiablo | 0.265 | 0.011 | 0.278 | |
| circosPlot | 6.731 | 0.086 | 6.837 | |
| colors | 0.035 | 0.003 | 0.038 | |
| explained_variance | 0.095 | 0.006 | 0.101 | |
| get.confusion_matrix | 0.213 | 0.027 | 0.241 | |
| image.tune.rcc | 2.131 | 0.071 | 2.208 | |
| imgCor | 0.077 | 0.011 | 0.089 | |
| impute.nipals | 0.012 | 0.003 | 0.016 | |
| ipca | 1.080 | 0.037 | 1.120 | |
| logratio-transformations | 0.045 | 0.003 | 0.048 | |
| map | 0.003 | 0.003 | 0.007 | |
| mat.rank | 0.001 | 0.000 | 0.002 | |
| mint.block.pls | 0.127 | 0.011 | 0.140 | |
| mint.block.plsda | 0.113 | 0.004 | 0.117 | |
| mint.block.spls | 0.163 | 0.008 | 0.172 | |
| mint.block.splsda | 0.127 | 0.003 | 0.131 | |
| mint.pca | 0.407 | 0.009 | 0.417 | |
| mint.pls | 0.565 | 0.005 | 0.572 | |
| mint.plsda | 0.627 | 0.008 | 0.638 | |
| mint.spls | 0.490 | 0.014 | 0.505 | |
| mint.splsda | 0.734 | 0.007 | 0.743 | |
| mixOmics | 0.301 | 0.019 | 0.321 | |
| nearZeroVar | 0.714 | 0.037 | 0.755 | |
| network | 0.014 | 0.005 | 0.018 | |
| pca | 4.533 | 0.041 | 4.585 | |
| perf | 2.492 | 0.154 | 2.653 | |
| plot.rcc | 0.014 | 0.006 | 0.020 | |
| plot.tune | 0.000 | 0.001 | 0.002 | |
| plotArrow | 4.149 | 0.080 | 4.245 | |
| plotDiablo | 0.172 | 0.007 | 0.181 | |
| plotIndiv | 0.386 | 0.009 | 0.397 | |
| plotLoadings | 0.101 | 0.008 | 0.110 | |
| plotMarkers | 0 | 0 | 0 | |
| plotVar | 0.601 | 0.013 | 0.616 | |
| pls | 0.008 | 0.002 | 0.009 | |
| plsda | 0.400 | 0.005 | 0.405 | |
| predict | 0.181 | 0.006 | 0.188 | |
| rcc | 0.003 | 0.002 | 0.005 | |
| selectVar | 0.424 | 0.046 | 0.473 | |
| sipca | 0.538 | 0.029 | 0.568 | |
| spca | 3.472 | 0.142 | 3.642 | |
| spls | 0.201 | 0.019 | 0.223 | |
| splsda | 0.361 | 0.005 | 0.366 | |
| study_split | 0.006 | 0.002 | 0.008 | |
| summary | 0.019 | 0.003 | 0.022 | |
| tune | 4.209 | 0.493 | 4.765 | |
| tune.block.splsda | 0.000 | 0.001 | 0.001 | |
| tune.mint.splsda | 2.461 | 0.109 | 2.595 | |
| tune.pca | 0.195 | 0.009 | 0.205 | |
| tune.rcc | 2.170 | 0.124 | 2.298 | |
| tune.spca | 0.719 | 0.053 | 0.851 | |
| tune.spls | 0.000 | 0.001 | 0.001 | |
| tune.splsda | 4.339 | 0.453 | 4.830 | |
| tune.splslevel | 0.806 | 0.039 | 0.847 | |
| unmap | 0.003 | 0.005 | 0.008 | |
| vip | 0.010 | 0.003 | 0.013 | |
| withinVariation | 1.030 | 0.008 | 1.039 | |
| wrapper.rgcca | 0.068 | 0.003 | 0.071 | |
| wrapper.sgcca | 0.132 | 0.010 | 0.146 | |