| Back to Multiple platform build/check report for BioC 3.19: simplified long |
|
This page was generated on 2024-06-11 14:42 -0400 (Tue, 11 Jun 2024).
| Hostname | OS | Arch (*) | R version | Installed pkgs |
|---|---|---|---|---|
| nebbiolo1 | Linux (Ubuntu 22.04.3 LTS) | x86_64 | 4.4.0 (2024-04-24) -- "Puppy Cup" | 4757 |
| palomino3 | Windows Server 2022 Datacenter | x64 | 4.4.0 (2024-04-24 ucrt) -- "Puppy Cup" | 4491 |
| lconway | macOS 12.7.1 Monterey | x86_64 | 4.4.0 (2024-04-24) -- "Puppy Cup" | 4522 |
| kjohnson3 | macOS 13.6.5 Ventura | arm64 | 4.4.0 (2024-04-24) -- "Puppy Cup" | 4468 |
| Click on any hostname to see more info about the system (e.g. compilers) (*) as reported by 'uname -p', except on Windows and Mac OS X | ||||
| Package 1276/2300 | Hostname | OS / Arch | INSTALL | BUILD | CHECK | BUILD BIN | ||||||||
| minfi 1.50.0 (landing page) Kasper Daniel Hansen
| nebbiolo1 | Linux (Ubuntu 22.04.3 LTS) / x86_64 | OK | OK | OK | |||||||||
| palomino3 | Windows Server 2022 Datacenter / x64 | OK | OK | OK | OK | |||||||||
| lconway | macOS 12.7.1 Monterey / x86_64 | OK | OK | OK | OK | |||||||||
| kjohnson3 | macOS 13.6.5 Ventura / arm64 | OK | OK | OK | OK | |||||||||
|
To the developers/maintainers of the minfi package: - Allow up to 24 hours (and sometimes 48 hours) for your latest push to git@git.bioconductor.org:packages/minfi.git to reflect on this report. See Troubleshooting Build Report for more information. - Use the following Renviron settings to reproduce errors and warnings. - If 'R CMD check' started to fail recently on the Linux builder(s) over a missing dependency, add the missing dependency to 'Suggests:' in your DESCRIPTION file. See Renviron.bioc for more information. |
| Package: minfi |
| Version: 1.50.0 |
| Command: /Library/Frameworks/R.framework/Resources/bin/R CMD check --install=check:minfi.install-out.txt --library=/Library/Frameworks/R.framework/Resources/library --no-vignettes --timings minfi_1.50.0.tar.gz |
| StartedAt: 2024-06-09 21:33:07 -0400 (Sun, 09 Jun 2024) |
| EndedAt: 2024-06-09 21:41:44 -0400 (Sun, 09 Jun 2024) |
| EllapsedTime: 516.8 seconds |
| RetCode: 0 |
| Status: OK |
| CheckDir: minfi.Rcheck |
| Warnings: 0 |
##############################################################################
##############################################################################
###
### Running command:
###
### /Library/Frameworks/R.framework/Resources/bin/R CMD check --install=check:minfi.install-out.txt --library=/Library/Frameworks/R.framework/Resources/library --no-vignettes --timings minfi_1.50.0.tar.gz
###
##############################################################################
##############################################################################
* using log directory ‘/Users/biocbuild/bbs-3.19-bioc/meat/minfi.Rcheck’
* using R version 4.4.0 (2024-04-24)
* using platform: x86_64-apple-darwin20
* R was compiled by
Apple clang version 14.0.0 (clang-1400.0.29.202)
GNU Fortran (GCC) 12.2.0
* running under: macOS Monterey 12.7.1
* using session charset: UTF-8
* using option ‘--no-vignettes’
* checking for file ‘minfi/DESCRIPTION’ ... OK
* this is package ‘minfi’ version ‘1.50.0’
* checking package namespace information ... OK
* checking package dependencies ... OK
* checking if this is a source package ... OK
* checking if there is a namespace ... OK
* checking for hidden files and directories ... OK
* checking for portable file names ... OK
* checking for sufficient/correct file permissions ... OK
* checking whether package ‘minfi’ can be installed ... OK
* checking installed package size ... OK
* checking package directory ... OK
* checking ‘build’ directory ... OK
* checking DESCRIPTION meta-information ... OK
* checking top-level files ... OK
* checking for left-over files ... OK
* checking index information ... OK
* checking package subdirectories ... OK
* checking code files for non-ASCII characters ... OK
* checking R files for syntax errors ... OK
* checking whether the package can be loaded ... OK
* checking whether the package can be loaded with stated dependencies ... OK
* checking whether the package can be unloaded cleanly ... OK
* checking whether the namespace can be loaded with stated dependencies ... OK
* checking whether the namespace can be unloaded cleanly ... OK
* checking dependencies in R code ... NOTE
Unexported objects imported by ':::' calls:
‘DelayedArray:::get_verbose_block_processing’
‘DelayedArray:::normarg_grid’ ‘bumphunter:::.getEstimate’
See the note in ?`:::` about the use of this operator.
There are ::: calls to the package's namespace in its code. A package
almost never needs to use ::: for its own objects:
‘.guessArrayTypes’
* checking S3 generic/method consistency ... OK
* checking replacement functions ... OK
* checking foreign function calls ... OK
* checking R code for possible problems ... NOTE
Found the following possibly unsafe calls:
File ‘minfi/R/IlluminaMethylationManifest-class.R’:
unlockBinding(name, env = object@data)
* checking Rd files ... NOTE
checkRd: (-1) gaphunter.Rd:19: Lost braces
19 | If one of the first two, code{\link{getBeta}} is used to calculate beta values. If a
| ^
checkRd: (-1) ratioConvert-methods.Rd:35: Lost braces
35 | \code{\link{RatioSet}} or code{\link{GenomicRatioSet}} for the output
| ^
checkRd: (-1) ratioConvert-methods.Rd:36: Lost braces
36 | object and \code{\link{MethylSet}} or code{\link{GenomicMethylSet}}
| ^
* checking Rd metadata ... OK
* checking Rd cross-references ... OK
* checking for missing documentation entries ... OK
* checking for code/documentation mismatches ... OK
* checking Rd \usage sections ... OK
* checking Rd contents ... OK
* checking for unstated dependencies in examples ... OK
* checking files in ‘vignettes’ ... OK
* checking examples ... OK
Examples with CPU (user + system) or elapsed time > 5s
user system elapsed
combineArrays 66.835 2.303 69.319
bumphunter 28.183 5.076 33.397
read.metharray.exp 8.298 0.116 8.444
read.metharray 5.394 0.246 5.670
* checking for unstated dependencies in ‘tests’ ... OK
* checking tests ...
Running ‘runTests.R’
OK
* checking for unstated dependencies in vignettes ... OK
* checking package vignettes ... OK
* checking running R code from vignettes ... SKIPPED
* checking re-building of vignette outputs ... SKIPPED
* checking PDF version of manual ... OK
* DONE
Status: 3 NOTEs
See
‘/Users/biocbuild/bbs-3.19-bioc/meat/minfi.Rcheck/00check.log’
for details.
minfi.Rcheck/00install.out
############################################################################## ############################################################################## ### ### Running command: ### ### /Library/Frameworks/R.framework/Resources/bin/R CMD INSTALL minfi ### ############################################################################## ############################################################################## * installing to library ‘/Library/Frameworks/R.framework/Versions/4.4-x86_64/Resources/library’ * installing *source* package ‘minfi’ ... ** using staged installation ** R ** inst ** byte-compile and prepare package for lazy loading ** help *** installing help indices ** building package indices ** installing vignettes ** testing if installed package can be loaded from temporary location ** testing if installed package can be loaded from final location ** testing if installed package keeps a record of temporary installation path * DONE (minfi)
minfi.Rcheck/tests/runTests.Rout
R version 4.4.0 (2024-04-24) -- "Puppy Cup"
Copyright (C) 2024 The R Foundation for Statistical Computing
Platform: x86_64-apple-darwin20
R is free software and comes with ABSOLUTELY NO WARRANTY.
You are welcome to redistribute it under certain conditions.
Type 'license()' or 'licence()' for distribution details.
R is a collaborative project with many contributors.
Type 'contributors()' for more information and
'citation()' on how to cite R or R packages in publications.
Type 'demo()' for some demos, 'help()' for on-line help, or
'help.start()' for an HTML browser interface to help.
Type 'q()' to quit R.
> require("minfi") || stop("unable to load minfi")
Loading required package: minfi
Loading required package: BiocGenerics
Attaching package: 'BiocGenerics'
The following objects are masked from 'package:stats':
IQR, mad, sd, var, xtabs
The following objects are masked from 'package:base':
Filter, Find, Map, Position, Reduce, anyDuplicated, aperm, append,
as.data.frame, basename, cbind, colnames, dirname, do.call,
duplicated, eval, evalq, get, grep, grepl, intersect, is.unsorted,
lapply, mapply, match, mget, order, paste, pmax, pmax.int, pmin,
pmin.int, rank, rbind, rownames, sapply, setdiff, table, tapply,
union, unique, unsplit, which.max, which.min
Loading required package: GenomicRanges
Loading required package: stats4
Loading required package: S4Vectors
Attaching package: 'S4Vectors'
The following object is masked from 'package:utils':
findMatches
The following objects are masked from 'package:base':
I, expand.grid, unname
Loading required package: IRanges
Loading required package: GenomeInfoDb
Loading required package: SummarizedExperiment
Loading required package: MatrixGenerics
Loading required package: matrixStats
Attaching package: 'MatrixGenerics'
The following objects are masked from 'package:matrixStats':
colAlls, colAnyNAs, colAnys, colAvgsPerRowSet, colCollapse,
colCounts, colCummaxs, colCummins, colCumprods, colCumsums,
colDiffs, colIQRDiffs, colIQRs, colLogSumExps, colMadDiffs,
colMads, colMaxs, colMeans2, colMedians, colMins, colOrderStats,
colProds, colQuantiles, colRanges, colRanks, colSdDiffs, colSds,
colSums2, colTabulates, colVarDiffs, colVars, colWeightedMads,
colWeightedMeans, colWeightedMedians, colWeightedSds,
colWeightedVars, rowAlls, rowAnyNAs, rowAnys, rowAvgsPerColSet,
rowCollapse, rowCounts, rowCummaxs, rowCummins, rowCumprods,
rowCumsums, rowDiffs, rowIQRDiffs, rowIQRs, rowLogSumExps,
rowMadDiffs, rowMads, rowMaxs, rowMeans2, rowMedians, rowMins,
rowOrderStats, rowProds, rowQuantiles, rowRanges, rowRanks,
rowSdDiffs, rowSds, rowSums2, rowTabulates, rowVarDiffs, rowVars,
rowWeightedMads, rowWeightedMeans, rowWeightedMedians,
rowWeightedSds, rowWeightedVars
Loading required package: Biobase
Welcome to Bioconductor
Vignettes contain introductory material; view with
'browseVignettes()'. To cite Bioconductor, see
'citation("Biobase")', and for packages 'citation("pkgname")'.
Attaching package: 'Biobase'
The following object is masked from 'package:MatrixGenerics':
rowMedians
The following objects are masked from 'package:matrixStats':
anyMissing, rowMedians
Loading required package: Biostrings
Loading required package: XVector
Attaching package: 'Biostrings'
The following object is masked from 'package:base':
strsplit
Loading required package: bumphunter
Loading required package: foreach
Loading required package: iterators
Loading required package: parallel
Loading required package: locfit
locfit 1.5-9.9 2024-03-01
Setting options('download.file.method.GEOquery'='auto')
Setting options('GEOquery.inmemory.gpl'=FALSE)
[1] TRUE
> BiocGenerics:::testPackage("minfi")
Loading required package: minfiData
Loading required package: IlluminaHumanMethylation450kmanifest
Loading required package: IlluminaHumanMethylation450kanno.ilmn12.hg19
Loading required package: digest
Loading required package: DelayedArray
Loading required package: Matrix
Attaching package: 'Matrix'
The following object is masked from 'package:S4Vectors':
expand
Loading required package: S4Arrays
Loading required package: abind
Attaching package: 'S4Arrays'
The following object is masked from 'package:abind':
abind
The following object is masked from 'package:base':
rowsum
Loading required package: SparseArray
Attaching package: 'DelayedArray'
The following objects are masked from 'package:base':
apply, scale, sweep
RUNIT TEST PROTOCOL -- Sun Jun 9 21:41:30 2024
***********************************************
Number of test functions: 10
Number of errors: 0
Number of failures: 0
1 Test Suite :
minfi RUnit Tests - 10 test functions, 0 errors, 0 failures
Number of test functions: 10
Number of errors: 0
Number of failures: 0
>
> proc.time()
user system elapsed
40.550 1.522 42.106
minfi.Rcheck/minfi-Ex.timings
| name | user | system | elapsed | |
| GenomicMethylSet-class | 0.002 | 0.000 | 0.002 | |
| GenomicRatioSet-class | 0.001 | 0.000 | 0.001 | |
| IlluminaMethylationManifest-class | 4.454 | 0.090 | 4.548 | |
| MethylSet-class | 0.001 | 0.000 | 0.001 | |
| RGChannelSet-class | 0.001 | 0.000 | 0.000 | |
| RatioSet-class | 0.000 | 0.001 | 0.001 | |
| bumphunter | 28.183 | 5.076 | 33.397 | |
| combineArrays | 66.835 | 2.303 | 69.319 | |
| compartments | 1.939 | 0.134 | 2.077 | |
| controlStripPlot | 2.133 | 0.165 | 2.303 | |
| convertArray | 1.490 | 0.016 | 1.508 | |
| densityBeanPlot | 2.546 | 0.031 | 2.581 | |
| densityPlot | 4.392 | 0.303 | 4.704 | |
| detectionP | 0.389 | 0.007 | 0.396 | |
| dmpFinder | 0.115 | 0.013 | 0.128 | |
| estimateCellCounts | 0 | 0 | 0 | |
| fixMethOutliers | 0.591 | 0.010 | 0.602 | |
| gaphunter | 0.106 | 0.005 | 0.111 | |
| getAnnotation | 0.866 | 0.010 | 0.877 | |
| getGenomicRatioSetFromGEO | 0 | 0 | 0 | |
| getQC | 0.191 | 0.005 | 0.196 | |
| getSex | 1.884 | 0.129 | 2.025 | |
| logit2 | 0 | 0 | 0 | |
| makeGenomicRatioSetFromMatrix | 0.435 | 0.009 | 0.445 | |
| mapToGenome-methods | 0.206 | 0.005 | 0.210 | |
| mdsPlot | 0.152 | 0.008 | 0.160 | |
| minfiQC | 2.135 | 0.141 | 2.278 | |
| plotBetasByType | 0 | 0 | 0 | |
| plotCpg | 0.133 | 0.009 | 0.143 | |
| preprocessFunnorm | 2.615 | 0.154 | 2.776 | |
| preprocessIllumina | 3.999 | 0.171 | 4.176 | |
| preprocessNoob | 0.785 | 0.008 | 0.794 | |
| preprocessQuantile | 0.814 | 0.011 | 0.825 | |
| preprocessRaw | 3.161 | 0.155 | 3.322 | |
| preprocessSwan | 0.488 | 0.016 | 0.505 | |
| qcReport | 0.050 | 0.003 | 0.053 | |
| ratioConvert-methods | 0.074 | 0.003 | 0.078 | |
| read.metharray | 5.394 | 0.246 | 5.670 | |
| read.metharray.exp | 8.298 | 0.116 | 8.444 | |
| read.metharray.sheet | 0.066 | 0.006 | 0.073 | |
| readGEORawFile | 0.000 | 0.001 | 0.000 | |
| readTCGA | 0 | 0 | 0 | |
| subsetByLoci | 0.731 | 0.007 | 0.740 | |
| utils | 0.125 | 0.004 | 0.129 | |