| Back to Multiple platform build/check report for BioC 3.19: simplified long | 
 | 
This page was generated on 2024-05-09 11:41:07 -0400 (Thu, 09 May 2024).
| Hostname | OS | Arch (*) | R version | Installed pkgs | 
|---|---|---|---|---|
| nebbiolo1 | Linux (Ubuntu 22.04.3 LTS) | x86_64 | 4.4.0 (2024-04-24) -- "Puppy Cup" | 4748 | 
| palomino3 | Windows Server 2022 Datacenter | x64 | 4.4.0 (2024-04-24 ucrt) -- "Puppy Cup" | 4484 | 
| lconway | macOS 12.7.1 Monterey | x86_64 | 4.4.0 (2024-04-24) -- "Puppy Cup" | 4514 | 
| kunpeng2 | Linux (openEuler 22.03 LTS-SP1) | aarch64 | 4.4.0 beta (2024-04-15 r86425) -- "Puppy Cup" | 4480 | 
| Click on any hostname to see more info about the system (e.g. compilers) (*) as reported by 'uname -p', except on Windows and Mac OS X | ||||
| Package 1291/2300 | Hostname | OS / Arch | INSTALL | BUILD | CHECK | BUILD BIN | ||||||||
| miRSM 2.0.0  (landing page) Junpeng Zhang 
 | nebbiolo1 | Linux (Ubuntu 22.04.3 LTS) / x86_64 | OK | OK | OK |  | ||||||||
| palomino3 | Windows Server 2022 Datacenter / x64 | OK | OK | OK | OK |  | ||||||||
| lconway | macOS 12.7.1 Monterey / x86_64 | OK | OK | OK | OK |  | ||||||||
| kunpeng2 | Linux (openEuler 22.03 LTS-SP1) / aarch64 | OK | OK | OK | ||||||||||
| kjohnson3 | macOS 13.6.5 Ventura / arm64 | see weekly results here | ||||||||||||
| To the developers/maintainers of the miRSM package: - Allow up to 24 hours (and sometimes 48 hours) for your latest push to git@git.bioconductor.org:packages/miRSM.git to reflect on this report. See Troubleshooting Build Report for more information. - Use the following Renviron settings to reproduce errors and warnings. - If 'R CMD check' started to fail recently on the Linux builder(s) over a missing dependency, add the missing dependency to 'Suggests:' in your DESCRIPTION file. See Renviron.bioc for more information. - See Martin Grigorov's blog post for how to debug Linux ARM64 related issues on a x86_64 host. | 
| Package: miRSM | 
| Version: 2.0.0 | 
| Command: /home/biocbuild/R/R-beta-2024-04-15_r86425/bin/R CMD check --install=check:miRSM.install-out.txt --library=/home/biocbuild/R/R-beta-2024-04-15_r86425/site-library --no-vignettes --timings miRSM_2.0.0.tar.gz | 
| StartedAt: 2024-05-09 09:32:23 -0000 (Thu, 09 May 2024) | 
| EndedAt: 2024-05-09 09:40:36 -0000 (Thu, 09 May 2024) | 
| EllapsedTime: 493.8 seconds | 
| RetCode: 0 | 
| Status: OK | 
| CheckDir: miRSM.Rcheck | 
| Warnings: 0 | 
##############################################################################
##############################################################################
###
### Running command:
###
###   /home/biocbuild/R/R-beta-2024-04-15_r86425/bin/R CMD check --install=check:miRSM.install-out.txt --library=/home/biocbuild/R/R-beta-2024-04-15_r86425/site-library --no-vignettes --timings miRSM_2.0.0.tar.gz
###
##############################################################################
##############################################################################
* using log directory ‘/home/biocbuild/bbs-3.19-bioc/meat/miRSM.Rcheck’
* using R version 4.4.0 beta (2024-04-15 r86425)
* using platform: aarch64-unknown-linux-gnu
* R was compiled by
    gcc (GCC) 10.3.1
    GNU Fortran (GCC) 10.3.1
* running under: openEuler 22.03 (LTS-SP1)
* using session charset: UTF-8
* using option ‘--no-vignettes’
* checking for file ‘miRSM/DESCRIPTION’ ... OK
* checking extension type ... Package
* this is package ‘miRSM’ version ‘2.0.0’
* package encoding: UTF-8
* checking package namespace information ... OK
* checking package dependencies ... OK
* checking if this is a source package ... OK
* checking if there is a namespace ... OK
* checking for hidden files and directories ... OK
* checking for portable file names ... OK
* checking for sufficient/correct file permissions ... OK
* checking whether package ‘miRSM’ can be installed ... OK
* used C compiler: ‘gcc (GCC) 10.3.1’
* checking installed package size ... OK
* checking package directory ... OK
* checking ‘build’ directory ... OK
* checking DESCRIPTION meta-information ... OK
* checking top-level files ... OK
* checking for left-over files ... OK
* checking index information ... OK
* checking package subdirectories ... OK
* checking code files for non-ASCII characters ... OK
* checking R files for syntax errors ... OK
* checking whether the package can be loaded ... OK
* checking whether the package can be loaded with stated dependencies ... OK
* checking whether the package can be unloaded cleanly ... OK
* checking whether the namespace can be loaded with stated dependencies ... OK
* checking whether the namespace can be unloaded cleanly ... OK
* checking loading without being on the library search path ... OK
* checking whether startup messages can be suppressed ... OK
* checking dependencies in R code ... OK
* checking S3 generic/method consistency ... OK
* checking replacement functions ... OK
* checking foreign function calls ... OK
* checking R code for possible problems ... OK
* checking Rd files ... NOTE
checkRd: (-1) module_GFA.Rd:47: Lost braces
    47 | Bunte K, Lepp\'{a}aho E, Saarinen I, Kaski S. 
       |                ^
checkRd: (-1) module_GFA.Rd:50: Lost braces
    50 | Lepp\'{a}aho E, Ammad-ud-din M, Kaski S. GFA: 
       |       ^
checkRd: (-1) module_biclust.Rd:54: Lost braces
    54 | Preli\'{c} A, Bleuler S, Zimmermann P, Wille A, 
       |        ^
checkRd: (-1) module_biclust.Rd:55: Lost braces
    55 | B\'{u}hlmann P, Gruissem W, Hennig L, Thiele L, Zitzler E. 
       |    ^
checkRd: (-1) module_biclust.Rd:80: Lost braces
    80 | Talloen W, Bijnens L, G\'{o}hlmann HW, Shkedy Z, Clevert DA. 
       |                          ^
* checking Rd metadata ... OK
* checking Rd cross-references ... OK
* checking for missing documentation entries ... OK
* checking for code/documentation mismatches ... OK
* checking Rd \usage sections ... OK
* checking Rd contents ... OK
* checking for unstated dependencies in examples ... OK
* checking contents of ‘data’ directory ... OK
* checking data for non-ASCII characters ... OK
* checking data for ASCII and uncompressed saves ... OK
* checking line endings in C/C++/Fortran sources/headers ... OK
* checking compiled code ... NOTE
Note: information on .o files is not available
* checking files in ‘vignettes’ ... OK
* checking examples ... OK
Examples with CPU (user + system) or elapsed time > 5s
             user system elapsed
diff_module 9.393  0.219   9.627
miRSM_SS    7.560  0.124   7.696
* checking for unstated dependencies in ‘tests’ ... OK
* checking tests ...
  Running ‘test_miRSM.R’
 OK
* checking for unstated dependencies in vignettes ... OK
* checking package vignettes ... OK
* checking running R code from vignettes ... SKIPPED
* checking re-building of vignette outputs ... SKIPPED
* checking PDF version of manual ... OK
* DONE
Status: 2 NOTEs
See
  ‘/home/biocbuild/bbs-3.19-bioc/meat/miRSM.Rcheck/00check.log’
for details.
miRSM.Rcheck/00install.out
############################################################################## ############################################################################## ### ### Running command: ### ### /home/biocbuild/R/R-beta-2024-04-15_r86425/bin/R CMD INSTALL miRSM ### ############################################################################## ############################################################################## * installing to library ‘/home/biocbuild/R/R-beta-2024-04-15_r86425/site-library’ * installing *source* package ‘miRSM’ ... ** using staged installation ** libs using C compiler: ‘gcc (GCC) 10.3.1’ gcc -I"/home/biocbuild/R/R-beta-2024-04-15_r86425/include" -DNDEBUG -I/usr/local/include -fPIC -g -O2 -Wall -c complex.c -o complex.o gcc -I"/home/biocbuild/R/R-beta-2024-04-15_r86425/include" -DNDEBUG -I/usr/local/include -fPIC -g -O2 -Wall -c registerDynamicSymbol.c -o registerDynamicSymbol.o gcc -shared -L/home/biocbuild/R/R-beta-2024-04-15_r86425/lib -L/usr/local/lib -o miRSM.so complex.o registerDynamicSymbol.o -L/home/biocbuild/R/R-beta-2024-04-15_r86425/lib -lR installing to /home/biocbuild/R/R-beta-2024-04-15_r86425/site-library/00LOCK-miRSM/00new/miRSM/libs ** R ** data ** inst ** byte-compile and prepare package for lazy loading ** help *** installing help indices ** building package indices ** installing vignettes ** testing if installed package can be loaded from temporary location ** checking absolute paths in shared objects and dynamic libraries ** testing if installed package can be loaded from final location ** testing if installed package keeps a record of temporary installation path * DONE (miRSM)
miRSM.Rcheck/tests/test_miRSM.Rout
R version 4.4.0 beta (2024-04-15 r86425) -- "Puppy Cup"
Copyright (C) 2024 The R Foundation for Statistical Computing
Platform: aarch64-unknown-linux-gnu
R is free software and comes with ABSOLUTELY NO WARRANTY.
You are welcome to redistribute it under certain conditions.
Type 'license()' or 'licence()' for distribution details.
R is a collaborative project with many contributors.
Type 'contributors()' for more information and
'citation()' on how to cite R or R packages in publications.
Type 'demo()' for some demos, 'help()' for on-line help, or
'help.start()' for an HTML browser interface to help.
Type 'q()' to quit R.
> suppressPackageStartupMessages(library(testthat))
> suppressPackageStartupMessages(library(GSEABase))
> suppressPackageStartupMessages(library(miRSM))
> 
> # Load datasets
> data(BRCASampleData)
> 
> # Identify gene co-expression modules using igraph method
> modulegenes_igraph <- module_igraph(ceRExp[, seq_len(10)], 
+     mRExp[, seq_len(10)])
> 
> 
> test_that("Test miRSM", {
+     expect_equal(geneIds(module_igraph(ceRExp[, seq_len(10)], 
+         mRExp[, seq_len(10)])), geneIds(modulegenes_igraph))
+ })
Test passed 🥇
> 
> proc.time()
   user  system elapsed 
 18.873   0.717  19.620 
miRSM.Rcheck/miRSM-Ex.timings
| name | user | system | elapsed | |
| cor_binary | 0.213 | 0.012 | 0.226 | |
| diff_module | 9.393 | 0.219 | 9.627 | |
| miRSM | 0.216 | 0.000 | 0.217 | |
| miRSM_SS | 7.560 | 0.124 | 7.696 | |
| module_CEA | 3.151 | 0.056 | 3.212 | |
| module_Coexpress | 3.212 | 0.052 | 3.269 | |
| module_FA | 0 | 0 | 0 | |
| module_GFA | 4.431 | 0.223 | 4.663 | |
| module_NMF | 3.649 | 0.096 | 3.747 | |
| module_ProNet | 0.163 | 0.000 | 0.164 | |
| module_Validate | 3.185 | 0.060 | 3.250 | |
| module_WGCNA | 2.426 | 0.016 | 2.446 | |
| module_biclust | 0.501 | 0.000 | 0.502 | |
| module_clust | 0.136 | 0.000 | 0.137 | |
| module_group_sim | 3.544 | 0.060 | 3.610 | |
| module_igraph | 0.134 | 0.000 | 0.134 | |
| module_miRdistribute | 3.233 | 0.052 | 3.289 | |
| module_miRsponge | 3.167 | 0.052 | 3.223 | |
| module_miRtarget | 3.216 | 0.027 | 3.247 | |
| share_miRs | 3.181 | 0.052 | 3.238 | |