| Back to Multiple platform build/check report for BioC 3.19: simplified long |
|
This page was generated on 2024-10-18 20:42 -0400 (Fri, 18 Oct 2024).
| Hostname | OS | Arch (*) | R version | Installed pkgs |
|---|---|---|---|---|
| nebbiolo1 | Linux (Ubuntu 22.04.3 LTS) | x86_64 | 4.4.1 (2024-06-14) -- "Race for Your Life" | 4763 |
| palomino7 | Windows Server 2022 Datacenter | x64 | 4.4.1 (2024-06-14 ucrt) -- "Race for Your Life" | 4500 |
| merida1 | macOS 12.7.5 Monterey | x86_64 | 4.4.1 (2024-06-14) -- "Race for Your Life" | 4530 |
| kjohnson1 | macOS 13.6.6 Ventura | arm64 | 4.4.1 (2024-06-14) -- "Race for Your Life" | 4480 |
| Click on any hostname to see more info about the system (e.g. compilers) (*) as reported by 'uname -p', except on Windows and Mac OS X | ||||
| Package 1217/2300 | Hostname | OS / Arch | INSTALL | BUILD | CHECK | BUILD BIN | ||||||||
| metagenomeSeq 1.46.0 (landing page) Joseph N. Paulson
| nebbiolo1 | Linux (Ubuntu 22.04.3 LTS) / x86_64 | OK | OK | OK | |||||||||
| palomino7 | Windows Server 2022 Datacenter / x64 | OK | OK | OK | OK | |||||||||
| merida1 | macOS 12.7.5 Monterey / x86_64 | OK | OK | OK | OK | |||||||||
| kjohnson1 | macOS 13.6.6 Ventura / arm64 | OK | OK | OK | OK | |||||||||
|
To the developers/maintainers of the metagenomeSeq package: - Allow up to 24 hours (and sometimes 48 hours) for your latest push to git@git.bioconductor.org:packages/metagenomeSeq.git to reflect on this report. See Troubleshooting Build Report for more information. - Use the following Renviron settings to reproduce errors and warnings. - If 'R CMD check' started to fail recently on the Linux builder(s) over a missing dependency, add the missing dependency to 'Suggests:' in your DESCRIPTION file. See Renviron.bioc for more information. |
| Package: metagenomeSeq |
| Version: 1.46.0 |
| Command: /Library/Frameworks/R.framework/Resources/bin/R CMD check --install=check:metagenomeSeq.install-out.txt --library=/Library/Frameworks/R.framework/Resources/library --no-vignettes --timings metagenomeSeq_1.46.0.tar.gz |
| StartedAt: 2024-10-18 03:13:04 -0400 (Fri, 18 Oct 2024) |
| EndedAt: 2024-10-18 03:17:27 -0400 (Fri, 18 Oct 2024) |
| EllapsedTime: 263.0 seconds |
| RetCode: 0 |
| Status: OK |
| CheckDir: metagenomeSeq.Rcheck |
| Warnings: 0 |
##############################################################################
##############################################################################
###
### Running command:
###
### /Library/Frameworks/R.framework/Resources/bin/R CMD check --install=check:metagenomeSeq.install-out.txt --library=/Library/Frameworks/R.framework/Resources/library --no-vignettes --timings metagenomeSeq_1.46.0.tar.gz
###
##############################################################################
##############################################################################
* using log directory ‘/Users/biocbuild/bbs-3.19-bioc/meat/metagenomeSeq.Rcheck’
* using R version 4.4.1 (2024-06-14)
* using platform: aarch64-apple-darwin20
* R was compiled by
Apple clang version 14.0.0 (clang-1400.0.29.202)
GNU Fortran (GCC) 12.2.0
* running under: macOS Ventura 13.6.6
* using session charset: UTF-8
* using option ‘--no-vignettes’
* checking for file ‘metagenomeSeq/DESCRIPTION’ ... OK
* this is package ‘metagenomeSeq’ version ‘1.46.0’
* checking package namespace information ... OK
* checking package dependencies ... OK
* checking if this is a source package ... OK
* checking if there is a namespace ... OK
* checking for hidden files and directories ... OK
* checking for portable file names ... OK
* checking for sufficient/correct file permissions ... OK
* checking whether package ‘metagenomeSeq’ can be installed ... OK
* checking installed package size ... OK
* checking package directory ... OK
* checking ‘build’ directory ... OK
* checking DESCRIPTION meta-information ... OK
* checking top-level files ... OK
* checking for left-over files ... OK
* checking index information ... OK
* checking package subdirectories ... OK
* checking code files for non-ASCII characters ... OK
* checking R files for syntax errors ... OK
* checking whether the package can be loaded ... OK
* checking whether the package can be loaded with stated dependencies ... OK
* checking whether the package can be unloaded cleanly ... OK
* checking whether the namespace can be loaded with stated dependencies ... OK
* checking whether the namespace can be unloaded cleanly ... OK
* checking dependencies in R code ... OK
* checking S3 generic/method consistency ... OK
* checking replacement functions ... OK
* checking foreign function calls ... OK
* checking R code for possible problems ... OK
* checking Rd files ... OK
* checking Rd metadata ... OK
* checking Rd cross-references ... OK
* checking for missing documentation entries ... OK
* checking for code/documentation mismatches ... OK
* checking Rd \usage sections ... OK
* checking Rd contents ... OK
* checking for unstated dependencies in examples ... OK
* checking contents of ‘data’ directory ... OK
* checking data for non-ASCII characters ... OK
* checking data for ASCII and uncompressed saves ... OK
* checking sizes of PDF files under ‘inst/doc’ ... OK
* checking files in ‘vignettes’ ... OK
* checking examples ... OK
Examples with CPU (user + system) or elapsed time > 5s
user system elapsed
wrenchNorm 14.825 1.484 16.512
MRfulltable 1.133 0.046 6.439
* checking for unstated dependencies in ‘tests’ ... OK
* checking tests ...
Running ‘testthat.R’
OK
* checking for unstated dependencies in vignettes ... OK
* checking package vignettes ... OK
* checking running R code from vignettes ... SKIPPED
* checking re-building of vignette outputs ... SKIPPED
* checking PDF version of manual ... OK
* DONE
Status: OK
metagenomeSeq.Rcheck/00install.out
############################################################################## ############################################################################## ### ### Running command: ### ### /Library/Frameworks/R.framework/Resources/bin/R CMD INSTALL metagenomeSeq ### ############################################################################## ############################################################################## * installing to library ‘/Library/Frameworks/R.framework/Versions/4.4-arm64/Resources/library’ * installing *source* package ‘metagenomeSeq’ ... ** using staged installation ** R ** data ** inst ** byte-compile and prepare package for lazy loading in method for ‘MRihw’ with signature ‘"fitFeatureModelResults"’: no definition for class “fitFeatureModelResults” in method for ‘MRihw’ with signature ‘"fitZigResults"’: no definition for class “fitZigResults” ** help *** installing help indices ** building package indices ** installing vignettes ** testing if installed package can be loaded from temporary location ** testing if installed package can be loaded from final location ** testing if installed package keeps a record of temporary installation path * DONE (metagenomeSeq)
metagenomeSeq.Rcheck/tests/testthat.Rout
R version 4.4.1 (2024-06-14) -- "Race for Your Life"
Copyright (C) 2024 The R Foundation for Statistical Computing
Platform: aarch64-apple-darwin20
R is free software and comes with ABSOLUTELY NO WARRANTY.
You are welcome to redistribute it under certain conditions.
Type 'license()' or 'licence()' for distribution details.
R is a collaborative project with many contributors.
Type 'contributors()' for more information and
'citation()' on how to cite R or R packages in publications.
Type 'demo()' for some demos, 'help()' for on-line help, or
'help.start()' for an HTML browser interface to help.
Type 'q()' to quit R.
> library("testthat")
> packageVersion("metagenomeSeq")
[1] '1.46.0'
> # As suggested for opt-out option on testing by users,
> # recommended by CRAN: http://adv-r.had.co.nz/Testing.html
> # Previously, best practice was to put all test files in inst/tests
> # and ensure that R CMD check ran them by putting the following code in tests/test-all.R:
> # >library(testthat)
> # >library(yourpackage)
> # >test_package("yourpackage")
> # Now, recommended practice is to put your tests in tests/testthat,
> # and ensure R CMD check runs them by putting the following code in tests/test-all.R:
> # >library(testthat)
> # >test_check("yourpackage")
> # The advantage of this new structure is that the user has control over whether or not tests are installed using the –install-tests parameter to
> # R CMD install, or INSTALL_opts = c(“–install-tests”) argument to install.packages(). I’m not sure why you wouldn’t want to install the tests,
> # but now you have the flexibility as requested by CRAN maintainers.
> test_check("metagenomeSeq")
Loading required package: metagenomeSeq
Loading required package: Biobase
Loading required package: BiocGenerics
Attaching package: 'BiocGenerics'
The following objects are masked from 'package:stats':
IQR, mad, sd, var, xtabs
The following objects are masked from 'package:base':
Filter, Find, Map, Position, Reduce, anyDuplicated, aperm, append,
as.data.frame, basename, cbind, colnames, dirname, do.call,
duplicated, eval, evalq, get, grep, grepl, intersect, is.unsorted,
lapply, mapply, match, mget, order, paste, pmax, pmax.int, pmin,
pmin.int, rank, rbind, rownames, sapply, setdiff, table, tapply,
union, unique, unsplit, which.max, which.min
Welcome to Bioconductor
Vignettes contain introductory material; view with
'browseVignettes()'. To cite Bioconductor, see
'citation("Biobase")', and for packages 'citation("pkgname")'.
Loading required package: limma
Attaching package: 'limma'
The following object is masked from 'package:BiocGenerics':
plotMA
Loading required package: glmnet
Loading required package: Matrix
Loaded glmnet 4.1-8
Loading required package: RColorBrewer
[ FAIL 0 | WARN 6 | SKIP 0 | PASS 15 ]
[ FAIL 0 | WARN 6 | SKIP 0 | PASS 15 ]
>
> proc.time()
user system elapsed
94.905 6.834 102.898
metagenomeSeq.Rcheck/metagenomeSeq-Ex.timings
| name | user | system | elapsed | |
| MRcoefs | 1.296 | 0.072 | 1.374 | |
| MRcounts | 0.603 | 0.021 | 0.628 | |
| MRexperiment-class | 0 | 0 | 0 | |
| MRfulltable | 1.133 | 0.046 | 6.439 | |
| MRtable | 1.106 | 0.046 | 1.194 | |
| aggregateBySample | 0.182 | 0.010 | 0.202 | |
| aggregateByTaxonomy | 0.199 | 0.021 | 0.226 | |
| biom2MRexperiment | 0.267 | 0.015 | 0.284 | |
| calcNormFactors | 0.732 | 0.085 | 0.821 | |
| correctIndices | 0.145 | 0.014 | 0.160 | |
| correlationTest | 0.292 | 0.022 | 0.320 | |
| cumNorm | 0.484 | 0.085 | 0.572 | |
| cumNormMat | 0.533 | 0.098 | 0.634 | |
| cumNormStat | 0.803 | 0.076 | 0.885 | |
| cumNormStatFast | 0.349 | 0.028 | 0.381 | |
| expSummary | 0.135 | 0.009 | 0.144 | |
| exportMat | 1.339 | 2.515 | 3.979 | |
| exportStats | 0.469 | 0.039 | 0.511 | |
| extractMR | 1.212 | 1.064 | 2.337 | |
| filterData | 0.207 | 0.024 | 0.233 | |
| fitDO | 0.435 | 0.039 | 3.308 | |
| fitFeatureModel | 1.143 | 0.088 | 1.239 | |
| fitLogNormal | 1.893 | 0.333 | 2.256 | |
| fitMultipleTimeSeries | 2.238 | 0.388 | 2.643 | |
| fitPA | 0.420 | 0.058 | 3.198 | |
| fitSSTimeSeries | 0.535 | 0.077 | 0.639 | |
| fitTimeSeries | 0.549 | 0.078 | 0.629 | |
| fitZig | 1.960 | 0.315 | 2.291 | |
| libSize-set | 0.379 | 0.019 | 0.400 | |
| libSize | 0.384 | 0.027 | 0.413 | |
| loadBiom | 0.037 | 0.001 | 0.039 | |
| loadMeta | 0.019 | 0.002 | 0.021 | |
| loadMetaQ | 0 | 0 | 0 | |
| loadPhenoData | 0.008 | 0.001 | 0.010 | |
| makeLabels | 0 | 0 | 0 | |
| mergeMRexperiments | 1.813 | 0.238 | 2.077 | |
| newMRexperiment | 0.030 | 0.001 | 0.030 | |
| normFactors-set | 0.418 | 0.026 | 0.447 | |
| normFactors | 0.320 | 0.013 | 0.334 | |
| plotBubble | 0.324 | 0.030 | 3.053 | |
| plotClassTimeSeries | 1.374 | 0.145 | 1.546 | |
| plotCorr | 0.521 | 0.040 | 0.588 | |
| plotFeature | 0.220 | 0.015 | 0.237 | |
| plotGenus | 0.176 | 0.016 | 0.199 | |
| plotMRheatmap | 1.948 | 0.112 | 2.086 | |
| plotOTU | 0.187 | 0.019 | 0.207 | |
| plotOrd | 0.283 | 0.019 | 0.304 | |
| plotRare | 0.174 | 0.022 | 0.198 | |
| plotTimeSeries | 1.346 | 0.145 | 1.504 | |
| posteriorProbs | 1.991 | 0.233 | 2.240 | |
| returnAppropriateObj | 0.400 | 0.056 | 0.461 | |
| ssFit | 0 | 0 | 0 | |
| ssIntervalCandidate | 0.000 | 0.001 | 0.000 | |
| ssPerm | 0 | 0 | 0 | |
| ssPermAnalysis | 0 | 0 | 0 | |
| trapz | 0 | 0 | 0 | |
| ts2MRexperiment | 2.025 | 0.210 | 2.255 | |
| uniqueFeatures | 0.147 | 0.013 | 0.161 | |
| wrenchNorm | 14.825 | 1.484 | 16.512 | |
| zigControl | 0 | 0 | 0 | |