| Back to Multiple platform build/check report for BioC 3.19: simplified long |
|
This page was generated on 2024-06-11 14:42 -0400 (Tue, 11 Jun 2024).
| Hostname | OS | Arch (*) | R version | Installed pkgs |
|---|---|---|---|---|
| nebbiolo1 | Linux (Ubuntu 22.04.3 LTS) | x86_64 | 4.4.0 (2024-04-24) -- "Puppy Cup" | 4757 |
| palomino3 | Windows Server 2022 Datacenter | x64 | 4.4.0 (2024-04-24 ucrt) -- "Puppy Cup" | 4491 |
| lconway | macOS 12.7.1 Monterey | x86_64 | 4.4.0 (2024-04-24) -- "Puppy Cup" | 4522 |
| kjohnson3 | macOS 13.6.5 Ventura | arm64 | 4.4.0 (2024-04-24) -- "Puppy Cup" | 4468 |
| Click on any hostname to see more info about the system (e.g. compilers) (*) as reported by 'uname -p', except on Windows and Mac OS X | ||||
| Package 1207/2300 | Hostname | OS / Arch | INSTALL | BUILD | CHECK | BUILD BIN | ||||||||
| metabinR 1.6.0 (landing page) Anestis Gkanogiannis
| nebbiolo1 | Linux (Ubuntu 22.04.3 LTS) / x86_64 | OK | OK | OK | |||||||||
| palomino3 | Windows Server 2022 Datacenter / x64 | OK | OK | OK | OK | |||||||||
| lconway | macOS 12.7.1 Monterey / x86_64 | OK | OK | OK | OK | |||||||||
| kjohnson3 | macOS 13.6.5 Ventura / arm64 | OK | OK | OK | OK | |||||||||
|
To the developers/maintainers of the metabinR package: - Allow up to 24 hours (and sometimes 48 hours) for your latest push to git@git.bioconductor.org:packages/metabinR.git to reflect on this report. See Troubleshooting Build Report for more information. - Use the following Renviron settings to reproduce errors and warnings. - If 'R CMD check' started to fail recently on the Linux builder(s) over a missing dependency, add the missing dependency to 'Suggests:' in your DESCRIPTION file. See Renviron.bioc for more information. |
| Package: metabinR |
| Version: 1.6.0 |
| Command: /Library/Frameworks/R.framework/Resources/bin/R CMD check --install=check:metabinR.install-out.txt --library=/Library/Frameworks/R.framework/Resources/library --no-vignettes --timings metabinR_1.6.0.tar.gz |
| StartedAt: 2024-06-09 21:22:55 -0400 (Sun, 09 Jun 2024) |
| EndedAt: 2024-06-09 21:24:12 -0400 (Sun, 09 Jun 2024) |
| EllapsedTime: 76.4 seconds |
| RetCode: 0 |
| Status: OK |
| CheckDir: metabinR.Rcheck |
| Warnings: 0 |
##############################################################################
##############################################################################
###
### Running command:
###
### /Library/Frameworks/R.framework/Resources/bin/R CMD check --install=check:metabinR.install-out.txt --library=/Library/Frameworks/R.framework/Resources/library --no-vignettes --timings metabinR_1.6.0.tar.gz
###
##############################################################################
##############################################################################
* using log directory ‘/Users/biocbuild/bbs-3.19-bioc/meat/metabinR.Rcheck’
* using R version 4.4.0 (2024-04-24)
* using platform: x86_64-apple-darwin20
* R was compiled by
Apple clang version 14.0.0 (clang-1400.0.29.202)
GNU Fortran (GCC) 12.2.0
* running under: macOS Monterey 12.7.1
* using session charset: UTF-8
* using option ‘--no-vignettes’
* checking for file ‘metabinR/DESCRIPTION’ ... OK
* checking extension type ... Package
* this is package ‘metabinR’ version ‘1.6.0’
* package encoding: UTF-8
* checking package namespace information ... OK
* checking package dependencies ... OK
* checking if this is a source package ... OK
* checking if there is a namespace ... OK
* checking for hidden files and directories ... OK
* checking for portable file names ... OK
* checking for sufficient/correct file permissions ... OK
* checking whether package ‘metabinR’ can be installed ... OK
* checking installed package size ... OK
* checking package directory ... OK
* checking ‘build’ directory ... OK
* checking DESCRIPTION meta-information ... OK
* checking top-level files ... OK
* checking for left-over files ... OK
* checking index information ... OK
* checking package subdirectories ... OK
* checking code files for non-ASCII characters ... OK
* checking R files for syntax errors ... OK
* checking whether the package can be loaded ... OK
* checking whether the package can be loaded with stated dependencies ... OK
* checking whether the package can be unloaded cleanly ... OK
* checking whether the namespace can be loaded with stated dependencies ... OK
* checking whether the namespace can be unloaded cleanly ... OK
* checking whether startup messages can be suppressed ... OK
* checking dependencies in R code ... OK
* checking S3 generic/method consistency ... OK
* checking replacement functions ... OK
* checking foreign function calls ... OK
* checking R code for possible problems ... OK
* checking Rd files ... OK
* checking Rd metadata ... OK
* checking Rd cross-references ... OK
* checking for missing documentation entries ... OK
* checking for code/documentation mismatches ... OK
* checking Rd \usage sections ... OK
* checking Rd contents ... OK
* checking for unstated dependencies in examples ... OK
* checking files in ‘vignettes’ ... OK
* checking examples ... OK
Examples with CPU (user + system) or elapsed time > 5s
user system elapsed
abundance_based_binning 9.172 1.094 7.440
composition_based_binning 6.039 0.800 2.529
hierarchical_binning 4.539 0.589 3.480
* checking for unstated dependencies in ‘tests’ ... OK
* checking tests ...
Running ‘spelling.R’
Running ‘testthat.R’
OK
* checking for unstated dependencies in vignettes ... OK
* checking package vignettes ... OK
* checking running R code from vignettes ... SKIPPED
* checking re-building of vignette outputs ... SKIPPED
* checking PDF version of manual ... OK
* DONE
Status: OK
metabinR.Rcheck/00install.out
############################################################################## ############################################################################## ### ### Running command: ### ### /Library/Frameworks/R.framework/Resources/bin/R CMD INSTALL metabinR ### ############################################################################## ############################################################################## * installing to library ‘/Library/Frameworks/R.framework/Versions/4.4-x86_64/Resources/library’ * installing *source* package ‘metabinR’ ... ** using staged installation ** R ** inst ** byte-compile and prepare package for lazy loading ** help *** installing help indices ** building package indices ** installing vignettes ** testing if installed package can be loaded from temporary location ** testing if installed package can be loaded from final location ** testing if installed package keeps a record of temporary installation path * DONE (metabinR)
metabinR.Rcheck/tests/spelling.Rout
R version 4.4.0 (2024-04-24) -- "Puppy Cup"
Copyright (C) 2024 The R Foundation for Statistical Computing
Platform: x86_64-apple-darwin20
R is free software and comes with ABSOLUTELY NO WARRANTY.
You are welcome to redistribute it under certain conditions.
Type 'license()' or 'licence()' for distribution details.
R is a collaborative project with many contributors.
Type 'contributors()' for more information and
'citation()' on how to cite R or R packages in publications.
Type 'demo()' for some demos, 'help()' for on-line help, or
'help.start()' for an HTML browser interface to help.
Type 'q()' to quit R.
> if(requireNamespace('spelling', quietly = TRUE))
+ spelling::spell_check_test(vignettes = TRUE, error = FALSE,
+ skip_on_cran = TRUE)
NULL
>
> proc.time()
user system elapsed
0.201 0.076 0.328
metabinR.Rcheck/tests/testthat.Rout
R version 4.4.0 (2024-04-24) -- "Puppy Cup"
Copyright (C) 2024 The R Foundation for Statistical Computing
Platform: x86_64-apple-darwin20
R is free software and comes with ABSOLUTELY NO WARRANTY.
You are welcome to redistribute it under certain conditions.
Type 'license()' or 'licence()' for distribution details.
R is a collaborative project with many contributors.
Type 'contributors()' for more information and
'citation()' on how to cite R or R packages in publications.
Type 'demo()' for some demos, 'help()' for on-line help, or
'help.start()' for an HTML browser interface to help.
Type 'q()' to quit R.
> library(testthat)
> library(metabinR)
>
> test_check("metabinR")
version MTxAB =Sun Jun 09 15:05:53 EDT 2024
cpus=48
using=1
2024/06/09 21:23:40 Using Dictionary ORIGINAL
2024/06/09 21:23:40 START of AB Counting
2024/06/09 21:23:40 FastaManager: START READ
2024/06/09 21:23:40 SequenceProcessor: 0 AB_KMERCOUNT START
CHUNK_SIZE=67108864
2024/06/09 21:23:40 FastaManager: lines read 53328
2024/06/09 21:23:40 FastaManager: END READ
2024/06/09 21:23:40 FastaManager: FASTA
2024/06/09 21:23:42 SequenceProcessor: 0 AB_KMERCOUNT EXIT
2024/06/09 21:23:42 END of AB Counting
2024/06/09 21:23:42 Loaded sequences: 26664
2024/06/09 21:23:42 Total kmers(before remove): 65536
##### Heap utilization statistics [GB] #####
Max Memory=0.5
Current Total Memory=0.5
Current Used Memory=0.291
Current Free Memory=0.209
############################################
2024/06/09 21:23:42
Unique: 0
Distinct: 65536
Total: 7625904
MaxCount: 1574
2024/06/09 21:23:42 START of EMsync
Run=1
Run=2
Run=3
Run=4
Run=5
Run=6
Run=7
Run=8
Run=9
Run=10
Run=11
Run=12
Run=13
Run=14
Run=15
Run=16
Run=17
Run=18
Run=19
Run=20
Run=21
Run=22
Run=23
Run=24
Run=25
2024/06/09 21:23:42 Runs=25
2024/06/09 21:23:42 END of EMsync
2024/06/09 21:23:42 START of Creating AB Cluster Vectors
Cluster 1 Abundance=241.01134335779187 Length=16168.173737759438 LowLimit=163 HighLimit=318
Cluster 2 Abundance=75.53888858729701 Length=49367.826262240575 LowLimit=32 HighLimit=118
2024/06/09 21:23:42 Trove size/4=18022
2024/06/09 21:23:42 Trove size/4=18022
2024/06/09 21:23:42 Cluster 2 size in kmers=65536 norm=221.81983091435748
2024/06/09 21:23:42 Cluster 1 size in kmers=65536 norm=126.5058948513796
2024/06/09 21:23:42 END of Creating AB Cluster Vectors
cpus=48
using=1
2024/06/09 21:23:42 START of AB Binning
2024/06/09 21:23:42 FastaManager: START READ
2024/06/09 21:23:42 SequenceProcessor: 0 AB_BINNING START
2024/06/09 21:23:43 FastaManager: lines read 53328
2024/06/09 21:23:43 FastaManager: END READ
2024/06/09 21:23:43 FastaManager: FASTA
2024/06/09 21:23:45 SequenceProcessor: 0 AB_BINNING EXIT
2024/06/09 21:23:45 END of AB Binning
Clustered reads:
AB Cluster 1: 19871
AB Cluster 2: 6793
##### Heap utilization statistics [GB] #####
Max Memory=0.5
Current Total Memory=0.5
Current Used Memory=0.375
Current Free Memory=0.125
############################################
version MTxCB =Sun Jun 09 15:05:53 EDT 2024
cpus=48
using=1
2024/06/09 21:23:45 START of CB Counting
2024/06/09 21:23:45 FastaManager: START READ
2024/06/09 21:23:45 SequenceProcessor: 0 CB_SEQUENCEVECTORBUILD START
2024/06/09 21:23:45 FastaManager: lines read 53328
2024/06/09 21:23:45 FastaManager: END READ
2024/06/09 21:23:45 FastaManager: FASTA
2024/06/09 21:23:46 SequenceProcessor: 0 CB_SEQUENCEVECTORBUILD EXIT
2024/06/09 21:23:46 END of CB Counting
2024/06/09 21:23:46 Loaded sequences: 26664
##### Heap utilization statistics [GB] #####
Max Memory=0.5
Current Total Memory=0.5
Current Used Memory=0.384
Current Free Memory=0.116
############################################
cpus=48
using=1
2024/06/09 21:23:46 START of Creating CB Clusters Size=26664
K-Means clustering started
... centers initialized
... concurrent processing mode with 1 subtask threads
... iteration 1 moves = 6688
... iteration 2 moves = 4256
... iteration 3 moves = 3259
... iteration 4 moves = 1802
... iteration 5 moves = 904
... iteration 6 moves = 474
... iteration 7 moves = 360
... iteration 8 moves = 203
... iteration 9 moves = 112
... iteration 10 moves = 78
... iteration 11 moves = 57
... iteration 12 moves = 24
... iteration 13 moves = 15
... iteration 14 moves = 11
... iteration 15 moves = 0
...end. 5.009 seconds.
2024/06/09 21:23:51 : kMeans cleanup.
2024/06/09 21:23:51 END of Creating CB Clusters.
cpus=48
using=1
2024/06/09 21:23:51 START of CB Binning
2024/06/09 21:23:51 FastaManager: START READ
2024/06/09 21:23:51 SequenceProcessor: 0 CB_BINNING START
2024/06/09 21:23:51 FastaManager: lines read 53328
2024/06/09 21:23:51 FastaManager: END READ
2024/06/09 21:23:51 FastaManager: FASTA
2024/06/09 21:23:51 SequenceProcessor: 0 CB_BINNING EXIT
Clustered reads:
CB Cluster 1: 7031
CB Cluster 2: 19633
##### Heap utilization statistics [GB] #####
Max Memory=0.5
Current Total Memory=0.5
Current Used Memory=0.482
Current Free Memory=0.018
############################################
version MTxABxCB =Sun Jun 09 15:05:53 EDT 2024
cpus=48
using=1
2024/06/09 21:23:51 Using Dictionary ORIGINAL
2024/06/09 21:23:51 START of AB Counting
2024/06/09 21:23:51 FastaManager: START READ
2024/06/09 21:23:51 SequenceProcessor: 0 AB_KMERCOUNT START
2024/06/09 21:23:52 FastaManager: lines read 53328
2024/06/09 21:23:52 FastaManager: END READ
2024/06/09 21:23:52 FastaManager: FASTA
2024/06/09 21:23:53 SequenceProcessor: 0 AB_KMERCOUNT EXIT
2024/06/09 21:23:53 END of AB Counting
2024/06/09 21:23:53 Loaded sequences: 26664
2024/06/09 21:23:53 Distinct kmers(before remove): 65536
##### Heap utilization statistics [GB] #####
Max Memory=0.5
Current Total Memory=0.5
Current Used Memory=0.313
Current Free Memory=0.187
############################################
2024/06/09 21:23:53
Unique: 0
Distinct: 65536
Total: 7625904
MaxCount: 1574
2024/06/09 21:23:53 START of EMsync
Run=1
Run=2
Run=3
Run=4
Run=5
Run=6
Run=7
Run=8
Run=9
Run=10
Run=11
Run=12
Run=13
Run=14
Run=15
Run=16
Run=17
Run=18
Run=19
Run=20
Run=21
Run=22
Run=23
Run=24
Run=25
2024/06/09 21:23:53 Runs=25
2024/06/09 21:23:53 END of EMsync
2024/06/09 21:23:53 Filter before=2
2024/06/09 21:23:53 Filter after=2
2024/06/09 21:23:53 START of Creating AB Cluster Vectors
Cluster 1 Abundance=241.01134335779187 Length=16168.173737759438 LowLimit=163 HighLimit=318
Cluster 2 Abundance=75.53888858729701 Length=49367.826262240575 LowLimit=32 HighLimit=118
2024/06/09 21:23:53 Trove size/4=18022
2024/06/09 21:23:53 Trove size/4=18022
2024/06/09 21:23:53 Cluster 2 size in kmers=65536 norm=221.81983091435748
2024/06/09 21:23:53 Cluster 1 size in kmers=65536 norm=126.5058948513796
2024/06/09 21:23:53 END of Creating AB Cluster Vectors
cpus=48
using=1
2024/06/09 21:23:53 START of AB Binning
2024/06/09 21:23:53 FastaManager: START READ
2024/06/09 21:23:53 SequenceProcessor: 0 AB_BINNING START
2024/06/09 21:23:53 FastaManager: lines read 53328
2024/06/09 21:23:53 FastaManager: END READ
2024/06/09 21:23:53 FastaManager: FASTA
2024/06/09 21:23:56 SequenceProcessor: 0 AB_BINNING EXIT
2024/06/09 21:23:56 END of AB Binning
cpus=48
using=1
2024/06/09 21:23:56 START of CB Counting
2024/06/09 21:23:56 FastaManager: START READ
2024/06/09 21:23:56 SequenceProcessor: 0 CB_SEQUENCEVECTORBUILD START
2024/06/09 21:23:56 FastaManager: lines read 53328
2024/06/09 21:23:56 FastaManager: END READ
2024/06/09 21:23:56 FastaManager: FASTA
2024/06/09 21:23:57 SequenceProcessor: 0 CB_SEQUENCEVECTORBUILD EXIT
2024/06/09 21:23:57 END of CB Counting
2024/06/09 21:23:57 Loaded sequences: 26664
##### Heap utilization statistics [GB] #####
Max Memory=0.5
Current Total Memory=0.424
Current Used Memory=0.26
Current Free Memory=0.163
############################################
2024/06/09 21:23:57 AB Cluster=1 Size=19871
2024/06/09 21:23:57 AB Cluster=2 Size=6793
cpus=48
using=1
ABid size abundance EMLength newLength EMspecies newspecies
----- ---- --------- -------- --------- --------- ----------
1 19,871 241.01134 16,168 12,367 1 1
2024/06/09 21:23:57 START of Creating CB Clusters for AB Cluster=1 Size=19871
K-Means clustering started
... centers initialized
... concurrent processing mode with 1 subtask threads
... iteration 1 moves = 0
...end. 2.135 seconds.
2024/06/09 21:23:59 : kMeans cleanup.
2024/06/09 21:23:59 END of Creating CB Clusters for AB Cluster=1
cpus=48
using=1
ABid size abundance EMLength newLength EMspecies newspecies
----- ---- --------- -------- --------- --------- ----------
2 6,793 75.53889 49,367 13,489 1 1
2024/06/09 21:23:59 START of Creating CB Clusters for AB Cluster=2 Size=6793
K-Means clustering started
... centers initialized
... concurrent processing mode with 1 subtask threads
... iteration 1 moves = 0
...end. 0.77 seconds.
2024/06/09 21:24:00 : kMeans cleanup.
2024/06/09 21:24:00 END of Creating CB Clusters for AB Cluster=2
##### Heap utilization statistics [GB] #####
Max Memory=0.5
Current Total Memory=0.424
Current Used Memory=0.332
Current Free Memory=0.092
############################################
cpus=48
using=1
2024/06/09 21:24:00 START of CB Binning
2024/06/09 21:24:00 FastaManager: START READ
2024/06/09 21:24:00 SequenceProcessor: 0 CB_BINNING START
2024/06/09 21:24:00 FastaManager: lines read 53328
2024/06/09 21:24:00 FastaManager: END READ
2024/06/09 21:24:00 FastaManager: FASTA
2024/06/09 21:24:00 SequenceProcessor: 0 CB_BINNING EXIT
Clustered reads:
ABxCB Cluster 1: 19871
ABxCB Cluster 2: 6793
##### Heap utilization statistics [GB] #####
Max Memory=0.5
Current Total Memory=0.487
Current Used Memory=0.312
Current Free Memory=0.175
############################################
[ FAIL 0 | WARN 0 | SKIP 0 | PASS 52 ]
>
> proc.time()
user system elapsed
29.042 1.196 21.353
metabinR.Rcheck/metabinR-Ex.timings
| name | user | system | elapsed | |
| abundance_based_binning | 9.172 | 1.094 | 7.440 | |
| composition_based_binning | 6.039 | 0.800 | 2.529 | |
| hierarchical_binning | 4.539 | 0.589 | 3.480 | |