| Back to Multiple platform build/check report for BioC 3.19: simplified long |
|
This page was generated on 2024-10-18 20:42 -0400 (Fri, 18 Oct 2024).
| Hostname | OS | Arch (*) | R version | Installed pkgs |
|---|---|---|---|---|
| nebbiolo1 | Linux (Ubuntu 22.04.3 LTS) | x86_64 | 4.4.1 (2024-06-14) -- "Race for Your Life" | 4763 |
| palomino7 | Windows Server 2022 Datacenter | x64 | 4.4.1 (2024-06-14 ucrt) -- "Race for Your Life" | 4500 |
| merida1 | macOS 12.7.5 Monterey | x86_64 | 4.4.1 (2024-06-14) -- "Race for Your Life" | 4530 |
| kjohnson1 | macOS 13.6.6 Ventura | arm64 | 4.4.1 (2024-06-14) -- "Race for Your Life" | 4480 |
| Click on any hostname to see more info about the system (e.g. compilers) (*) as reported by 'uname -p', except on Windows and Mac OS X | ||||
| Package 1207/2300 | Hostname | OS / Arch | INSTALL | BUILD | CHECK | BUILD BIN | ||||||||
| metabinR 1.6.0 (landing page) Anestis Gkanogiannis
| nebbiolo1 | Linux (Ubuntu 22.04.3 LTS) / x86_64 | OK | OK | OK | |||||||||
| palomino7 | Windows Server 2022 Datacenter / x64 | OK | OK | OK | OK | |||||||||
| merida1 | macOS 12.7.5 Monterey / x86_64 | OK | OK | OK | OK | |||||||||
| kjohnson1 | macOS 13.6.6 Ventura / arm64 | OK | OK | OK | OK | |||||||||
|
To the developers/maintainers of the metabinR package: - Allow up to 24 hours (and sometimes 48 hours) for your latest push to git@git.bioconductor.org:packages/metabinR.git to reflect on this report. See Troubleshooting Build Report for more information. - Use the following Renviron settings to reproduce errors and warnings. - If 'R CMD check' started to fail recently on the Linux builder(s) over a missing dependency, add the missing dependency to 'Suggests:' in your DESCRIPTION file. See Renviron.bioc for more information. |
| Package: metabinR |
| Version: 1.6.0 |
| Command: /Library/Frameworks/R.framework/Resources/bin/R CMD check --install=check:metabinR.install-out.txt --library=/Library/Frameworks/R.framework/Resources/library --no-vignettes --timings metabinR_1.6.0.tar.gz |
| StartedAt: 2024-10-18 03:06:06 -0400 (Fri, 18 Oct 2024) |
| EndedAt: 2024-10-18 03:07:30 -0400 (Fri, 18 Oct 2024) |
| EllapsedTime: 84.0 seconds |
| RetCode: 0 |
| Status: OK |
| CheckDir: metabinR.Rcheck |
| Warnings: 0 |
##############################################################################
##############################################################################
###
### Running command:
###
### /Library/Frameworks/R.framework/Resources/bin/R CMD check --install=check:metabinR.install-out.txt --library=/Library/Frameworks/R.framework/Resources/library --no-vignettes --timings metabinR_1.6.0.tar.gz
###
##############################################################################
##############################################################################
* using log directory ‘/Users/biocbuild/bbs-3.19-bioc/meat/metabinR.Rcheck’
* using R version 4.4.1 (2024-06-14)
* using platform: aarch64-apple-darwin20
* R was compiled by
Apple clang version 14.0.0 (clang-1400.0.29.202)
GNU Fortran (GCC) 12.2.0
* running under: macOS Ventura 13.6.6
* using session charset: UTF-8
* using option ‘--no-vignettes’
* checking for file ‘metabinR/DESCRIPTION’ ... OK
* checking extension type ... Package
* this is package ‘metabinR’ version ‘1.6.0’
* package encoding: UTF-8
* checking package namespace information ... OK
* checking package dependencies ... OK
* checking if this is a source package ... OK
* checking if there is a namespace ... OK
* checking for hidden files and directories ... OK
* checking for portable file names ... OK
* checking for sufficient/correct file permissions ... OK
* checking whether package ‘metabinR’ can be installed ... OK
* checking installed package size ... OK
* checking package directory ... OK
* checking ‘build’ directory ... OK
* checking DESCRIPTION meta-information ... OK
* checking top-level files ... OK
* checking for left-over files ... OK
* checking index information ... OK
* checking package subdirectories ... OK
* checking code files for non-ASCII characters ... OK
* checking R files for syntax errors ... OK
* checking whether the package can be loaded ... OK
* checking whether the package can be loaded with stated dependencies ... OK
* checking whether the package can be unloaded cleanly ... OK
* checking whether the namespace can be loaded with stated dependencies ... OK
* checking whether the namespace can be unloaded cleanly ... OK
* checking whether startup messages can be suppressed ... OK
* checking dependencies in R code ... OK
* checking S3 generic/method consistency ... OK
* checking replacement functions ... OK
* checking foreign function calls ... OK
* checking R code for possible problems ... OK
* checking Rd files ... OK
* checking Rd metadata ... OK
* checking Rd cross-references ... OK
* checking for missing documentation entries ... OK
* checking for code/documentation mismatches ... OK
* checking Rd \usage sections ... OK
* checking Rd contents ... OK
* checking for unstated dependencies in examples ... OK
* checking files in ‘vignettes’ ... OK
* checking examples ... OK
Examples with CPU (user + system) or elapsed time > 5s
user system elapsed
abundance_based_binning 8.843 0.914 7.815
hierarchical_binning 5.018 0.564 4.597
* checking for unstated dependencies in ‘tests’ ... OK
* checking tests ...
Running ‘spelling.R’
Running ‘testthat.R’
OK
* checking for unstated dependencies in vignettes ... OK
* checking package vignettes ... OK
* checking running R code from vignettes ... SKIPPED
* checking re-building of vignette outputs ... SKIPPED
* checking PDF version of manual ... OK
* DONE
Status: OK
metabinR.Rcheck/00install.out
############################################################################## ############################################################################## ### ### Running command: ### ### /Library/Frameworks/R.framework/Resources/bin/R CMD INSTALL metabinR ### ############################################################################## ############################################################################## * installing to library ‘/Library/Frameworks/R.framework/Versions/4.4-arm64/Resources/library’ * installing *source* package ‘metabinR’ ... ** using staged installation ** R ** inst ** byte-compile and prepare package for lazy loading ** help *** installing help indices ** building package indices ** installing vignettes ** testing if installed package can be loaded from temporary location ** testing if installed package can be loaded from final location ** testing if installed package keeps a record of temporary installation path * DONE (metabinR)
metabinR.Rcheck/tests/spelling.Rout
R version 4.4.1 (2024-06-14) -- "Race for Your Life"
Copyright (C) 2024 The R Foundation for Statistical Computing
Platform: aarch64-apple-darwin20
R is free software and comes with ABSOLUTELY NO WARRANTY.
You are welcome to redistribute it under certain conditions.
Type 'license()' or 'licence()' for distribution details.
R is a collaborative project with many contributors.
Type 'contributors()' for more information and
'citation()' on how to cite R or R packages in publications.
Type 'demo()' for some demos, 'help()' for on-line help, or
'help.start()' for an HTML browser interface to help.
Type 'q()' to quit R.
> if(requireNamespace('spelling', quietly = TRUE))
+ spelling::spell_check_test(vignettes = TRUE, error = FALSE,
+ skip_on_cran = TRUE)
NULL
>
> proc.time()
user system elapsed
0.220 0.073 0.280
metabinR.Rcheck/tests/testthat.Rout
R version 4.4.1 (2024-06-14) -- "Race for Your Life"
Copyright (C) 2024 The R Foundation for Statistical Computing
Platform: aarch64-apple-darwin20
R is free software and comes with ABSOLUTELY NO WARRANTY.
You are welcome to redistribute it under certain conditions.
Type 'license()' or 'licence()' for distribution details.
R is a collaborative project with many contributors.
Type 'contributors()' for more information and
'citation()' on how to cite R or R packages in publications.
Type 'demo()' for some demos, 'help()' for on-line help, or
'help.start()' for an HTML browser interface to help.
Type 'q()' to quit R.
> library(testthat)
> library(metabinR)
>
> test_check("metabinR")
version MTxAB =Wed Oct 16 15:43:16 EDT 2024
cpus=10
using=1
2024/10/18 03:06:49 Using Dictionary ORIGINAL
2024/10/18 03:06:49 START of AB Counting
2024/10/18 03:06:49 FastaManager: START READ
2024/10/18 03:06:49 SequenceProcessor: 0 AB_KMERCOUNT START
CHUNK_SIZE=67108864
2024/10/18 03:06:49 FastaManager: lines read 53328
2024/10/18 03:06:49 FastaManager: END READ
2024/10/18 03:06:49 FastaManager: FASTA
2024/10/18 03:06:51 SequenceProcessor: 0 AB_KMERCOUNT EXIT
2024/10/18 03:06:51 END of AB Counting
2024/10/18 03:06:51 Loaded sequences: 26664
2024/10/18 03:06:51 Total kmers(before remove): 65536
##### Heap utilization statistics [GB] #####
Max Memory=0.5
Current Total Memory=0.5
Current Used Memory=0.289
Current Free Memory=0.211
############################################
2024/10/18 03:06:51
Unique: 0
Distinct: 65536
Total: 7625904
MaxCount: 1574
2024/10/18 03:06:51 START of EMsync
Run=1
Run=2
Run=3
Run=4
Run=5
Run=6
Run=7
Run=8
Run=9
Run=10
Run=11
Run=12
Run=13
Run=14
Run=15
Run=16
Run=17
Run=18
Run=19
Run=20
Run=21
Run=22
Run=23
Run=24
Run=25
2024/10/18 03:06:52 Runs=25
2024/10/18 03:06:52 END of EMsync
2024/10/18 03:06:52 START of Creating AB Cluster Vectors
Cluster 1 Abundance=241.01134335779187 Length=16168.173737759447 LowLimit=163 HighLimit=318
Cluster 2 Abundance=75.538888587297 Length=49367.82626224055 LowLimit=32 HighLimit=118
2024/10/18 03:06:52 Trove size/4=18022
2024/10/18 03:06:52 Trove size/4=18022
2024/10/18 03:06:52 Cluster 1 size in kmers=65536 norm=126.50589485137961
2024/10/18 03:06:52 Cluster 2 size in kmers=65536 norm=221.81983091435748
2024/10/18 03:06:52 END of Creating AB Cluster Vectors
cpus=10
using=1
2024/10/18 03:06:52 START of AB Binning
2024/10/18 03:06:52 FastaManager: START READ
2024/10/18 03:06:52 SequenceProcessor: 0 AB_BINNING START
2024/10/18 03:06:52 FastaManager: lines read 53328
2024/10/18 03:06:52 FastaManager: END READ
2024/10/18 03:06:52 FastaManager: FASTA
2024/10/18 03:06:55 SequenceProcessor: 0 AB_BINNING EXIT
2024/10/18 03:06:55 END of AB Binning
Clustered reads:
AB Cluster 1: 19871
AB Cluster 2: 6793
##### Heap utilization statistics [GB] #####
Max Memory=0.5
Current Total Memory=0.5
Current Used Memory=0.373
Current Free Memory=0.127
############################################
version MTxCB =Wed Oct 16 15:43:16 EDT 2024
cpus=10
using=1
2024/10/18 03:06:56 START of CB Counting
2024/10/18 03:06:56 FastaManager: START READ
2024/10/18 03:06:56 SequenceProcessor: 0 CB_SEQUENCEVECTORBUILD START
2024/10/18 03:06:56 FastaManager: lines read 53328
2024/10/18 03:06:56 FastaManager: END READ
2024/10/18 03:06:56 FastaManager: FASTA
2024/10/18 03:06:57 SequenceProcessor: 0 CB_SEQUENCEVECTORBUILD EXIT
2024/10/18 03:06:57 END of CB Counting
2024/10/18 03:06:57 Loaded sequences: 26664
##### Heap utilization statistics [GB] #####
Max Memory=0.5
Current Total Memory=0.5
Current Used Memory=0.358
Current Free Memory=0.142
############################################
cpus=10
using=1
2024/10/18 03:06:57 START of Creating CB Clusters Size=26664
K-Means clustering started
... centers initialized
... concurrent processing mode with 1 subtask threads
... iteration 1 moves = 6957
... iteration 2 moves = 2441
... iteration 3 moves = 763
... iteration 4 moves = 515
... iteration 5 moves = 416
... iteration 6 moves = 345
... iteration 7 moves = 309
... iteration 8 moves = 262
... iteration 9 moves = 274
... iteration 10 moves = 240
... iteration 11 moves = 172
... iteration 12 moves = 103
... iteration 13 moves = 63
... iteration 14 moves = 53
... iteration 15 moves = 31
... iteration 16 moves = 12
... iteration 17 moves = 15
... iteration 18 moves = 6
... iteration 19 moves = 2
... iteration 20 moves = 2
... iteration 21 moves = 0
...end. 9.07 seconds.
2024/10/18 03:07:06 END of Creating CB Clusters.
2024/10/18 03:07:06 : kMeans cleanup.
cpus=10
using=1
2024/10/18 03:07:06 START of CB Binning
2024/10/18 03:07:06 FastaManager: START READ
2024/10/18 03:07:06 SequenceProcessor: 0 CB_BINNING START
2024/10/18 03:07:06 FastaManager: lines read 53328
2024/10/18 03:07:06 FastaManager: END READ
2024/10/18 03:07:06 FastaManager: FASTA
2024/10/18 03:07:06 SequenceProcessor: 0 CB_BINNING EXIT
Clustered reads:
CB Cluster 1: 17349
CB Cluster 2: 9315
##### Heap utilization statistics [GB] #####
Max Memory=0.5
Current Total Memory=0.5
Current Used Memory=0.442
Current Free Memory=0.058
############################################
version MTxABxCB =Wed Oct 16 15:43:16 EDT 2024
cpus=10
using=1
2024/10/18 03:07:06 Using Dictionary ORIGINAL
2024/10/18 03:07:06 START of AB Counting
2024/10/18 03:07:06 FastaManager: START READ
2024/10/18 03:07:06 SequenceProcessor: 0 AB_KMERCOUNT START
2024/10/18 03:07:06 FastaManager: lines read 53328
2024/10/18 03:07:06 FastaManager: END READ
2024/10/18 03:07:06 FastaManager: FASTA
2024/10/18 03:07:08 SequenceProcessor: 0 AB_KMERCOUNT EXIT
2024/10/18 03:07:08 END of AB Counting
2024/10/18 03:07:08 Loaded sequences: 26664
2024/10/18 03:07:08 Distinct kmers(before remove): 65536
##### Heap utilization statistics [GB] #####
Max Memory=0.5
Current Total Memory=0.5
Current Used Memory=0.27
Current Free Memory=0.23
############################################
2024/10/18 03:07:08
Unique: 0
Distinct: 65536
Total: 7625904
MaxCount: 1574
2024/10/18 03:07:08 START of EMsync
Run=1
Run=2
Run=3
Run=4
Run=5
Run=6
Run=7
Run=8
Run=9
Run=10
Run=11
Run=12
Run=13
Run=14
Run=15
Run=16
Run=17
Run=18
Run=19
Run=20
Run=21
Run=22
Run=23
Run=24
Run=25
2024/10/18 03:07:08 Runs=25
2024/10/18 03:07:08 END of EMsync
2024/10/18 03:07:08 Filter before=2
2024/10/18 03:07:08 Filter after=2
2024/10/18 03:07:08 START of Creating AB Cluster Vectors
Cluster 1 Abundance=75.538888587297 Length=49367.82626224055 LowLimit=32 HighLimit=118
Cluster 2 Abundance=241.01134335779187 Length=16168.173737759447 LowLimit=163 HighLimit=318
2024/10/18 03:07:08 Trove size/4=18022
2024/10/18 03:07:08 Trove size/4=18022
2024/10/18 03:07:08 Cluster 2 size in kmers=65536 norm=126.50589485137961
2024/10/18 03:07:08 Cluster 1 size in kmers=65536 norm=221.81983091435748
2024/10/18 03:07:08 END of Creating AB Cluster Vectors
cpus=10
using=1
2024/10/18 03:07:08 START of AB Binning
2024/10/18 03:07:08 FastaManager: START READ
2024/10/18 03:07:08 SequenceProcessor: 0 AB_BINNING START
2024/10/18 03:07:09 FastaManager: lines read 53328
2024/10/18 03:07:09 FastaManager: END READ
2024/10/18 03:07:09 FastaManager: FASTA
2024/10/18 03:07:12 SequenceProcessor: 0 AB_BINNING EXIT
2024/10/18 03:07:12 END of AB Binning
cpus=10
using=1
2024/10/18 03:07:12 START of CB Counting
2024/10/18 03:07:12 FastaManager: START READ
2024/10/18 03:07:12 SequenceProcessor: 0 CB_SEQUENCEVECTORBUILD START
2024/10/18 03:07:12 FastaManager: lines read 53328
2024/10/18 03:07:12 FastaManager: END READ
2024/10/18 03:07:12 FastaManager: FASTA
2024/10/18 03:07:13 SequenceProcessor: 0 CB_SEQUENCEVECTORBUILD EXIT
2024/10/18 03:07:13 END of CB Counting
2024/10/18 03:07:13 Loaded sequences: 26664
##### Heap utilization statistics [GB] #####
Max Memory=0.5
Current Total Memory=0.494
Current Used Memory=0.279
Current Free Memory=0.215
############################################
2024/10/18 03:07:13 AB Cluster=1 Size=6793
2024/10/18 03:07:13 AB Cluster=2 Size=19871
cpus=10
using=1
ABid size abundance EMLength newLength EMspecies newspecies
----- ---- --------- -------- --------- --------- ----------
1 6,793 75.53889 49,367 13,489 1 1
2024/10/18 03:07:13 START of Creating CB Clusters for AB Cluster=1 Size=6793
K-Means clustering started
... centers initialized
... concurrent processing mode with 1 subtask threads
... iteration 1 moves = 0
...end. 1.235 seconds.
2024/10/18 03:07:14 : kMeans cleanup.
2024/10/18 03:07:14 END of Creating CB Clusters for AB Cluster=1
cpus=10
using=1
ABid size abundance EMLength newLength EMspecies newspecies
----- ---- --------- -------- --------- --------- ----------
2 19,871 241.01134 16,168 12,367 1 1
2024/10/18 03:07:14 START of Creating CB Clusters for AB Cluster=2 Size=19871
K-Means clustering started
... centers initialized
... concurrent processing mode with 1 subtask threads
... iteration 1 moves = 0
...end. 3.457 seconds.
2024/10/18 03:07:17 : kMeans cleanup.
2024/10/18 03:07:17 END of Creating CB Clusters for AB Cluster=2
##### Heap utilization statistics [GB] #####
Max Memory=0.5
Current Total Memory=0.494
Current Used Memory=0.376
Current Free Memory=0.118
############################################
cpus=10
using=1
2024/10/18 03:07:17 START of CB Binning
2024/10/18 03:07:17 FastaManager: START READ
2024/10/18 03:07:17 SequenceProcessor: 0 CB_BINNING START
2024/10/18 03:07:17 FastaManager: lines read 53328
2024/10/18 03:07:17 FastaManager: END READ
2024/10/18 03:07:17 FastaManager: FASTA
2024/10/18 03:07:18 SequenceProcessor: 0 CB_BINNING EXIT
Clustered reads:
ABxCB Cluster 1: 6793
ABxCB Cluster 2: 19871
##### Heap utilization statistics [GB] #####
Max Memory=0.5
Current Total Memory=0.5
Current Used Memory=0.437
Current Free Memory=0.063
############################################
[ FAIL 0 | WARN 0 | SKIP 0 | PASS 52 ]
>
> proc.time()
user system elapsed
35.861 1.119 30.372
metabinR.Rcheck/metabinR-Ex.timings
| name | user | system | elapsed | |
| abundance_based_binning | 8.843 | 0.914 | 7.815 | |
| composition_based_binning | 2.903 | 0.497 | 2.326 | |
| hierarchical_binning | 5.018 | 0.564 | 4.597 | |