| Back to Multiple platform build/check report for BioC 3.19: simplified long |
|
This page was generated on 2024-06-11 14:42 -0400 (Tue, 11 Jun 2024).
| Hostname | OS | Arch (*) | R version | Installed pkgs |
|---|---|---|---|---|
| nebbiolo1 | Linux (Ubuntu 22.04.3 LTS) | x86_64 | 4.4.0 (2024-04-24) -- "Puppy Cup" | 4757 |
| palomino3 | Windows Server 2022 Datacenter | x64 | 4.4.0 (2024-04-24 ucrt) -- "Puppy Cup" | 4491 |
| lconway | macOS 12.7.1 Monterey | x86_64 | 4.4.0 (2024-04-24) -- "Puppy Cup" | 4522 |
| kjohnson3 | macOS 13.6.5 Ventura | arm64 | 4.4.0 (2024-04-24) -- "Puppy Cup" | 4468 |
| Click on any hostname to see more info about the system (e.g. compilers) (*) as reported by 'uname -p', except on Windows and Mac OS X | ||||
| Package 1175/2300 | Hostname | OS / Arch | INSTALL | BUILD | CHECK | BUILD BIN | ||||||||
| matter 2.6.1 (landing page) Kylie A. Bemis
| nebbiolo1 | Linux (Ubuntu 22.04.3 LTS) / x86_64 | OK | OK | OK | |||||||||
| palomino3 | Windows Server 2022 Datacenter / x64 | OK | OK | OK | OK | |||||||||
| lconway | macOS 12.7.1 Monterey / x86_64 | OK | OK | OK | OK | |||||||||
| kjohnson3 | macOS 13.6.5 Ventura / arm64 | OK | OK | OK | OK | |||||||||
|
To the developers/maintainers of the matter package: - Allow up to 24 hours (and sometimes 48 hours) for your latest push to git@git.bioconductor.org:packages/matter.git to reflect on this report. See Troubleshooting Build Report for more information. - Use the following Renviron settings to reproduce errors and warnings. - If 'R CMD check' started to fail recently on the Linux builder(s) over a missing dependency, add the missing dependency to 'Suggests:' in your DESCRIPTION file. See Renviron.bioc for more information. |
| Package: matter |
| Version: 2.6.1 |
| Command: /Library/Frameworks/R.framework/Resources/bin/R CMD check --install=check:matter.install-out.txt --library=/Library/Frameworks/R.framework/Resources/library --no-vignettes --timings matter_2.6.1.tar.gz |
| StartedAt: 2024-06-09 21:18:21 -0400 (Sun, 09 Jun 2024) |
| EndedAt: 2024-06-09 21:21:38 -0400 (Sun, 09 Jun 2024) |
| EllapsedTime: 197.0 seconds |
| RetCode: 0 |
| Status: OK |
| CheckDir: matter.Rcheck |
| Warnings: 0 |
##############################################################################
##############################################################################
###
### Running command:
###
### /Library/Frameworks/R.framework/Resources/bin/R CMD check --install=check:matter.install-out.txt --library=/Library/Frameworks/R.framework/Resources/library --no-vignettes --timings matter_2.6.1.tar.gz
###
##############################################################################
##############################################################################
* using log directory ‘/Users/biocbuild/bbs-3.19-bioc/meat/matter.Rcheck’
* using R version 4.4.0 (2024-04-24)
* using platform: x86_64-apple-darwin20
* R was compiled by
Apple clang version 14.0.0 (clang-1400.0.29.202)
GNU Fortran (GCC) 12.2.0
* running under: macOS Monterey 12.7.1
* using session charset: UTF-8
* using option ‘--no-vignettes’
* checking for file ‘matter/DESCRIPTION’ ... OK
* checking extension type ... Package
* this is package ‘matter’ version ‘2.6.1’
* checking package namespace information ... OK
* checking package dependencies ... OK
* checking if this is a source package ... OK
* checking if there is a namespace ... OK
* checking for hidden files and directories ... OK
* checking for portable file names ... OK
* checking for sufficient/correct file permissions ... OK
* checking whether package ‘matter’ can be installed ... OK
* used C++ compiler: ‘Apple clang version 14.0.0 (clang-1400.0.29.202)’
* used SDK: ‘MacOSX11.3.sdk’
* checking installed package size ... OK
* checking package directory ... OK
* checking ‘build’ directory ... OK
* checking DESCRIPTION meta-information ... OK
* checking top-level files ... OK
* checking for left-over files ... OK
* checking index information ... OK
* checking package subdirectories ... OK
* checking code files for non-ASCII characters ... OK
* checking R files for syntax errors ... OK
* checking whether the package can be loaded ... OK
* checking whether the package can be loaded with stated dependencies ... OK
* checking whether the package can be unloaded cleanly ... OK
* checking whether the namespace can be loaded with stated dependencies ... OK
* checking whether the namespace can be unloaded cleanly ... OK
* checking whether startup messages can be suppressed ... OK
* checking dependencies in R code ... OK
* checking S3 generic/method consistency ... OK
* checking replacement functions ... OK
* checking foreign function calls ... OK
* checking R code for possible problems ... OK
* checking Rd files ... OK
* checking Rd metadata ... OK
* checking Rd cross-references ... OK
* checking for missing documentation entries ... OK
* checking for code/documentation mismatches ... OK
* checking Rd \usage sections ... OK
* checking Rd contents ... OK
* checking for unstated dependencies in examples ... OK
* checking line endings in C/C++/Fortran sources/headers ... OK
* checking compiled code ... NOTE
Note: information on .o files is not available
* checking files in ‘vignettes’ ... OK
* checking examples ... OK
* checking for unstated dependencies in ‘tests’ ... OK
* checking tests ...
Running ‘testthat.R’
OK
* checking for unstated dependencies in vignettes ... OK
* checking package vignettes ... OK
* checking running R code from vignettes ... SKIPPED
* checking re-building of vignette outputs ... SKIPPED
* checking PDF version of manual ... OK
* DONE
Status: 1 NOTE
See
‘/Users/biocbuild/bbs-3.19-bioc/meat/matter.Rcheck/00check.log’
for details.
matter.Rcheck/00install.out
##############################################################################
##############################################################################
###
### Running command:
###
### /Library/Frameworks/R.framework/Resources/bin/R CMD INSTALL matter
###
##############################################################################
##############################################################################
* installing to library ‘/Library/Frameworks/R.framework/Versions/4.4-x86_64/Resources/library’
* installing *source* package ‘matter’ ...
** using staged installation
** libs
using C++ compiler: ‘Apple clang version 14.0.0 (clang-1400.0.29.202)’
using SDK: ‘MacOSX11.3.sdk’
clang++ -arch x86_64 -std=gnu++17 -I"/Library/Frameworks/R.framework/Resources/include" -DNDEBUG -I/opt/R/x86_64/include -fPIC -falign-functions=64 -Wall -g -O2 -c altrep.cpp -o altrep.o
clang++ -arch x86_64 -std=gnu++17 -I"/Library/Frameworks/R.framework/Resources/include" -DNDEBUG -I/opt/R/x86_64/include -fPIC -falign-functions=64 -Wall -g -O2 -c init.cpp -o init.o
In file included from init.cpp:3:
In file included from ./matterExports.h:13:
./signal2.h:153:24: warning: variable 'lo' set but not used [-Wunused-but-set-variable]
index_t ii, jj, prev, lo, hi;
^
1 warning generated.
clang++ -arch x86_64 -std=gnu++17 -I"/Library/Frameworks/R.framework/Resources/include" -DNDEBUG -I/opt/R/x86_64/include -fPIC -falign-functions=64 -Wall -g -O2 -c matterExports.cpp -o matterExports.o
In file included from matterExports.cpp:2:
In file included from ./matterExports.h:13:
./signal2.h:153:24: warning: variable 'lo' set but not used [-Wunused-but-set-variable]
index_t ii, jj, prev, lo, hi;
^
1 warning generated.
clang++ -arch x86_64 -std=gnu++17 -dynamiclib -Wl,-headerpad_max_install_names -undefined dynamic_lookup -L/Library/Frameworks/R.framework/Resources/lib -L/opt/R/x86_64/lib -o matter.so altrep.o init.o matterExports.o -F/Library/Frameworks/R.framework/.. -framework R -Wl,-framework -Wl,CoreFoundation
installing to /Library/Frameworks/R.framework/Versions/4.4-x86_64/Resources/library/00LOCK-matter/00new/matter/libs
** R
** byte-compile and prepare package for lazy loading
** help
*** installing help indices
** building package indices
** installing vignettes
** testing if installed package can be loaded from temporary location
** checking absolute paths in shared objects and dynamic libraries
** testing if installed package can be loaded from final location
** testing if installed package keeps a record of temporary installation path
* DONE (matter)
matter.Rcheck/tests/testthat.Rout
R version 4.4.0 (2024-04-24) -- "Puppy Cup"
Copyright (C) 2024 The R Foundation for Statistical Computing
Platform: x86_64-apple-darwin20
R is free software and comes with ABSOLUTELY NO WARRANTY.
You are welcome to redistribute it under certain conditions.
Type 'license()' or 'licence()' for distribution details.
R is a collaborative project with many contributors.
Type 'contributors()' for more information and
'citation()' on how to cite R or R packages in publications.
Type 'demo()' for some demos, 'help()' for on-line help, or
'help.start()' for an HTML browser interface to help.
Type 'q()' to quit R.
> library(testthat)
> library(matter)
Loading required package: BiocParallel
Loading required package: Matrix
>
> test_check("matter")
[ FAIL 0 | WARN 0 | SKIP 0 | PASS 1491 ]
>
> proc.time()
user system elapsed
83.940 3.387 87.636
matter.Rcheck/matter-Ex.timings
| name | user | system | elapsed | |
| RNGStreams | 0.893 | 0.005 | 0.900 | |
| approx1 | 0.003 | 0.001 | 0.005 | |
| approx2 | 0.007 | 0.001 | 0.008 | |
| asearch | 0.001 | 0.000 | 0.001 | |
| biglm | 0.090 | 0.007 | 0.098 | |
| binpeaks | 0.006 | 0.001 | 0.008 | |
| binvec | 0.001 | 0.001 | 0.001 | |
| bsearch | 0.001 | 0.000 | 0.002 | |
| checksum | 0.022 | 0.004 | 0.027 | |
| chunkApply | 0.147 | 0.015 | 0.162 | |
| colscale | 0.097 | 0.003 | 0.099 | |
| colsweep | 0.021 | 0.001 | 0.022 | |
| convolve_at | 0.109 | 0.009 | 0.117 | |
| coscore | 0.033 | 0.007 | 0.040 | |
| cpal | 0.010 | 0.002 | 0.013 | |
| cv_do | 0.137 | 0.002 | 0.140 | |
| deferred-ops | 0.062 | 0.006 | 0.068 | |
| downsample | 0.042 | 0.002 | 0.045 | |
| drle-class | 0.001 | 0.000 | 0.003 | |
| enhance | 0.027 | 0.002 | 0.030 | |
| estbase | 0.012 | 0.002 | 0.014 | |
| estdim | 0.003 | 0.000 | 0.003 | |
| estnoise | 0.077 | 0.004 | 0.082 | |
| estres | 0.002 | 0.000 | 0.001 | |
| fastmap | 0.249 | 0.016 | 0.264 | |
| filt1 | 0.022 | 0.002 | 0.024 | |
| filt2 | 0.025 | 0.001 | 0.026 | |
| findpeaks | 0.039 | 0.006 | 0.045 | |
| findpeaks_cwt | 0.115 | 0.011 | 0.126 | |
| inpoly | 0.004 | 0.001 | 0.005 | |
| knnsearch | 0.002 | 0.000 | 0.001 | |
| matter-class | 0.034 | 0.003 | 0.037 | |
| matter_arr-class | 0.030 | 0.002 | 0.032 | |
| matter_fct-class | 0.020 | 0.001 | 0.021 | |
| matter_list-class | 0.010 | 0.002 | 0.012 | |
| matter_str-class | 0.018 | 0.002 | 0.020 | |
| memtime | 0.460 | 0.006 | 0.468 | |
| mi_learn | 0.546 | 0.010 | 0.557 | |
| nnmf | 0.011 | 0.001 | 0.012 | |
| nscentroids | 0.087 | 0.000 | 0.087 | |
| peakwidths | 0.001 | 0.000 | 0.001 | |
| plot_signal | 0.479 | 0.051 | 0.533 | |
| pls | 0.044 | 0.001 | 0.044 | |
| prcomp | 0.074 | 0.017 | 0.091 | |
| predscore | 0.001 | 0.000 | 0.002 | |
| rescale | 0.000 | 0.000 | 0.001 | |
| rocscore | 0.003 | 0.001 | 0.004 | |
| rollvec | 0.001 | 0.000 | 0.001 | |
| rowDists | 0.061 | 0.001 | 0.063 | |
| rowStats | 0.114 | 0.005 | 0.120 | |
| sgmix | 2.889 | 0.056 | 2.952 | |
| simspec | 0.032 | 0.006 | 0.038 | |
| sparse_arr-class | 0.008 | 0.001 | 0.009 | |
| stream-stats | 0.005 | 0.000 | 0.006 | |
| struct | 0.005 | 0.001 | 0.006 | |
| summary-stats | 0.177 | 0.012 | 0.189 | |
| to_raster | 0.003 | 0.001 | 0.004 | |
| trans2d | 0.047 | 0.002 | 0.050 | |
| uuid | 0.001 | 0.000 | 0.001 | |
| vizi-functions | 0.058 | 0.007 | 0.066 | |
| warp1 | 0.028 | 0.002 | 0.030 | |
| warp2 | 1.004 | 0.015 | 1.023 | |