| Back to Multiple platform build/check report for BioC 3.19: simplified long |
|
This page was generated on 2024-06-11 14:42 -0400 (Tue, 11 Jun 2024).
| Hostname | OS | Arch (*) | R version | Installed pkgs |
|---|---|---|---|---|
| nebbiolo1 | Linux (Ubuntu 22.04.3 LTS) | x86_64 | 4.4.0 (2024-04-24) -- "Puppy Cup" | 4757 |
| palomino3 | Windows Server 2022 Datacenter | x64 | 4.4.0 (2024-04-24 ucrt) -- "Puppy Cup" | 4491 |
| lconway | macOS 12.7.1 Monterey | x86_64 | 4.4.0 (2024-04-24) -- "Puppy Cup" | 4522 |
| kjohnson3 | macOS 13.6.5 Ventura | arm64 | 4.4.0 (2024-04-24) -- "Puppy Cup" | 4468 |
| Click on any hostname to see more info about the system (e.g. compilers) (*) as reported by 'uname -p', except on Windows and Mac OS X | ||||
| Package 1112/2300 | Hostname | OS / Arch | INSTALL | BUILD | CHECK | BUILD BIN | ||||||||
| limpca 1.0.0 (landing page) Manon Martin
| nebbiolo1 | Linux (Ubuntu 22.04.3 LTS) / x86_64 | OK | OK | OK | |||||||||
| palomino3 | Windows Server 2022 Datacenter / x64 | OK | OK | OK | OK | |||||||||
| lconway | macOS 12.7.1 Monterey / x86_64 | OK | OK | OK | OK | |||||||||
| kjohnson3 | macOS 13.6.5 Ventura / arm64 | OK | OK | OK | OK | |||||||||
|
To the developers/maintainers of the limpca package: - Allow up to 24 hours (and sometimes 48 hours) for your latest push to git@git.bioconductor.org:packages/limpca.git to reflect on this report. See Troubleshooting Build Report for more information. - Use the following Renviron settings to reproduce errors and warnings. - If 'R CMD check' started to fail recently on the Linux builder(s) over a missing dependency, add the missing dependency to 'Suggests:' in your DESCRIPTION file. See Renviron.bioc for more information. |
| Package: limpca |
| Version: 1.0.0 |
| Command: /Library/Frameworks/R.framework/Resources/bin/R CMD check --install=check:limpca.install-out.txt --library=/Library/Frameworks/R.framework/Resources/library --no-vignettes --timings limpca_1.0.0.tar.gz |
| StartedAt: 2024-06-09 21:11:46 -0400 (Sun, 09 Jun 2024) |
| EndedAt: 2024-06-09 21:15:43 -0400 (Sun, 09 Jun 2024) |
| EllapsedTime: 237.1 seconds |
| RetCode: 0 |
| Status: OK |
| CheckDir: limpca.Rcheck |
| Warnings: 0 |
##############################################################################
##############################################################################
###
### Running command:
###
### /Library/Frameworks/R.framework/Resources/bin/R CMD check --install=check:limpca.install-out.txt --library=/Library/Frameworks/R.framework/Resources/library --no-vignettes --timings limpca_1.0.0.tar.gz
###
##############################################################################
##############################################################################
* using log directory ‘/Users/biocbuild/bbs-3.19-bioc/meat/limpca.Rcheck’
* using R version 4.4.0 (2024-04-24)
* using platform: x86_64-apple-darwin20
* R was compiled by
Apple clang version 14.0.0 (clang-1400.0.29.202)
GNU Fortran (GCC) 12.2.0
* running under: macOS Monterey 12.7.1
* using session charset: UTF-8
* using option ‘--no-vignettes’
* checking for file ‘limpca/DESCRIPTION’ ... OK
* checking extension type ... Package
* this is package ‘limpca’ version ‘1.0.0’
* package encoding: UTF-8
* checking package namespace information ... OK
* checking package dependencies ... OK
* checking if this is a source package ... OK
* checking if there is a namespace ... OK
* checking for hidden files and directories ... OK
* checking for portable file names ... OK
* checking for sufficient/correct file permissions ... OK
* checking whether package ‘limpca’ can be installed ... OK
* checking installed package size ... OK
* checking package directory ... OK
* checking ‘build’ directory ... OK
* checking DESCRIPTION meta-information ... OK
* checking top-level files ... OK
* checking for left-over files ... OK
* checking index information ... OK
* checking package subdirectories ... OK
* checking code files for non-ASCII characters ... OK
* checking R files for syntax errors ... OK
* checking whether the package can be loaded ... OK
* checking whether the package can be loaded with stated dependencies ... OK
* checking whether the package can be unloaded cleanly ... OK
* checking whether the namespace can be loaded with stated dependencies ... OK
* checking whether the namespace can be unloaded cleanly ... OK
* checking dependencies in R code ... OK
* checking S3 generic/method consistency ... OK
* checking replacement functions ... OK
* checking foreign function calls ... OK
* checking R code for possible problems ... OK
* checking Rd files ... OK
* checking Rd metadata ... OK
* checking Rd cross-references ... OK
* checking for missing documentation entries ... OK
* checking for code/documentation mismatches ... OK
* checking Rd \usage sections ... OK
* checking Rd contents ... OK
* checking for unstated dependencies in examples ... OK
* checking contents of ‘data’ directory ... OK
* checking data for non-ASCII characters ... OK
* checking data for ASCII and uncompressed saves ... OK
* checking files in ‘vignettes’ ... OK
* checking examples ... OK
Examples with CPU (user + system) or elapsed time > 5s
user system elapsed
lmpBootstrapTests 15.773 3.296 13.547
* checking for unstated dependencies in ‘tests’ ... OK
* checking tests ...
Running ‘testthat.R’
OK
* checking for unstated dependencies in vignettes ... OK
* checking package vignettes ... OK
* checking running R code from vignettes ... SKIPPED
* checking re-building of vignette outputs ... SKIPPED
* checking PDF version of manual ... OK
* DONE
Status: OK
limpca.Rcheck/00install.out
############################################################################## ############################################################################## ### ### Running command: ### ### /Library/Frameworks/R.framework/Resources/bin/R CMD INSTALL limpca ### ############################################################################## ############################################################################## * installing to library ‘/Library/Frameworks/R.framework/Versions/4.4-x86_64/Resources/library’ * installing *source* package ‘limpca’ ... ** using staged installation ** R ** data ** inst ** byte-compile and prepare package for lazy loading ** help *** installing help indices ** building package indices ** installing vignettes ** testing if installed package can be loaded from temporary location ** testing if installed package can be loaded from final location ** testing if installed package keeps a record of temporary installation path * DONE (limpca)
limpca.Rcheck/tests/testthat.Rout
R version 4.4.0 (2024-04-24) -- "Puppy Cup"
Copyright (C) 2024 The R Foundation for Statistical Computing
Platform: x86_64-apple-darwin20
R is free software and comes with ABSOLUTELY NO WARRANTY.
You are welcome to redistribute it under certain conditions.
Type 'license()' or 'licence()' for distribution details.
R is a collaborative project with many contributors.
Type 'contributors()' for more information and
'citation()' on how to cite R or R packages in publications.
Type 'demo()' for some demos, 'help()' for on-line help, or
'help.start()' for an HTML browser interface to help.
Type 'q()' to quit R.
> # This file is part of the standard setup for testthat.
> # It is recommended that you do not modify it.
> #
> # Where should you do additional test configuration?
> # Learn more about the roles of various files in:
> # * https://r-pkgs.org/testing-design.html#sec-tests-files-overview
> # * https://testthat.r-lib.org/articles/special-files.html
>
> library(testthat)
> library(limpca)
>
> test_check("limpca")
| dim outcomes: 10x3
| formula: ~ factA + factB
| design variables (2):
* factA (factor)
* factB (factor)
| dim outcomes: 10x3
| formula: ~ factA + factB
| design variables (2):
* factA (factor)
* factB (factor)
| dim outcomes: 10x3
| formula: ~ factA + factB
| design variables (2):
* factA (factor)
* factB (factor)
| dim outcomes: 10x3
| formula: ~ factA + factB
| design variables (2):
* factA (factor)
* factB (factor)
| dim outcomes: 10x3
| formula:
| design variables (2):
* factA (factor)
* factB (factor)
[ FAIL 0 | WARN 0 | SKIP 0 | PASS 47 ]
>
> proc.time()
user system elapsed
8.936 0.885 9.625
limpca.Rcheck/limpca-Ex.timings
| name | user | system | elapsed | |
| UCH | 0.018 | 0.003 | 0.021 | |
| data2lmpDataList | 0.367 | 0.020 | 0.388 | |
| lmpBootstrapTests | 15.773 | 3.296 | 13.547 | |
| lmpContributions | 3.084 | 1.631 | 1.603 | |
| lmpEffectMatrices | 1.046 | 0.040 | 1.089 | |
| lmpEffectPlot | 1.805 | 0.050 | 1.861 | |
| lmpLoading1dPlot | 4.217 | 0.075 | 4.311 | |
| lmpLoading2dPlot | 2.348 | 0.034 | 2.386 | |
| lmpModelMatrix | 0.006 | 0.003 | 0.008 | |
| lmpPcaEffects | 0.890 | 0.026 | 0.918 | |
| lmpScorePlot | 1.405 | 0.032 | 1.440 | |
| lmpScoreScatterPlotM | 1.200 | 0.040 | 1.244 | |
| lmpScreePlot | 1.023 | 0.028 | 1.055 | |
| pcaBySvd | 0.025 | 0.001 | 0.026 | |
| pcaLoading1dPlot | 0.275 | 0.003 | 0.279 | |
| pcaLoading2dPlot | 1.631 | 0.011 | 1.644 | |
| pcaScorePlot | 0.480 | 0.006 | 0.486 | |
| pcaScreePlot | 0.149 | 0.002 | 0.151 | |
| plotDesign | 3.952 | 0.050 | 4.015 | |
| plotLine | 3.982 | 0.202 | 4.196 | |
| plotMeans | 1.315 | 0.010 | 1.328 | |
| plotScatter | 2.166 | 0.021 | 2.194 | |
| plotScatterM | 0.061 | 0.005 | 0.068 | |
| trout | 0.001 | 0.001 | 0.003 | |