| Back to Multiple platform build/check report for BioC 3.19: simplified long | 
 | 
This page was generated on 2024-10-15 21:54 -0400 (Tue, 15 Oct 2024).
| Hostname | OS | Arch (*) | R version | Installed pkgs | 
|---|---|---|---|---|
| nebbiolo1 | Linux (Ubuntu 22.04.3 LTS) | x86_64 | 4.4.1 (2024-06-14) -- "Race for Your Life" | 4763 | 
| merida1 | macOS 12.7.5 Monterey | x86_64 | 4.4.1 (2024-06-14) -- "Race for Your Life" | 4529 | 
| kjohnson1 | macOS 13.6.6 Ventura | arm64 | 4.4.1 (2024-06-14) -- "Race for Your Life" | 4479 | 
| Click on any hostname to see more info about the system (e.g. compilers) (*) as reported by 'uname -p', except on Windows and Mac OS X | ||||
| Package 1030/2300 | Hostname | OS / Arch | INSTALL | BUILD | CHECK | BUILD BIN | ||||||||
| immunotation 1.12.0  (landing page) Katharina Imkeller 
 | nebbiolo1 | Linux (Ubuntu 22.04.3 LTS) / x86_64 | OK | OK | TIMEOUT | |||||||||
| merida1 | macOS 12.7.5 Monterey / x86_64 | OK | OK | OK | OK |  | ||||||||
| kjohnson1 | macOS 13.6.6 Ventura / arm64 | OK | TIMEOUT | skipped | skipped | |||||||||
| To the developers/maintainers of the immunotation package: - Allow up to 24 hours (and sometimes 48 hours) for your latest push to git@git.bioconductor.org:packages/immunotation.git to reflect on this report. See Troubleshooting Build Report for more information. - Use the following Renviron settings to reproduce errors and warnings. - If 'R CMD check' started to fail recently on the Linux builder(s) over a missing dependency, add the missing dependency to 'Suggests:' in your DESCRIPTION file. See Renviron.bioc for more information. | 
| Package: immunotation | 
| Version: 1.12.0 | 
| Command: /Library/Frameworks/R.framework/Resources/bin/R CMD check --install=check:immunotation.install-out.txt --library=/Library/Frameworks/R.framework/Resources/library --no-vignettes --timings immunotation_1.12.0.tar.gz | 
| StartedAt: 2024-10-14 06:39:37 -0400 (Mon, 14 Oct 2024) | 
| EndedAt: 2024-10-14 06:53:44 -0400 (Mon, 14 Oct 2024) | 
| EllapsedTime: 846.7 seconds | 
| RetCode: 0 | 
| Status: OK | 
| CheckDir: immunotation.Rcheck | 
| Warnings: 0 | 
##############################################################################
##############################################################################
###
### Running command:
###
###   /Library/Frameworks/R.framework/Resources/bin/R CMD check --install=check:immunotation.install-out.txt --library=/Library/Frameworks/R.framework/Resources/library --no-vignettes --timings immunotation_1.12.0.tar.gz
###
##############################################################################
##############################################################################
* using log directory ‘/Users/biocbuild/bbs-3.19-bioc/meat/immunotation.Rcheck’
* using R version 4.4.1 (2024-06-14)
* using platform: x86_64-apple-darwin20
* R was compiled by
    Apple clang version 14.0.0 (clang-1400.0.29.202)
    GNU Fortran (GCC) 12.2.0
* running under: macOS Monterey 12.7.6
* using session charset: UTF-8
* using option ‘--no-vignettes’
* checking for file ‘immunotation/DESCRIPTION’ ... OK
* checking extension type ... Package
* this is package ‘immunotation’ version ‘1.12.0’
* package encoding: UTF-8
* checking package namespace information ... OK
* checking package dependencies ... OK
* checking if this is a source package ... OK
* checking if there is a namespace ... OK
* checking for hidden files and directories ... OK
* checking for portable file names ... OK
* checking for sufficient/correct file permissions ... OK
* checking whether package ‘immunotation’ can be installed ... OK
* checking installed package size ... NOTE
  installed size is  6.2Mb
  sub-directories of 1Mb or more:
    R         3.9Mb
    extdata   2.2Mb
* checking package directory ... OK
* checking ‘build’ directory ... OK
* checking DESCRIPTION meta-information ... OK
* checking top-level files ... OK
* checking for left-over files ... OK
* checking index information ... OK
* checking package subdirectories ... OK
* checking code files for non-ASCII characters ... OK
* checking R files for syntax errors ... OK
* checking whether the package can be loaded ... OK
* checking whether the package can be loaded with stated dependencies ... OK
* checking whether the package can be unloaded cleanly ... OK
* checking whether the namespace can be loaded with stated dependencies ... OK
* checking whether the namespace can be unloaded cleanly ... OK
* checking dependencies in R code ... OK
* checking S3 generic/method consistency ... OK
* checking replacement functions ... OK
* checking foreign function calls ... OK
* checking R code for possible problems ... OK
* checking Rd files ... OK
* checking Rd metadata ... OK
* checking Rd cross-references ... OK
* checking for missing documentation entries ... OK
* checking for code/documentation mismatches ... OK
* checking Rd \usage sections ... OK
* checking Rd contents ... OK
* checking for unstated dependencies in examples ... OK
* checking files in ‘vignettes’ ... OK
* checking examples ... OK
Examples with CPU (user + system) or elapsed time > 5s
                             user system elapsed
plot_allele_frequency       3.918  0.412  84.381
query_haplotype_frequencies 1.004  0.165 176.392
query_allele_frequencies    0.131  0.013   5.543
query_population_detail     0.044  0.005  63.576
* checking for unstated dependencies in ‘tests’ ... OK
* checking tests ...
  Running ‘testthat.R’
 OK
* checking for unstated dependencies in vignettes ... OK
* checking package vignettes ... OK
* checking running R code from vignettes ... SKIPPED
* checking re-building of vignette outputs ... SKIPPED
* checking PDF version of manual ... OK
* DONE
Status: 1 NOTE
See
  ‘/Users/biocbuild/bbs-3.19-bioc/meat/immunotation.Rcheck/00check.log’
for details.
immunotation.Rcheck/00install.out
############################################################################## ############################################################################## ### ### Running command: ### ### /Library/Frameworks/R.framework/Resources/bin/R CMD INSTALL immunotation ### ############################################################################## ############################################################################## * installing to library ‘/Library/Frameworks/R.framework/Versions/4.4-x86_64/Resources/library’ * installing *source* package ‘immunotation’ ... ** using staged installation ** R ** inst ** byte-compile and prepare package for lazy loading ** help *** installing help indices ** building package indices ** installing vignettes ** testing if installed package can be loaded from temporary location ** testing if installed package can be loaded from final location ** testing if installed package keeps a record of temporary installation path * DONE (immunotation)
immunotation.Rcheck/tests/testthat.Rout
R version 4.4.1 (2024-06-14) -- "Race for Your Life"
Copyright (C) 2024 The R Foundation for Statistical Computing
Platform: x86_64-apple-darwin20
R is free software and comes with ABSOLUTELY NO WARRANTY.
You are welcome to redistribute it under certain conditions.
Type 'license()' or 'licence()' for distribution details.
R is a collaborative project with many contributors.
Type 'contributors()' for more information and
'citation()' on how to cite R or R packages in publications.
Type 'demo()' for some demos, 'help()' for on-line help, or
'help.start()' for an HTML browser interface to help.
Type 'q()' to quit R.
> library(testthat)
> library(immunotation)
> 
> test_check("immunotation")
[ FAIL 0 | WARN 1 | SKIP 0 | PASS 146 ]
[ FAIL 0 | WARN 1 | SKIP 0 | PASS 146 ]
> 
> 
> proc.time()
   user  system elapsed 
 87.850   3.856 430.400 
immunotation.Rcheck/immunotation-Ex.timings
| name | user | system | elapsed | |
| assemble_protein_complex | 3.550 | 0.290 | 4.227 | |
| build_allele_group | 3.886 | 0.034 | 4.396 | |
| decode_MAC | 0.045 | 0.010 | 0.359 | |
| encode_MAC | 0.004 | 0.000 | 0.075 | |
| get_G_group | 0.021 | 0.001 | 0.024 | |
| get_P_group | 0.006 | 0.000 | 0.006 | |
| get_mhcpan_input | 0.018 | 0.002 | 0.021 | |
| get_serotypes | 0.034 | 0.000 | 0.036 | |
| get_valid_organisms | 0.005 | 0.001 | 0.006 | |
| human_protein_complex_table | 1.398 | 1.859 | 3.594 | |
| plot_allele_frequency | 3.918 | 0.412 | 84.381 | |
| query_allele_frequencies | 0.131 | 0.013 | 5.543 | |
| query_haplotype_frequencies | 1.004 | 0.165 | 176.392 | |
| query_population_detail | 0.044 | 0.005 | 63.576 | |
| retrieve_chain_lookup_table | 1.547 | 0.035 | 1.896 | |