| Back to Multiple platform build/check report for BioC 3.19: simplified long | 
 | 
This page was generated on 2024-10-18 20:39 -0400 (Fri, 18 Oct 2024).
| Hostname | OS | Arch (*) | R version | Installed pkgs | 
|---|---|---|---|---|
| nebbiolo1 | Linux (Ubuntu 22.04.3 LTS) | x86_64 | 4.4.1 (2024-06-14) -- "Race for Your Life" | 4763 | 
| palomino7 | Windows Server 2022 Datacenter | x64 | 4.4.1 (2024-06-14 ucrt) -- "Race for Your Life" | 4500 | 
| merida1 | macOS 12.7.5 Monterey | x86_64 | 4.4.1 (2024-06-14) -- "Race for Your Life" | 4530 | 
| kjohnson1 | macOS 13.6.6 Ventura | arm64 | 4.4.1 (2024-06-14) -- "Race for Your Life" | 4480 | 
| Click on any hostname to see more info about the system (e.g. compilers) (*) as reported by 'uname -p', except on Windows and Mac OS X | ||||
| Package 1029/2300 | Hostname | OS / Arch | INSTALL | BUILD | CHECK | BUILD BIN | ||||||||
| immunoClust 1.36.0  (landing page) Till Soerensen 
 | nebbiolo1 | Linux (Ubuntu 22.04.3 LTS) / x86_64 | OK | OK | OK |  | ||||||||
| palomino7 | Windows Server 2022 Datacenter / x64 | OK | OK | OK | OK |  | ||||||||
| merida1 | macOS 12.7.5 Monterey / x86_64 | OK | OK | OK | OK |  | ||||||||
| kjohnson1 | macOS 13.6.6 Ventura / arm64 | OK | OK | OK | OK |  | ||||||||
| To the developers/maintainers of the immunoClust package: - Allow up to 24 hours (and sometimes 48 hours) for your latest push to git@git.bioconductor.org:packages/immunoClust.git to reflect on this report. See Troubleshooting Build Report for more information. - Use the following Renviron settings to reproduce errors and warnings. - If 'R CMD check' started to fail recently on the Linux builder(s) over a missing dependency, add the missing dependency to 'Suggests:' in your DESCRIPTION file. See Renviron.bioc for more information. | 
| Package: immunoClust | 
| Version: 1.36.0 | 
| Command: rm -rf immunoClust.buildbin-libdir && mkdir immunoClust.buildbin-libdir && E:\biocbuild\bbs-3.19-bioc\R\bin\R.exe CMD INSTALL --build --library=immunoClust.buildbin-libdir immunoClust_1.36.0.tar.gz | 
| StartedAt: 2024-10-17 07:59:17 -0400 (Thu, 17 Oct 2024) | 
| EndedAt: 2024-10-17 08:00:55 -0400 (Thu, 17 Oct 2024) | 
| EllapsedTime: 98.3 seconds | 
| RetCode: 0 | 
| Status: OK | 
| PackageFile: immunoClust_1.36.0.zip | 
| PackageFileSize: 3.468 MiB | 
##############################################################################
##############################################################################
###
### Running command:
###
###   rm -rf immunoClust.buildbin-libdir && mkdir immunoClust.buildbin-libdir && E:\biocbuild\bbs-3.19-bioc\R\bin\R.exe CMD INSTALL --build --library=immunoClust.buildbin-libdir immunoClust_1.36.0.tar.gz
###
##############################################################################
##############################################################################
* installing *source* package 'immunoClust' ...
** using staged installation
   **********************************************
   WARNING: this package has a configure script
         It probably needs manual configuration
   **********************************************
** libs
using C compiler: 'gcc.exe (GCC) 13.2.0'
using C++ compiler: 'G__~1.EXE (GCC) 13.2.0'
g++ -std=gnu++17  -I"E:/biocbuild/bbs-3.19-bioc/R/include" -DNDEBUG -I/src/include -I/x64/include    -I"C:/rtools44/x86_64-w64-mingw32.static.posix/include"     -O2 -Wall  -mfpmath=sse -msse2 -mstackrealign  -c R_meta.cpp -o R_meta.o
g++ -std=gnu++17  -I"E:/biocbuild/bbs-3.19-bioc/R/include" -DNDEBUG -I/src/include -I/x64/include    -I"C:/rtools44/x86_64-w64-mingw32.static.posix/include"     -O2 -Wall  -mfpmath=sse -msse2 -mstackrealign  -c R_model.cpp -o R_model.o
g++ -std=gnu++17  -I"E:/biocbuild/bbs-3.19-bioc/R/include" -DNDEBUG -I/src/include -I/x64/include    -I"C:/rtools44/x86_64-w64-mingw32.static.posix/include"     -O2 -Wall  -mfpmath=sse -msse2 -mstackrealign  -c dist_mvn.cpp -o dist_mvn.o
g++ -std=gnu++17  -I"E:/biocbuild/bbs-3.19-bioc/R/include" -DNDEBUG -I/src/include -I/x64/include    -I"C:/rtools44/x86_64-w64-mingw32.static.posix/include"     -O2 -Wall  -mfpmath=sse -msse2 -mstackrealign  -c em_meta.cpp -o em_meta.o
g++ -std=gnu++17  -I"E:/biocbuild/bbs-3.19-bioc/R/include" -DNDEBUG -I/src/include -I/x64/include    -I"C:/rtools44/x86_64-w64-mingw32.static.posix/include"     -O2 -Wall  -mfpmath=sse -msse2 -mstackrealign  -c em_meta_bc.cpp -o em_meta_bc.o
g++ -std=gnu++17  -I"E:/biocbuild/bbs-3.19-bioc/R/include" -DNDEBUG -I/src/include -I/x64/include    -I"C:/rtools44/x86_64-w64-mingw32.static.posix/include"     -O2 -Wall  -mfpmath=sse -msse2 -mstackrealign  -c em_meta_kl.cpp -o em_meta_kl.o
g++ -std=gnu++17  -I"E:/biocbuild/bbs-3.19-bioc/R/include" -DNDEBUG -I/src/include -I/x64/include    -I"C:/rtools44/x86_64-w64-mingw32.static.posix/include"     -O2 -Wall  -mfpmath=sse -msse2 -mstackrealign  -c em_mvn.cpp -o em_mvn.o
g++ -std=gnu++17  -I"E:/biocbuild/bbs-3.19-bioc/R/include" -DNDEBUG -I/src/include -I/x64/include    -I"C:/rtools44/x86_64-w64-mingw32.static.posix/include"     -O2 -Wall  -mfpmath=sse -msse2 -mstackrealign  -c em_mvt.cpp -o em_mvt.o
g++ -std=gnu++17  -I"E:/biocbuild/bbs-3.19-bioc/R/include" -DNDEBUG -I/src/include -I/x64/include    -I"C:/rtools44/x86_64-w64-mingw32.static.posix/include"     -O2 -Wall  -mfpmath=sse -msse2 -mstackrealign  -c em_mvt2.cpp -o em_mvt2.o
g++ -std=gnu++17  -I"E:/biocbuild/bbs-3.19-bioc/R/include" -DNDEBUG -I/src/include -I/x64/include    -I"C:/rtools44/x86_64-w64-mingw32.static.posix/include"     -O2 -Wall  -mfpmath=sse -msse2 -mstackrealign  -c hc_meta.cpp -o hc_meta.o
g++ -std=gnu++17  -I"E:/biocbuild/bbs-3.19-bioc/R/include" -DNDEBUG -I/src/include -I/x64/include    -I"C:/rtools44/x86_64-w64-mingw32.static.posix/include"     -O2 -Wall  -mfpmath=sse -msse2 -mstackrealign  -c hc_mvn.cpp -o hc_mvn.o
gcc  -I"E:/biocbuild/bbs-3.19-bioc/R/include" -DNDEBUG -I/src/include -I/x64/include    -I"C:/rtools44/x86_64-w64-mingw32.static.posix/include"     -O2 -Wall  -mfpmath=sse -msse2 -mstackrealign  -c immunoClust.c -o immunoClust.o
g++ -std=gnu++17  -I"E:/biocbuild/bbs-3.19-bioc/R/include" -DNDEBUG -I/src/include -I/x64/include    -I"C:/rtools44/x86_64-w64-mingw32.static.posix/include"     -O2 -Wall  -mfpmath=sse -msse2 -mstackrealign  -c meta_SON.cpp -o meta_SON.o
g++ -std=gnu++17  -I"E:/biocbuild/bbs-3.19-bioc/R/include" -DNDEBUG -I/src/include -I/x64/include    -I"C:/rtools44/x86_64-w64-mingw32.static.posix/include"     -O2 -Wall  -mfpmath=sse -msse2 -mstackrealign  -c meta_norm.cpp -o meta_norm.o
g++ -std=gnu++17  -I"E:/biocbuild/bbs-3.19-bioc/R/include" -DNDEBUG -I/src/include -I/x64/include    -I"C:/rtools44/x86_64-w64-mingw32.static.posix/include"     -O2 -Wall  -mfpmath=sse -msse2 -mstackrealign  -c meta_scale.cpp -o meta_scale.o
g++ -std=gnu++17  -I"E:/biocbuild/bbs-3.19-bioc/R/include" -DNDEBUG -I/src/include -I/x64/include    -I"C:/rtools44/x86_64-w64-mingw32.static.posix/include"     -O2 -Wall  -mfpmath=sse -msse2 -mstackrealign  -c model_scale.cpp -o model_scale.o
g++ -std=gnu++17  -I"E:/biocbuild/bbs-3.19-bioc/R/include" -DNDEBUG -I/src/include -I/x64/include    -I"C:/rtools44/x86_64-w64-mingw32.static.posix/include"     -O2 -Wall  -mfpmath=sse -msse2 -mstackrealign  -c normalize.cpp -o normalize.o
g++ -std=gnu++17  -I"E:/biocbuild/bbs-3.19-bioc/R/include" -DNDEBUG -I/src/include -I/x64/include    -I"C:/rtools44/x86_64-w64-mingw32.static.posix/include"     -O2 -Wall  -mfpmath=sse -msse2 -mstackrealign  -c sub_mvn.cpp -o sub_mvn.o
g++ -std=gnu++17  -I"E:/biocbuild/bbs-3.19-bioc/R/include" -DNDEBUG -I/src/include -I/x64/include    -I"C:/rtools44/x86_64-w64-mingw32.static.posix/include"     -O2 -Wall  -mfpmath=sse -msse2 -mstackrealign  -c util.cpp -o util.o
g++ -std=gnu++17  -I"E:/biocbuild/bbs-3.19-bioc/R/include" -DNDEBUG -I/src/include -I/x64/include    -I"C:/rtools44/x86_64-w64-mingw32.static.posix/include"     -O2 -Wall  -mfpmath=sse -msse2 -mstackrealign  -c vs_htrans.cpp -o vs_htrans.o
g++ -std=gnu++17 -shared -s -static-libgcc -o immunoClust.dll tmp.def R_meta.o R_model.o dist_mvn.o em_meta.o em_meta_bc.o em_meta_kl.o em_mvn.o em_mvt.o em_mvt2.o hc_meta.o hc_mvn.o immunoClust.o meta_SON.o meta_norm.o meta_scale.o model_scale.o normalize.o sub_mvn.o util.o vs_htrans.o -L/x64/lib -lgsl -lgslcblas -lm -LC:/rtools44/x86_64-w64-mingw32.static.posix/lib/x64 -LC:/rtools44/x86_64-w64-mingw32.static.posix/lib -LE:/biocbuild/bbs-3.19-bioc/R/bin/x64 -lR
installing to E:/biocbuild/bbs-3.19-bioc/meat/immunoClust.buildbin-libdir/00LOCK-immunoClust/00new/immunoClust/libs/x64
** R
** data
** inst
** byte-compile and prepare package for lazy loading
** help
*** installing help indices
** building package indices
** installing vignettes
** testing if installed package can be loaded from temporary location
** testing if installed package can be loaded from final location
** testing if installed package keeps a record of temporary installation path
* MD5 sums
packaged installation of 'immunoClust' as immunoClust_1.36.0.zip
* DONE (immunoClust)