| Back to Multiple platform build/check report for BioC 3.19: simplified long | 
 | 
This page was generated on 2024-05-09 11:40:58 -0400 (Thu, 09 May 2024).
| Hostname | OS | Arch (*) | R version | Installed pkgs | 
|---|---|---|---|---|
| nebbiolo1 | Linux (Ubuntu 22.04.3 LTS) | x86_64 | 4.4.0 (2024-04-24) -- "Puppy Cup" | 4748 | 
| palomino3 | Windows Server 2022 Datacenter | x64 | 4.4.0 (2024-04-24 ucrt) -- "Puppy Cup" | 4484 | 
| lconway | macOS 12.7.1 Monterey | x86_64 | 4.4.0 (2024-04-24) -- "Puppy Cup" | 4514 | 
| kunpeng2 | Linux (openEuler 22.03 LTS-SP1) | aarch64 | 4.4.0 beta (2024-04-15 r86425) -- "Puppy Cup" | 4480 | 
| Click on any hostname to see more info about the system (e.g. compilers) (*) as reported by 'uname -p', except on Windows and Mac OS X | ||||
| Package 1020/2300 | Hostname | OS / Arch | INSTALL | BUILD | CHECK | BUILD BIN | ||||||||
| igvR 1.24.0  (landing page) Arkadiusz Gladki 
 | nebbiolo1 | Linux (Ubuntu 22.04.3 LTS) / x86_64 | OK | OK | OK |  | ||||||||
| palomino3 | Windows Server 2022 Datacenter / x64 | OK | OK | OK | OK |  | ||||||||
| lconway | macOS 12.7.1 Monterey / x86_64 | OK | OK | OK | OK |  | ||||||||
| kunpeng2 | Linux (openEuler 22.03 LTS-SP1) / aarch64 | OK | OK | OK | ||||||||||
| kjohnson3 | macOS 13.6.5 Ventura / arm64 | see weekly results here | ||||||||||||
| To the developers/maintainers of the igvR package: - Allow up to 24 hours (and sometimes 48 hours) for your latest push to git@git.bioconductor.org:packages/igvR.git to reflect on this report. See Troubleshooting Build Report for more information. - Use the following Renviron settings to reproduce errors and warnings. - If 'R CMD check' started to fail recently on the Linux builder(s) over a missing dependency, add the missing dependency to 'Suggests:' in your DESCRIPTION file. See Renviron.bioc for more information. - See Martin Grigorov's blog post for how to debug Linux ARM64 related issues on a x86_64 host. | 
| Package: igvR | 
| Version: 1.24.0 | 
| Command: /home/biocbuild/R/R-beta-2024-04-15_r86425/bin/R CMD check --install=check:igvR.install-out.txt --library=/home/biocbuild/R/R-beta-2024-04-15_r86425/site-library --no-vignettes --timings igvR_1.24.0.tar.gz | 
| StartedAt: 2024-05-09 08:30:18 -0000 (Thu, 09 May 2024) | 
| EndedAt: 2024-05-09 08:36:14 -0000 (Thu, 09 May 2024) | 
| EllapsedTime: 356.6 seconds | 
| RetCode: 0 | 
| Status: OK | 
| CheckDir: igvR.Rcheck | 
| Warnings: 0 | 
##############################################################################
##############################################################################
###
### Running command:
###
###   /home/biocbuild/R/R-beta-2024-04-15_r86425/bin/R CMD check --install=check:igvR.install-out.txt --library=/home/biocbuild/R/R-beta-2024-04-15_r86425/site-library --no-vignettes --timings igvR_1.24.0.tar.gz
###
##############################################################################
##############################################################################
* using log directory ‘/home/biocbuild/bbs-3.19-bioc/meat/igvR.Rcheck’
* using R version 4.4.0 beta (2024-04-15 r86425)
* using platform: aarch64-unknown-linux-gnu
* R was compiled by
    gcc (GCC) 10.3.1
    GNU Fortran (GCC) 10.3.1
* running under: openEuler 22.03 (LTS-SP1)
* using session charset: UTF-8
* using option ‘--no-vignettes’
* checking for file ‘igvR/DESCRIPTION’ ... OK
* checking extension type ... Package
* this is package ‘igvR’ version ‘1.24.0’
* package encoding: UTF-8
* checking package namespace information ... OK
* checking package dependencies ... OK
* checking if this is a source package ... OK
* checking if there is a namespace ... OK
* checking for hidden files and directories ... OK
* checking for portable file names ... OK
* checking for sufficient/correct file permissions ... OK
* checking whether package ‘igvR’ can be installed ... OK
* checking installed package size ... NOTE
  installed size is 21.9Mb
  sub-directories of 1Mb or more:
    browserCode  14.9Mb
    extdata       6.3Mb
* checking package directory ... OK
* checking ‘build’ directory ... OK
* checking DESCRIPTION meta-information ... NOTE
License stub is invalid DCF.
* checking top-level files ... OK
* checking for left-over files ... OK
* checking index information ... OK
* checking package subdirectories ... OK
* checking code files for non-ASCII characters ... OK
* checking R files for syntax errors ... OK
* checking whether the package can be loaded ... OK
* checking whether the package can be loaded with stated dependencies ... OK
* checking whether the package can be unloaded cleanly ... OK
* checking whether the namespace can be loaded with stated dependencies ... OK
* checking whether the namespace can be unloaded cleanly ... OK
* checking loading without being on the library search path ... OK
* checking whether startup messages can be suppressed ... OK
* checking dependencies in R code ... OK
* checking S3 generic/method consistency ... OK
* checking replacement functions ... OK
* checking foreign function calls ... OK
* checking R code for possible problems ... NOTE
.writeMotifLogoImagesUpdateTrackNames: no visible binding for global
  variable ‘MotifDb’
.writeMotifLogoImagesUpdateTrackNames: no visible global function
  definition for ‘seqLogo’
Undefined global functions or variables:
  MotifDb seqLogo
* checking Rd files ... OK
* checking Rd metadata ... OK
* checking Rd cross-references ... OK
* checking for missing documentation entries ... OK
* checking for code/documentation mismatches ... OK
* checking Rd \usage sections ... OK
* checking Rd contents ... OK
* checking for unstated dependencies in examples ... OK
* checking include directives in Makefiles ... OK
* checking files in ‘vignettes’ ... OK
* checking examples ... OK
* checking for unstated dependencies in vignettes ... OK
* checking package vignettes ... OK
* checking running R code from vignettes ... SKIPPED
* checking re-building of vignette outputs ... SKIPPED
* checking PDF version of manual ... OK
* DONE
Status: 3 NOTEs
See
  ‘/home/biocbuild/bbs-3.19-bioc/meat/igvR.Rcheck/00check.log’
for details.
igvR.Rcheck/00install.out
############################################################################## ############################################################################## ### ### Running command: ### ### /home/biocbuild/R/R-beta-2024-04-15_r86425/bin/R CMD INSTALL igvR ### ############################################################################## ############################################################################## * installing to library ‘/home/biocbuild/R/R-beta-2024-04-15_r86425/site-library’ * installing *source* package ‘igvR’ ... ** using staged installation ** R ** inst ** byte-compile and prepare package for lazy loading ** help *** installing help indices ** building package indices ** installing vignettes ** testing if installed package can be loaded from temporary location ** testing if installed package can be loaded from final location ** testing if installed package keeps a record of temporary installation path * DONE (igvR)
igvR.Rcheck/igvR-Ex.timings
| name | user | system | elapsed | |
| BedpeInteractionsTrack-class | 0.017 | 0.000 | 0.017 | |
| DataFrameAnnotationTrack-class | 0.017 | 0.000 | 0.017 | |
| DataFrameQuantitativeTrack-class | 0.028 | 0.000 | 0.028 | |
| GFF3Track-class | 0.013 | 0.004 | 0.018 | |
| GRangesAnnotationTrack-class | 0.086 | 0.008 | 0.094 | |
| GRangesQuantitativeTrack-class | 0.016 | 0.008 | 0.024 | |
| GWASTrack-class | 0.114 | 0.016 | 0.132 | |
| GWASUrlTrack-class | 0.006 | 0.000 | 0.005 | |
| GenomicAlignmentTrack-class | 0.326 | 0.008 | 0.338 | |
| UCSCBedAnnotationTrack-class | 0.383 | 0.000 | 0.383 | |
| UCSCBedGraphQuantitativeTrack-class | 0.139 | 0.012 | 0.152 | |
| VariantTrack-class | 1.834 | 0.096 | 1.934 | |
| displayTrack | 0.001 | 0.000 | 0.000 | |
| enableMotifLogoPopups | 0.000 | 0.000 | 0.001 | |
| getGenomicRegion | 0.000 | 0.000 | 0.001 | |
| getSupportedGenomes | 0 | 0 | 0 | |
| getTrackNames | 0 | 0 | 0 | |
| igvR-class | 0 | 0 | 0 | |
| parseAndValidateGenomeSpec | 0.084 | 0.005 | 3.392 | |
| ping | 0 | 0 | 0 | |
| removeTracksByName | 0.002 | 0.000 | 0.001 | |
| setCustomGenome | 0.001 | 0.000 | 0.001 | |
| setGenome | 0 | 0 | 0 | |
| showGenomicRegion | 0 | 0 | 0 | |
| trackSize-DataFrameAnnotationTrack-method | 0.005 | 0.000 | 0.005 | |
| trackSize-UCSCBedAnnotationTrack-method | 0.130 | 0.004 | 0.135 | |
| url.exists | 0 | 0 | 0 | |