| Back to Multiple platform build/check report for BioC 3.19: simplified long |
|
This page was generated on 2024-10-18 20:38 -0400 (Fri, 18 Oct 2024).
| Hostname | OS | Arch (*) | R version | Installed pkgs |
|---|---|---|---|---|
| nebbiolo1 | Linux (Ubuntu 22.04.3 LTS) | x86_64 | 4.4.1 (2024-06-14) -- "Race for Your Life" | 4763 |
| palomino7 | Windows Server 2022 Datacenter | x64 | 4.4.1 (2024-06-14 ucrt) -- "Race for Your Life" | 4500 |
| merida1 | macOS 12.7.5 Monterey | x86_64 | 4.4.1 (2024-06-14) -- "Race for Your Life" | 4530 |
| kjohnson1 | macOS 13.6.6 Ventura | arm64 | 4.4.1 (2024-06-14) -- "Race for Your Life" | 4480 |
| Click on any hostname to see more info about the system (e.g. compilers) (*) as reported by 'uname -p', except on Windows and Mac OS X | ||||
| Package 1016/2300 | Hostname | OS / Arch | INSTALL | BUILD | CHECK | BUILD BIN | ||||||||
| idr2d 1.18.0 (landing page) Konstantin Krismer
| nebbiolo1 | Linux (Ubuntu 22.04.3 LTS) / x86_64 | OK | OK | OK | |||||||||
| palomino7 | Windows Server 2022 Datacenter / x64 | OK | OK | OK | OK | |||||||||
| merida1 | macOS 12.7.5 Monterey / x86_64 | OK | OK | OK | OK | |||||||||
| kjohnson1 | macOS 13.6.6 Ventura / arm64 | OK | OK | OK | OK | |||||||||
|
To the developers/maintainers of the idr2d package: - Allow up to 24 hours (and sometimes 48 hours) for your latest push to git@git.bioconductor.org:packages/idr2d.git to reflect on this report. See Troubleshooting Build Report for more information. - Use the following Renviron settings to reproduce errors and warnings. - If 'R CMD check' started to fail recently on the Linux builder(s) over a missing dependency, add the missing dependency to 'Suggests:' in your DESCRIPTION file. See Renviron.bioc for more information. |
| Package: idr2d |
| Version: 1.18.0 |
| Command: /home/biocbuild/bbs-3.19-bioc/R/bin/R CMD check --install=check:idr2d.install-out.txt --library=/home/biocbuild/bbs-3.19-bioc/R/site-library --timings idr2d_1.18.0.tar.gz |
| StartedAt: 2024-10-17 01:32:08 -0400 (Thu, 17 Oct 2024) |
| EndedAt: 2024-10-17 01:35:27 -0400 (Thu, 17 Oct 2024) |
| EllapsedTime: 198.4 seconds |
| RetCode: 0 |
| Status: OK |
| CheckDir: idr2d.Rcheck |
| Warnings: 0 |
##############################################################################
##############################################################################
###
### Running command:
###
### /home/biocbuild/bbs-3.19-bioc/R/bin/R CMD check --install=check:idr2d.install-out.txt --library=/home/biocbuild/bbs-3.19-bioc/R/site-library --timings idr2d_1.18.0.tar.gz
###
##############################################################################
##############################################################################
* using log directory ‘/home/biocbuild/bbs-3.19-bioc/meat/idr2d.Rcheck’
* using R version 4.4.1 (2024-06-14)
* using platform: x86_64-pc-linux-gnu
* R was compiled by
gcc (Ubuntu 11.4.0-1ubuntu1~22.04) 11.4.0
GNU Fortran (Ubuntu 11.4.0-1ubuntu1~22.04) 11.4.0
* running under: Ubuntu 22.04.5 LTS
* using session charset: UTF-8
* checking for file ‘idr2d/DESCRIPTION’ ... OK
* this is package ‘idr2d’ version ‘1.18.0’
* package encoding: UTF-8
* checking package namespace information ... OK
* checking package dependencies ... OK
* checking if this is a source package ... OK
* checking if there is a namespace ... OK
* checking for hidden files and directories ... OK
* checking for portable file names ... OK
* checking for sufficient/correct file permissions ... OK
* checking whether package ‘idr2d’ can be installed ... OK
* checking installed package size ... OK
* checking package directory ... OK
* checking ‘build’ directory ... OK
* checking DESCRIPTION meta-information ... OK
* checking top-level files ... OK
* checking for left-over files ... OK
* checking index information ... OK
* checking package subdirectories ... OK
* checking code files for non-ASCII characters ... OK
* checking R files for syntax errors ... OK
* checking whether the package can be loaded ... OK
* checking whether the package can be loaded with stated dependencies ... OK
* checking whether the package can be unloaded cleanly ... OK
* checking whether the namespace can be loaded with stated dependencies ... OK
* checking whether the namespace can be unloaded cleanly ... OK
* checking loading without being on the library search path ... OK
* checking whether startup messages can be suppressed ... OK
* checking dependencies in R code ... OK
* checking S3 generic/method consistency ... OK
* checking replacement functions ... OK
* checking foreign function calls ... OK
* checking R code for possible problems ... OK
* checking Rd files ... OK
* checking Rd metadata ... OK
* checking Rd cross-references ... OK
* checking for missing documentation entries ... OK
* checking for code/documentation mismatches ... OK
* checking Rd \usage sections ... OK
* checking Rd contents ... OK
* checking for unstated dependencies in examples ... OK
* checking contents of ‘data’ directory ... OK
* checking data for non-ASCII characters ... OK
* checking data for ASCII and uncompressed saves ... OK
* checking files in ‘vignettes’ ... OK
* checking examples ... OK
Examples with CPU (user + system) or elapsed time > 5s
user system elapsed
estimate_idr 5.026 0.100 5.126
estimate_idr2d 4.975 0.127 5.103
* checking for unstated dependencies in ‘tests’ ... OK
* checking tests ...
Running ‘testthat.R’
OK
* checking for unstated dependencies in vignettes ... OK
* checking package vignettes ... OK
* checking re-building of vignette outputs ... OK
* checking PDF version of manual ... OK
* DONE
Status: OK
idr2d.Rcheck/00install.out
############################################################################## ############################################################################## ### ### Running command: ### ### /home/biocbuild/bbs-3.19-bioc/R/bin/R CMD INSTALL idr2d ### ############################################################################## ############################################################################## * installing to library ‘/home/biocbuild/bbs-3.19-bioc/R/site-library’ * installing *source* package ‘idr2d’ ... ** using staged installation ** R ** data ** inst ** byte-compile and prepare package for lazy loading ** help *** installing help indices ** building package indices ** installing vignettes ** testing if installed package can be loaded from temporary location ** testing if installed package can be loaded from final location ** testing if installed package keeps a record of temporary installation path * DONE (idr2d)
idr2d.Rcheck/tests/testthat.Rout
R version 4.4.1 (2024-06-14) -- "Race for Your Life"
Copyright (C) 2024 The R Foundation for Statistical Computing
Platform: x86_64-pc-linux-gnu
R is free software and comes with ABSOLUTELY NO WARRANTY.
You are welcome to redistribute it under certain conditions.
Type 'license()' or 'licence()' for distribution details.
R is a collaborative project with many contributors.
Type 'contributors()' for more information and
'citation()' on how to cite R or R packages in publications.
Type 'demo()' for some demos, 'help()' for on-line help, or
'help.start()' for an HTML browser interface to help.
Type 'q()' to quit R.
> library(testthat)
> library(idr2d)
>
> test_check("idr2d")
[ FAIL 0 | WARN 1 | SKIP 0 | PASS 132 ]
[ FAIL 0 | WARN 1 | SKIP 0 | PASS 132 ]
>
> proc.time()
user system elapsed
45.491 1.064 46.545
idr2d.Rcheck/idr2d-Ex.timings
| name | user | system | elapsed | |
| calculate_midpoint_distance1d | 0.001 | 0.000 | 0.000 | |
| calculate_midpoint_distance2d | 0.001 | 0.000 | 0.001 | |
| calculate_relative_overlap1d | 0.001 | 0.000 | 0.001 | |
| calculate_relative_overlap2d | 0.000 | 0.000 | 0.002 | |
| determine_anchor_overlap | 0.257 | 0.022 | 0.280 | |
| draw_hic_contact_map | 3.211 | 0.087 | 3.300 | |
| draw_idr_distribution_histogram | 1.193 | 0.076 | 1.269 | |
| draw_rank_idr_scatterplot | 1.244 | 0.036 | 1.279 | |
| draw_value_idr_scatterplot | 1.191 | 0.020 | 1.211 | |
| establish_bijection | 0.199 | 0.000 | 0.199 | |
| establish_bijection1d | 0.206 | 0.000 | 0.206 | |
| establish_bijection2d | 1.246 | 0.040 | 1.286 | |
| establish_overlap1d | 0.133 | 0.000 | 0.133 | |
| establish_overlap2d | 0.329 | 0.000 | 0.329 | |
| estimate_idr | 5.026 | 0.100 | 5.126 | |
| estimate_idr1d | 0.928 | 0.023 | 0.952 | |
| estimate_idr2d | 4.975 | 0.127 | 5.103 | |
| estimate_idr2d_hic | 2.688 | 0.056 | 2.744 | |
| preprocess | 0.003 | 0.000 | 0.003 | |
| remove_nonstandard_chromosomes1d | 0.132 | 0.000 | 0.132 | |
| remove_nonstandard_chromosomes2d | 0.270 | 0.011 | 0.282 | |