| Back to Multiple platform build/check report for BioC 3.19: simplified long |
|
This page was generated on 2024-05-09 11:40:58 -0400 (Thu, 09 May 2024).
| Hostname | OS | Arch (*) | R version | Installed pkgs |
|---|---|---|---|---|
| nebbiolo1 | Linux (Ubuntu 22.04.3 LTS) | x86_64 | 4.4.0 (2024-04-24) -- "Puppy Cup" | 4748 |
| palomino3 | Windows Server 2022 Datacenter | x64 | 4.4.0 (2024-04-24 ucrt) -- "Puppy Cup" | 4484 |
| lconway | macOS 12.7.1 Monterey | x86_64 | 4.4.0 (2024-04-24) -- "Puppy Cup" | 4514 |
| kunpeng2 | Linux (openEuler 22.03 LTS-SP1) | aarch64 | 4.4.0 beta (2024-04-15 r86425) -- "Puppy Cup" | 4480 |
| Click on any hostname to see more info about the system (e.g. compilers) (*) as reported by 'uname -p', except on Windows and Mac OS X | ||||
| Package 1007/2300 | Hostname | OS / Arch | INSTALL | BUILD | CHECK | BUILD BIN | ||||||||
| iCheck 1.34.0 (landing page) Weiliang Qiu
| nebbiolo1 | Linux (Ubuntu 22.04.3 LTS) / x86_64 | OK | OK | OK | |||||||||
| palomino3 | Windows Server 2022 Datacenter / x64 | OK | ERROR | skipped | skipped | |||||||||
| lconway | macOS 12.7.1 Monterey / x86_64 | OK | OK | OK | OK | |||||||||
| kunpeng2 | Linux (openEuler 22.03 LTS-SP1) / aarch64 | OK | OK | OK | ||||||||||
| kjohnson3 | macOS 13.6.5 Ventura / arm64 | see weekly results here | ||||||||||||
|
To the developers/maintainers of the iCheck package: - Allow up to 24 hours (and sometimes 48 hours) for your latest push to git@git.bioconductor.org:packages/iCheck.git to reflect on this report. See Troubleshooting Build Report for more information. - Use the following Renviron settings to reproduce errors and warnings. - If 'R CMD check' started to fail recently on the Linux builder(s) over a missing dependency, add the missing dependency to 'Suggests:' in your DESCRIPTION file. See Renviron.bioc for more information. - See Martin Grigorov's blog post for how to debug Linux ARM64 related issues on a x86_64 host. |
| Package: iCheck |
| Version: 1.34.0 |
| Command: /home/biocbuild/R/R-beta-2024-04-15_r86425/bin/R CMD check --install=check:iCheck.install-out.txt --library=/home/biocbuild/R/R-beta-2024-04-15_r86425/site-library --no-vignettes --timings iCheck_1.34.0.tar.gz |
| StartedAt: 2024-05-09 08:28:32 -0000 (Thu, 09 May 2024) |
| EndedAt: 2024-05-09 08:35:22 -0000 (Thu, 09 May 2024) |
| EllapsedTime: 410.7 seconds |
| RetCode: 0 |
| Status: OK |
| CheckDir: iCheck.Rcheck |
| Warnings: 0 |
##############################################################################
##############################################################################
###
### Running command:
###
### /home/biocbuild/R/R-beta-2024-04-15_r86425/bin/R CMD check --install=check:iCheck.install-out.txt --library=/home/biocbuild/R/R-beta-2024-04-15_r86425/site-library --no-vignettes --timings iCheck_1.34.0.tar.gz
###
##############################################################################
##############################################################################
* using log directory ‘/home/biocbuild/bbs-3.19-bioc/meat/iCheck.Rcheck’
* using R version 4.4.0 beta (2024-04-15 r86425)
* using platform: aarch64-unknown-linux-gnu
* R was compiled by
gcc (GCC) 10.3.1
GNU Fortran (GCC) 10.3.1
* running under: openEuler 22.03 (LTS-SP1)
* using session charset: UTF-8
* using option ‘--no-vignettes’
* checking for file ‘iCheck/DESCRIPTION’ ... OK
* checking extension type ... Package
* this is package ‘iCheck’ version ‘1.34.0’
* checking package namespace information ... OK
* checking package dependencies ... OK
* checking if this is a source package ... OK
* checking if there is a namespace ... OK
* checking for hidden files and directories ... OK
* checking for portable file names ... OK
* checking for sufficient/correct file permissions ... OK
* checking whether package ‘iCheck’ can be installed ... OK
* checking installed package size ... OK
* checking package directory ... OK
* checking ‘build’ directory ... OK
* checking DESCRIPTION meta-information ... OK
* checking top-level files ... OK
* checking for left-over files ... OK
* checking index information ... OK
* checking package subdirectories ... OK
* checking code files for non-ASCII characters ... OK
* checking R files for syntax errors ... OK
* checking whether the package can be loaded ... OK
* checking whether the package can be loaded with stated dependencies ... OK
* checking whether the package can be unloaded cleanly ... OK
* checking whether the namespace can be loaded with stated dependencies ... OK
* checking whether the namespace can be unloaded cleanly ... OK
* checking loading without being on the library search path ... OK
* checking dependencies in R code ... OK
* checking S3 generic/method consistency ... OK
* checking replacement functions ... OK
* checking foreign function calls ... OK
* checking R code for possible problems ... OK
* checking Rd files ... NOTE
checkRd: (-1) R2PlotFunc.Rd:74: Lost braces; missing escapes or markup?
74 | 'las' numeric in {0,1,2,3}; the style of axis labels.
| ^
checkRd: (-1) genSimData.BayesNormal.Rd:93: Lost braces; missing escapes or markup?
93 | contains 2 columns: \code{arrayID} (array id) and {memSubj} (subject
| ^
checkRd: (-1) lmFitWrapper.Rd:85: Lost braces
85 | code{pval} (p-values of the tests for the covariate of interest, i.e.
| ^
checkRd: (-1) plotCurves.Rd:75: Lost braces; missing escapes or markup?
75 | 'las' numeric in {0,1,2,3}; the style of axis labels.
| ^
checkRd: (-1) plotQCCurves.Rd:102: Lost braces; missing escapes or markup?
102 | 'las' numeric in {0,1,2,3}; the style of axis labels.
| ^
checkRd: (-1) plotSamplep95p05.Rd:92: Lost braces; missing escapes or markup?
92 | 'las' numeric in {0,1,2,3}; the style of axis labels.
| ^
checkRd: (-1) quantilePlot.Rd:78: Lost braces; missing escapes or markup?
78 | 'las' numeric in {0,1,2,3}; the style of axis labels.
| ^
* checking Rd metadata ... OK
* checking Rd cross-references ... OK
* checking for missing documentation entries ... OK
* checking for code/documentation mismatches ... OK
* checking Rd \usage sections ... OK
* checking Rd contents ... OK
* checking for unstated dependencies in examples ... OK
* checking files in ‘vignettes’ ... OK
* checking examples ... OK
* checking for unstated dependencies in vignettes ... OK
* checking package vignettes ... OK
* checking running R code from vignettes ... SKIPPED
* checking re-building of vignette outputs ... SKIPPED
* checking PDF version of manual ... OK
* DONE
Status: 1 NOTE
See
‘/home/biocbuild/bbs-3.19-bioc/meat/iCheck.Rcheck/00check.log’
for details.
iCheck.Rcheck/00install.out
############################################################################## ############################################################################## ### ### Running command: ### ### /home/biocbuild/R/R-beta-2024-04-15_r86425/bin/R CMD INSTALL iCheck ### ############################################################################## ############################################################################## * installing to library ‘/home/biocbuild/R/R-beta-2024-04-15_r86425/site-library’ * installing *source* package ‘iCheck’ ... ** using staged installation ** R ** byte-compile and prepare package for lazy loading No methods found in package ‘RSQLite’ for request: ‘dbListFields’ when loading ‘lumi’ ** help *** installing help indices ** building package indices ** installing vignettes ** testing if installed package can be loaded from temporary location No methods found in package ‘RSQLite’ for request: ‘dbListFields’ when loading ‘lumi’ ** testing if installed package can be loaded from final location No methods found in package ‘RSQLite’ for request: ‘dbListFields’ when loading ‘lumi’ ** testing if installed package keeps a record of temporary installation path * DONE (iCheck)
iCheck.Rcheck/iCheck-Ex.timings
| name | user | system | elapsed | |
| LumiBatch2Table | 0.122 | 0.008 | 0.130 | |
| R2PlotFunc | 0.246 | 0.012 | 0.247 | |
| boxPlots | 0.232 | 0.028 | 0.261 | |
| densityPlots | 0.107 | 0.004 | 0.111 | |
| genSimData.BayesNormal | 0.039 | 0.000 | 0.038 | |
| getPCAFunc | 0.057 | 0.012 | 0.070 | |
| glmWrapper | 0.446 | 0.011 | 0.457 | |
| lkhrWrapper | 0.600 | 0.032 | 0.632 | |
| lmFitPaired | 0.046 | 0.008 | 0.055 | |
| lmFitWrapper | 0.046 | 0.008 | 0.054 | |
| pca2DPlot | 0.101 | 0.016 | 0.117 | |
| pca3DPlot | 0.06 | 0.00 | 0.06 | |
| plotCurves | 0.045 | 0.000 | 0.045 | |
| plotQCCurves | 0.068 | 0.000 | 0.069 | |
| plotSamplep95p05 | 0.074 | 0.000 | 0.075 | |
| quantilePlot | 0.092 | 0.000 | 0.089 | |
| scatterPlots | 0.115 | 0.004 | 0.120 | |
| sortExpressionSet | 0.061 | 0.000 | 0.061 | |