| Back to Multiple platform build/check report for BioC 3.19: simplified long |
|
This page was generated on 2024-10-18 20:40 -0400 (Fri, 18 Oct 2024).
| Hostname | OS | Arch (*) | R version | Installed pkgs |
|---|---|---|---|---|
| nebbiolo1 | Linux (Ubuntu 22.04.3 LTS) | x86_64 | 4.4.1 (2024-06-14) -- "Race for Your Life" | 4763 |
| palomino7 | Windows Server 2022 Datacenter | x64 | 4.4.1 (2024-06-14 ucrt) -- "Race for Your Life" | 4500 |
| merida1 | macOS 12.7.5 Monterey | x86_64 | 4.4.1 (2024-06-14) -- "Race for Your Life" | 4530 |
| kjohnson1 | macOS 13.6.6 Ventura | arm64 | 4.4.1 (2024-06-14) -- "Race for Your Life" | 4480 |
| Click on any hostname to see more info about the system (e.g. compilers) (*) as reported by 'uname -p', except on Windows and Mac OS X | ||||
| Package 976/2300 | Hostname | OS / Arch | INSTALL | BUILD | CHECK | BUILD BIN | ||||||||
| hipathia 3.4.0 (landing page) Marta R. Hidalgo
| nebbiolo1 | Linux (Ubuntu 22.04.3 LTS) / x86_64 | OK | ERROR | skipped | |||||||||
| palomino7 | Windows Server 2022 Datacenter / x64 | OK | OK | OK | OK | |||||||||
| merida1 | macOS 12.7.5 Monterey / x86_64 | OK | OK | OK | OK | |||||||||
| kjohnson1 | macOS 13.6.6 Ventura / arm64 | OK | ERROR | skipped | skipped | |||||||||
|
To the developers/maintainers of the hipathia package: - Allow up to 24 hours (and sometimes 48 hours) for your latest push to git@git.bioconductor.org:packages/hipathia.git to reflect on this report. See Troubleshooting Build Report for more information. - Use the following Renviron settings to reproduce errors and warnings. - If 'R CMD check' started to fail recently on the Linux builder(s) over a missing dependency, add the missing dependency to 'Suggests:' in your DESCRIPTION file. See Renviron.bioc for more information. |
| Package: hipathia |
| Version: 3.4.0 |
| Command: /Library/Frameworks/R.framework/Resources/bin/R CMD check --install=check:hipathia.install-out.txt --library=/Library/Frameworks/R.framework/Resources/library --no-vignettes --timings hipathia_3.4.0.tar.gz |
| StartedAt: 2024-10-17 06:44:05 -0400 (Thu, 17 Oct 2024) |
| EndedAt: 2024-10-17 07:18:53 -0400 (Thu, 17 Oct 2024) |
| EllapsedTime: 2088.0 seconds |
| RetCode: 0 |
| Status: OK |
| CheckDir: hipathia.Rcheck |
| Warnings: 0 |
##############################################################################
##############################################################################
###
### Running command:
###
### /Library/Frameworks/R.framework/Resources/bin/R CMD check --install=check:hipathia.install-out.txt --library=/Library/Frameworks/R.framework/Resources/library --no-vignettes --timings hipathia_3.4.0.tar.gz
###
##############################################################################
##############################################################################
* using log directory ‘/Users/biocbuild/bbs-3.19-bioc/meat/hipathia.Rcheck’
* using R version 4.4.1 (2024-06-14)
* using platform: x86_64-apple-darwin20
* R was compiled by
Apple clang version 14.0.0 (clang-1400.0.29.202)
GNU Fortran (GCC) 12.2.0
* running under: macOS Monterey 12.7.6
* using session charset: UTF-8
* using option ‘--no-vignettes’
* checking for file ‘hipathia/DESCRIPTION’ ... OK
* this is package ‘hipathia’ version ‘3.4.0’
* package encoding: UTF-8
* checking package namespace information ... OK
* checking package dependencies ... OK
* checking if this is a source package ... OK
* checking if there is a namespace ... OK
* checking for hidden files and directories ... OK
* checking for portable file names ... OK
* checking for sufficient/correct file permissions ... OK
* checking whether package ‘hipathia’ can be installed ... OK
* checking installed package size ... NOTE
installed size is 9.0Mb
sub-directories of 1Mb or more:
data 4.1Mb
extdata 4.4Mb
* checking package directory ... OK
* checking ‘build’ directory ... OK
* checking DESCRIPTION meta-information ... OK
* checking top-level files ... OK
* checking for left-over files ... OK
* checking index information ... OK
* checking package subdirectories ... OK
* checking code files for non-ASCII characters ... OK
* checking R files for syntax errors ... OK
* checking whether the package can be loaded ... OK
* checking whether the package can be loaded with stated dependencies ... OK
* checking whether the package can be unloaded cleanly ... OK
* checking whether the namespace can be loaded with stated dependencies ... OK
* checking whether the namespace can be unloaded cleanly ... OK
* checking dependencies in R code ... OK
* checking S3 generic/method consistency ... OK
* checking replacement functions ... OK
* checking foreign function calls ... OK
* checking R code for possible problems ... NOTE
DAreport: no visible binding for global variable ‘ID’
DAreport: no visible binding for global variable ‘FDRp.value’
DAtop : <anonymous>: no visible binding for global variable
‘FDRp.value’
DAtop : <anonymous>: no visible binding for global variable ‘statistic’
DAtop : <anonymous>: no visible binding for global variable ‘p.value’
DAtop : <anonymous>: no visible binding for global variable ‘name’
DAtop : <anonymous>: no visible binding for global variable ‘logPV’
DAtop : <anonymous>: no visible binding for global variable ‘feature’
DAtop: no visible binding for global variable ‘name’
DAtop: no visible binding for global variable ‘logPV’
DAtop: no visible binding for global variable ‘direction’
get_edges_df: no visible binding for global variable ‘from’
get_edges_df: no visible binding for global variable ‘to’
nsig_plot: no visible binding for global variable ‘total’
nsig_plot: no visible binding for global variable ‘UPs’
nsig_plot: no visible binding for global variable ‘DOWNs’
nsig_plot: no visible binding for global variable ‘feature’
nsig_plot: no visible binding for global variable ‘UP’
nsig_plot: no visible binding for global variable ‘DOWN’
nsig_plot: no visible binding for global variable ‘Not’
nsig_plot: no visible binding for global variable ‘value’
nsig_plot: no visible binding for global variable ‘variable’
prepare_DAedges: no visible binding for global variable ‘to’
prepare_DAedges: no visible binding for global variable ‘functional’
prepare_DAedges: no visible binding for global variable ‘status’
prepare_DAedges: no visible binding for global variable ‘type’
prepare_DAnodes : <anonymous>: no visible binding for global variable
‘ID’
prepare_DAnodes : <anonymous>: no visible binding for global variable
‘FDRp.value’
prepare_DAnodes : <anonymous>: no visible binding for global variable
‘statistic’
prepare_DAnodes : <anonymous>: no visible binding for global variable
‘p.value’
prepare_edges: no visible binding for global variable ‘to’
prepare_edges: no visible binding for global variable ‘functional’
summary_plot: no visible binding for global variable ‘total’
summary_plot: no visible binding for global variable ‘UPs’
summary_plot: no visible binding for global variable ‘DOWNs’
summary_plot: no visible binding for global variable ‘name’
summary_plot: no visible binding for global variable ‘UP’
summary_plot: no visible binding for global variable ‘DOWN’
summary_plot: no visible binding for global variable ‘Not’
summary_plot: no visible binding for global variable ‘value’
summary_plot: no visible binding for global variable ‘variable’
summary_plot: no visible binding for global variable ‘UP.nodes’
summary_plot: no visible binding for global variable ‘DOWN.nodes’
summary_plot: no visible binding for global variable ‘nodes’
summary_plot: no visible binding for global variable ‘ratio.sigs’
summary_plot: no visible binding for global variable ‘ratio.UPs’
summary_plot: no visible binding for global variable ‘ratio.DOWNs’
Undefined global functions or variables:
DOWN DOWN.nodes DOWNs FDRp.value ID Not UP UP.nodes UPs direction
feature from functional logPV name nodes p.value ratio.DOWNs
ratio.UPs ratio.sigs statistic status to total type value variable
* checking Rd files ... OK
* checking Rd metadata ... OK
* checking Rd cross-references ... OK
* checking for missing documentation entries ... OK
* checking for code/documentation mismatches ... OK
* checking Rd \usage sections ... OK
* checking Rd contents ... OK
* checking for unstated dependencies in examples ... OK
* checking contents of ‘data’ directory ... OK
* checking data for non-ASCII characters ... OK
* checking LazyData ... OK
* checking data for ASCII and uncompressed saves ... OK
* checking sizes of PDF files under ‘inst/doc’ ... OK
* checking files in ‘vignettes’ ... OK
* checking examples ... OK
Examples with CPU (user + system) or elapsed time > 5s
user system elapsed
quantify_terms 55.847 2.622 72.287
normalize_data 47.180 0.955 57.874
get_pathways_annotations 43.845 1.492 60.725
create_report 43.214 1.389 50.360
hipathia 43.697 0.887 49.777
translate_data 43.390 0.988 60.499
node_color 39.941 0.881 52.848
pathway_comparison_plot 39.163 0.822 49.280
load_pathways 38.935 0.873 45.563
visualize_report 38.903 0.836 48.883
node_color_per_de 38.757 0.964 47.380
get_pathways_list 38.571 0.844 46.330
get_path_names 38.458 0.916 51.559
get_pathways_summary 38.439 0.926 43.439
normalize_paths 38.398 0.940 47.710
save_results 38.441 0.857 47.262
get_node_names 38.095 0.900 46.591
get_go_names 6.180 0.722 8.212
* checking for unstated dependencies in ‘tests’ ... OK
* checking tests ...
Running ‘testthat.R’
OK
* checking for unstated dependencies in vignettes ... OK
* checking package vignettes ... OK
* checking running R code from vignettes ... SKIPPED
* checking re-building of vignette outputs ... SKIPPED
* checking PDF version of manual ... OK
* DONE
Status: 2 NOTEs
See
‘/Users/biocbuild/bbs-3.19-bioc/meat/hipathia.Rcheck/00check.log’
for details.
hipathia.Rcheck/00install.out
############################################################################## ############################################################################## ### ### Running command: ### ### /Library/Frameworks/R.framework/Resources/bin/R CMD INSTALL hipathia ### ############################################################################## ############################################################################## * installing to library ‘/Library/Frameworks/R.framework/Versions/4.4-x86_64/Resources/library’ * installing *source* package ‘hipathia’ ... ** using staged installation ** R ** data *** moving datasets to lazyload DB ** inst ** byte-compile and prepare package for lazy loading ** help *** installing help indices ** building package indices ** installing vignettes ** testing if installed package can be loaded from temporary location ** testing if installed package can be loaded from final location ** testing if installed package keeps a record of temporary installation path * DONE (hipathia)
hipathia.Rcheck/tests/testthat.Rout
R version 4.4.1 (2024-06-14) -- "Race for Your Life"
Copyright (C) 2024 The R Foundation for Statistical Computing
Platform: x86_64-apple-darwin20
R is free software and comes with ABSOLUTELY NO WARRANTY.
You are welcome to redistribute it under certain conditions.
Type 'license()' or 'licence()' for distribution details.
R is a collaborative project with many contributors.
Type 'contributors()' for more information and
'citation()' on how to cite R or R packages in publications.
Type 'demo()' for some demos, 'help()' for on-line help, or
'help.start()' for an HTML browser interface to help.
Type 'q()' to quit R.
> library(testthat)
> library(hipathia)
Loading required package: igraph
Attaching package: 'igraph'
The following object is masked from 'package:testthat':
compare
The following objects are masked from 'package:stats':
decompose, spectrum
The following object is masked from 'package:base':
union
Loading required package: AnnotationHub
Loading required package: BiocGenerics
Attaching package: 'BiocGenerics'
The following objects are masked from 'package:igraph':
normalize, path, union
The following objects are masked from 'package:stats':
IQR, mad, sd, var, xtabs
The following objects are masked from 'package:base':
Filter, Find, Map, Position, Reduce, anyDuplicated, aperm, append,
as.data.frame, basename, cbind, colnames, dirname, do.call,
duplicated, eval, evalq, get, grep, grepl, intersect, is.unsorted,
lapply, mapply, match, mget, order, paste, pmax, pmax.int, pmin,
pmin.int, rank, rbind, rownames, sapply, setdiff, table, tapply,
union, unique, unsplit, which.max, which.min
Loading required package: BiocFileCache
Loading required package: dbplyr
Loading required package: MultiAssayExperiment
Loading required package: SummarizedExperiment
Loading required package: MatrixGenerics
Loading required package: matrixStats
Attaching package: 'MatrixGenerics'
The following objects are masked from 'package:matrixStats':
colAlls, colAnyNAs, colAnys, colAvgsPerRowSet, colCollapse,
colCounts, colCummaxs, colCummins, colCumprods, colCumsums,
colDiffs, colIQRDiffs, colIQRs, colLogSumExps, colMadDiffs,
colMads, colMaxs, colMeans2, colMedians, colMins, colOrderStats,
colProds, colQuantiles, colRanges, colRanks, colSdDiffs, colSds,
colSums2, colTabulates, colVarDiffs, colVars, colWeightedMads,
colWeightedMeans, colWeightedMedians, colWeightedSds,
colWeightedVars, rowAlls, rowAnyNAs, rowAnys, rowAvgsPerColSet,
rowCollapse, rowCounts, rowCummaxs, rowCummins, rowCumprods,
rowCumsums, rowDiffs, rowIQRDiffs, rowIQRs, rowLogSumExps,
rowMadDiffs, rowMads, rowMaxs, rowMeans2, rowMedians, rowMins,
rowOrderStats, rowProds, rowQuantiles, rowRanges, rowRanks,
rowSdDiffs, rowSds, rowSums2, rowTabulates, rowVarDiffs, rowVars,
rowWeightedMads, rowWeightedMeans, rowWeightedMedians,
rowWeightedSds, rowWeightedVars
Loading required package: GenomicRanges
Loading required package: stats4
Loading required package: S4Vectors
Attaching package: 'S4Vectors'
The following object is masked from 'package:utils':
findMatches
The following objects are masked from 'package:base':
I, expand.grid, unname
Loading required package: IRanges
Loading required package: GenomeInfoDb
Loading required package: Biobase
Welcome to Bioconductor
Vignettes contain introductory material; view with
'browseVignettes()'. To cite Bioconductor, see
'citation("Biobase")', and for packages 'citation("pkgname")'.
Attaching package: 'Biobase'
The following object is masked from 'package:MatrixGenerics':
rowMedians
The following objects are masked from 'package:matrixStats':
anyMissing, rowMedians
The following object is masked from 'package:AnnotationHub':
cache
>
> test_check("hipathia")
Computing pathway...
hsa03320 - PPAR signaling pathway
hsa04012 - ErbB signaling pathway
Computing pathway...
hsa03320 - PPAR signaling pathway
hsa04012 - ErbB signaling pathway
translated ids = 3184 (1)
untranslated ids = 3 (0.00094)
multihit ids = 0 (0)
[ FAIL 0 | WARN 1 | SKIP 0 | PASS 119 ]
[ FAIL 0 | WARN 1 | SKIP 0 | PASS 119 ]
>
> proc.time()
user system elapsed
516.228 16.706 656.258
hipathia.Rcheck/hipathia-Ex.timings
| name | user | system | elapsed | |
| DAcomp | 2.713 | 0.135 | 3.280 | |
| DAoverview | 0.689 | 0.032 | 0.841 | |
| DAreport | 1.383 | 0.136 | 1.730 | |
| DAsummary | 2.491 | 0.071 | 2.897 | |
| DAtop | 1.216 | 0.015 | 1.397 | |
| create_report | 43.214 | 1.389 | 50.360 | |
| define_colors | 0.002 | 0.001 | 0.002 | |
| do_pca | 0.063 | 0.006 | 0.075 | |
| do_wilcoxon | 0.172 | 0.012 | 0.197 | |
| get_go_names | 6.180 | 0.722 | 8.212 | |
| get_node_names | 38.095 | 0.900 | 46.591 | |
| get_nodes_data | 0.006 | 0.005 | 0.014 | |
| get_path_names | 38.458 | 0.916 | 51.559 | |
| get_paths_data | 0.006 | 0.004 | 0.010 | |
| get_pathways_annotations | 43.845 | 1.492 | 60.725 | |
| get_pathways_list | 38.571 | 0.844 | 46.330 | |
| get_pathways_summary | 38.439 | 0.926 | 43.439 | |
| heatmap_plot | 0.444 | 0.017 | 0.515 | |
| hhead | 0.002 | 0.004 | 0.006 | |
| hipathia | 43.697 | 0.887 | 49.777 | |
| load_pathways | 38.935 | 0.873 | 45.563 | |
| multiple_pca_plot | 0.052 | 0.007 | 0.067 | |
| node_color | 39.941 | 0.881 | 52.848 | |
| node_color_per_de | 38.757 | 0.964 | 47.380 | |
| normalize_data | 47.180 | 0.955 | 57.874 | |
| normalize_paths | 38.398 | 0.940 | 47.710 | |
| paths_to_go_ancestor | 1.678 | 0.060 | 2.136 | |
| pathway_comparison_plot | 39.163 | 0.822 | 49.280 | |
| pca_plot | 0.038 | 0.007 | 0.060 | |
| plotVG | 2.321 | 0.086 | 3.019 | |
| quantify_terms | 55.847 | 2.622 | 72.287 | |
| save_results | 38.441 | 0.857 | 47.262 | |
| top_pathways | 0.019 | 0.005 | 0.028 | |
| translate_data | 43.390 | 0.988 | 60.499 | |
| visualize_report | 38.903 | 0.836 | 48.883 | |