| Back to Multiple platform build/check report for BioC 3.19: simplified long | 
 | 
This page was generated on 2024-06-11 14:43 -0400 (Tue, 11 Jun 2024).
| Hostname | OS | Arch (*) | R version | Installed pkgs | 
|---|---|---|---|---|
| nebbiolo1 | Linux (Ubuntu 22.04.3 LTS) | x86_64 | 4.4.0 (2024-04-24) -- "Puppy Cup" | 4757 | 
| palomino3 | Windows Server 2022 Datacenter | x64 | 4.4.0 (2024-04-24 ucrt) -- "Puppy Cup" | 4491 | 
| lconway | macOS 12.7.1 Monterey | x86_64 | 4.4.0 (2024-04-24) -- "Puppy Cup" | 4522 | 
| kjohnson3 | macOS 13.6.5 Ventura | arm64 | 4.4.0 (2024-04-24) -- "Puppy Cup" | 4468 | 
| Click on any hostname to see more info about the system (e.g. compilers) (*) as reported by 'uname -p', except on Windows and Mac OS X | ||||
| Package 978/2300 | Hostname | OS / Arch | INSTALL | BUILD | CHECK | BUILD BIN | ||||||||
| hiReadsProcessor 1.40.0  (landing page) Nirav V Malani 
 | nebbiolo1 | Linux (Ubuntu 22.04.3 LTS) / x86_64 | OK | OK | OK |  | ||||||||
| palomino3 | Windows Server 2022 Datacenter / x64 | ... NOT SUPPORTED ... | ||||||||||||
| lconway | macOS 12.7.1 Monterey / x86_64 | OK | OK | OK | OK |  | ||||||||
| kjohnson3 | macOS 13.6.5 Ventura / arm64 | OK | OK | OK | OK |  | ||||||||
| To the developers/maintainers of the hiReadsProcessor package: - Allow up to 24 hours (and sometimes 48 hours) for your latest push to git@git.bioconductor.org:packages/hiReadsProcessor.git to reflect on this report. See Troubleshooting Build Report for more information. - Use the following Renviron settings to reproduce errors and warnings. - If 'R CMD check' started to fail recently on the Linux builder(s) over a missing dependency, add the missing dependency to 'Suggests:' in your DESCRIPTION file. See Renviron.bioc for more information. | 
| Package: hiReadsProcessor | 
| Version: 1.40.0 | 
| Command: /Library/Frameworks/R.framework/Resources/bin/R CMD check --install=check:hiReadsProcessor.install-out.txt --library=/Library/Frameworks/R.framework/Resources/library --no-vignettes --timings hiReadsProcessor_1.40.0.tar.gz | 
| StartedAt: 2024-06-10 18:39:46 -0400 (Mon, 10 Jun 2024) | 
| EndedAt: 2024-06-10 18:48:34 -0400 (Mon, 10 Jun 2024) | 
| EllapsedTime: 527.9 seconds | 
| RetCode: 0 | 
| Status: OK | 
| CheckDir: hiReadsProcessor.Rcheck | 
| Warnings: 0 | 
##############################################################################
##############################################################################
###
### Running command:
###
###   /Library/Frameworks/R.framework/Resources/bin/R CMD check --install=check:hiReadsProcessor.install-out.txt --library=/Library/Frameworks/R.framework/Resources/library --no-vignettes --timings hiReadsProcessor_1.40.0.tar.gz
###
##############################################################################
##############################################################################
* using log directory ‘/Users/biocbuild/bbs-3.19-bioc/meat/hiReadsProcessor.Rcheck’
* using R version 4.4.0 (2024-04-24)
* using platform: aarch64-apple-darwin20
* R was compiled by
    Apple clang version 14.0.0 (clang-1400.0.29.202)
    GNU Fortran (GCC) 12.2.0
* running under: macOS Ventura 13.6.5
* using session charset: UTF-8
* using option ‘--no-vignettes’
* checking for file ‘hiReadsProcessor/DESCRIPTION’ ... OK
* this is package ‘hiReadsProcessor’ version ‘1.40.0’
* checking package namespace information ... OK
* checking package dependencies ... OK
* checking if this is a source package ... OK
* checking if there is a namespace ... OK
* checking for hidden files and directories ... NOTE
Found the following hidden files and directories:
  .BBSoptions
These were most likely included in error. See section ‘Package
structure’ in the ‘Writing R Extensions’ manual.
* checking for portable file names ... OK
* checking for sufficient/correct file permissions ... OK
* checking whether package ‘hiReadsProcessor’ can be installed ... OK
* checking installed package size ... OK
* checking package directory ... OK
* checking ‘build’ directory ... OK
* checking DESCRIPTION meta-information ... OK
* checking top-level files ... OK
* checking for left-over files ... OK
* checking index information ... OK
* checking package subdirectories ... OK
* checking code files for non-ASCII characters ... OK
* checking R files for syntax errors ... OK
* checking whether the package can be loaded ... OK
* checking whether the package can be loaded with stated dependencies ... OK
* checking whether the package can be unloaded cleanly ... OK
* checking whether the namespace can be loaded with stated dependencies ... OK
* checking whether the namespace can be unloaded cleanly ... OK
* checking dependencies in R code ... OK
* checking S3 generic/method consistency ... OK
* checking replacement functions ... OK
* checking foreign function calls ... OK
* checking R code for possible problems ... NOTE
chunkize: no visible global function definition for ‘breakInChunks’
chunkize: no visible global function definition for ‘detectCores’
clusterSites : <anonymous>: no visible binding for global variable
  ‘queryHits’
clusterSites: no visible binding for global variable ‘clusteredValue’
clusterSites: no visible binding for global variable
  ‘clusteredValue.freq’
crossOverCheck: no visible binding for global variable ‘queryHits’
decodeByBarcode: no visible global function definition for ‘metadata<-’
decodeByBarcode: no visible global function definition for ‘metadata’
extractSeqs : <anonymous>: no visible global function definition for
  ‘metadata’
extractSeqs : <anonymous> : <anonymous> : <anonymous>: no visible
  global function definition for ‘IRanges’
extractSeqs : <anonymous> : <anonymous>: no visible global function
  definition for ‘IRanges’
findBarcodes: no visible global function definition for ‘metadata<-’
findBarcodes: no visible global function definition for ‘metadata’
findIntegrations: no visible global function definition for
  ‘fasta.info’
findIntegrations : <anonymous>: no visible global function definition
  for ‘IRanges’
findVector : <anonymous>: no visible global function definition for
  ‘IRanges’
pairUpAlignments : <anonymous>: no visible binding for global variable
  ‘queryHits’
pairwiseAlignSeqs: no visible global function definition for
  ‘IRangesList’
pairwiseAlignSeqs: no visible global function definition for ‘IRanges’
primerIDAlignSeqs: no visible global function definition for ‘IRanges’
primerIDAlignSeqs: no visible global function definition for
  ‘IRangesList’
pslToRangedObject: no visible global function definition for ‘IRanges’
read.BAMasPSL: no visible global function definition for ‘ScanBamParam’
read.BAMasPSL: no visible global function definition for ‘scanBamFlag’
read.BAMasPSL: no visible global function definition for ‘DataFrame’
read.SeqFolder: no visible global function definition for ‘SimpleList’
read.psl: no visible global function definition for ‘mclapply’
read.psl : <anonymous>: no visible binding for global variable
  ‘matches’
read.psl : <anonymous>: no visible binding for global variable
  ‘misMatches’
read.psl : <anonymous>: no visible binding for global variable
  ‘qBaseInsert’
read.psl : <anonymous>: no visible binding for global variable
  ‘tBaseInsert’
read.psl: no visible binding for global variable ‘matches’
read.psl: no visible binding for global variable ‘misMatches’
read.psl: no visible binding for global variable ‘qBaseInsert’
read.psl: no visible binding for global variable ‘tBaseInsert’
read.sampleInfo: no visible global function definition for ‘SimpleList’
splitSeqsToFiles: no visible global function definition for
  ‘fasta.info’
vpairwiseAlignSeqs: no visible global function definition for ‘Rle’
vpairwiseAlignSeqs: no visible global function definition for
  ‘runLength’
vpairwiseAlignSeqs: no visible global function definition for ‘IRanges’
vpairwiseAlignSeqs: no visible global function definition for
  ‘runValue’
Undefined global functions or variables:
  DataFrame IRanges IRangesList Rle ScanBamParam SimpleList
  breakInChunks clusteredValue clusteredValue.freq detectCores
  fasta.info matches mclapply metadata metadata<- misMatches
  qBaseInsert queryHits runLength runValue scanBamFlag tBaseInsert
* checking Rd files ... OK
* checking Rd metadata ... OK
* checking Rd cross-references ... OK
* checking for missing documentation entries ... OK
* checking for code/documentation mismatches ... OK
* checking Rd \usage sections ... OK
* checking Rd contents ... OK
* checking for unstated dependencies in examples ... OK
* checking contents of ‘data’ directory ... OK
* checking data for non-ASCII characters ... OK
* checking data for ASCII and uncompressed saves ... OK
* checking files in ‘vignettes’ ... OK
* checking examples ... OK
Examples with CPU (user + system) or elapsed time > 5s
                    user system elapsed
otuSites           6.711  0.046  10.152
doRCtest           5.689  0.151   8.365
isuSites           5.541  0.216   8.588
primerIDAlignSeqs  4.501  0.390   7.351
pairwiseAlignSeqs  3.251  0.937   6.267
vpairwiseAlignSeqs 3.096  0.625   5.383
* checking for unstated dependencies in vignettes ... OK
* checking package vignettes ... OK
* checking running R code from vignettes ... SKIPPED
* checking re-building of vignette outputs ... SKIPPED
* checking PDF version of manual ... OK
* DONE
Status: 2 NOTEs
See
  ‘/Users/biocbuild/bbs-3.19-bioc/meat/hiReadsProcessor.Rcheck/00check.log’
for details.
hiReadsProcessor.Rcheck/00install.out
############################################################################## ############################################################################## ### ### Running command: ### ### /Library/Frameworks/R.framework/Resources/bin/R CMD INSTALL hiReadsProcessor ### ############################################################################## ############################################################################## * installing to library ‘/Library/Frameworks/R.framework/Versions/4.4-arm64/Resources/library’ * installing *source* package ‘hiReadsProcessor’ ... ** using staged installation ** R ** data ** inst ** byte-compile and prepare package for lazy loading ** help *** installing help indices ** building package indices ** installing vignettes ** testing if installed package can be loaded from temporary location ** testing if installed package can be loaded from final location ** testing if installed package keeps a record of temporary installation path * DONE (hiReadsProcessor)
hiReadsProcessor.Rcheck/hiReadsProcessor-Ex.timings
| name | user | system | elapsed | |
| addFeature | 0.193 | 0.006 | 0.267 | |
| addListNameToReads | 0.281 | 0.011 | 0.413 | |
| annotateSites | 0 | 0 | 0 | |
| blatSeqs | 0.000 | 0.000 | 0.001 | |
| chunkize | 0.036 | 0.005 | 0.063 | |
| clusterSites | 0.369 | 0.038 | 0.688 | |
| crossOverCheck | 0.124 | 0.013 | 0.231 | |
| dereplicateReads | 0.102 | 0.004 | 0.181 | |
| doRCtest | 5.689 | 0.151 | 8.365 | |
| extractFeature | 0.123 | 0.039 | 0.264 | |
| extractSeqs | 0.445 | 0.057 | 0.717 | |
| findAndTrimSeq | 1.723 | 0.180 | 2.805 | |
| findBarcodes | 1.445 | 0.010 | 2.174 | |
| findIntegrations | 0.000 | 0.000 | 0.001 | |
| findLTRs | 0 | 0 | 0 | |
| findLinkers | 0 | 0 | 0 | |
| findPrimers | 0.000 | 0.000 | 0.003 | |
| findVector | 0 | 0 | 0 | |
| getIntegrationSites | 3.061 | 0.023 | 4.399 | |
| getSectorsForSamples | 0.080 | 0.002 | 0.141 | |
| getSonicAbund | 0.405 | 0.265 | 1.015 | |
| isuSites | 5.541 | 0.216 | 8.588 | |
| otuSites | 6.711 | 0.046 | 10.152 | |
| pairUpAlignments | 0 | 0 | 0 | |
| pairwiseAlignSeqs | 3.251 | 0.937 | 6.267 | |
| primerIDAlignSeqs | 4.501 | 0.390 | 7.351 | |
| pslCols | 0.000 | 0.001 | 0.000 | |
| pslToRangedObject | 0.208 | 0.007 | 0.309 | |
| read.BAMasPSL | 0 | 0 | 0 | |
| read.SeqFolder | 1.080 | 0.025 | 1.629 | |
| read.blast8 | 0 | 0 | 0 | |
| read.psl | 0 | 0 | 0 | |
| read.sampleInfo | 1.119 | 0.017 | 1.775 | |
| read.seqsFromSector | 0 | 0 | 0 | |
| removeReadsWithNs | 0.025 | 0.003 | 0.042 | |
| replicateReads | 0.049 | 0.003 | 0.074 | |
| sampleSummary | 0.661 | 0.020 | 1.045 | |
| splitByBarcode | 0.031 | 0.002 | 0.048 | |
| splitSeqsToFiles | 0.130 | 0.009 | 0.205 | |
| startgfServer | 0 | 0 | 0 | |
| trimSeqs | 0.029 | 0.002 | 0.050 | |
| vpairwiseAlignSeqs | 3.096 | 0.625 | 5.383 | |
| write.listedDNAStringSet | 0 | 0 | 0 | |
| write.psl | 0.021 | 0.007 | 0.047 | |