| Back to Multiple platform build/check report for BioC 3.19: simplified long |
|
This page was generated on 2024-06-11 14:42 -0400 (Tue, 11 Jun 2024).
| Hostname | OS | Arch (*) | R version | Installed pkgs |
|---|---|---|---|---|
| nebbiolo1 | Linux (Ubuntu 22.04.3 LTS) | x86_64 | 4.4.0 (2024-04-24) -- "Puppy Cup" | 4757 |
| palomino3 | Windows Server 2022 Datacenter | x64 | 4.4.0 (2024-04-24 ucrt) -- "Puppy Cup" | 4491 |
| lconway | macOS 12.7.1 Monterey | x86_64 | 4.4.0 (2024-04-24) -- "Puppy Cup" | 4522 |
| kjohnson3 | macOS 13.6.5 Ventura | arm64 | 4.4.0 (2024-04-24) -- "Puppy Cup" | 4468 |
| Click on any hostname to see more info about the system (e.g. compilers) (*) as reported by 'uname -p', except on Windows and Mac OS X | ||||
| Package 936/2300 | Hostname | OS / Arch | INSTALL | BUILD | CHECK | BUILD BIN | ||||||||
| gwascat 2.36.0 (landing page) VJ Carey
| nebbiolo1 | Linux (Ubuntu 22.04.3 LTS) / x86_64 | OK | OK | OK | |||||||||
| palomino3 | Windows Server 2022 Datacenter / x64 | OK | OK | OK | OK | |||||||||
| lconway | macOS 12.7.1 Monterey / x86_64 | OK | OK | OK | OK | |||||||||
| kjohnson3 | macOS 13.6.5 Ventura / arm64 | OK | OK | OK | OK | |||||||||
|
To the developers/maintainers of the gwascat package: - Allow up to 24 hours (and sometimes 48 hours) for your latest push to git@git.bioconductor.org:packages/gwascat.git to reflect on this report. See Troubleshooting Build Report for more information. - Use the following Renviron settings to reproduce errors and warnings. - If 'R CMD check' started to fail recently on the Linux builder(s) over a missing dependency, add the missing dependency to 'Suggests:' in your DESCRIPTION file. See Renviron.bioc for more information. |
| Package: gwascat |
| Version: 2.36.0 |
| Command: /Library/Frameworks/R.framework/Resources/bin/R CMD check --install=check:gwascat.install-out.txt --library=/Library/Frameworks/R.framework/Resources/library --no-vignettes --timings gwascat_2.36.0.tar.gz |
| StartedAt: 2024-06-09 20:49:22 -0400 (Sun, 09 Jun 2024) |
| EndedAt: 2024-06-09 20:58:10 -0400 (Sun, 09 Jun 2024) |
| EllapsedTime: 528.2 seconds |
| RetCode: 0 |
| Status: OK |
| CheckDir: gwascat.Rcheck |
| Warnings: 0 |
##############################################################################
##############################################################################
###
### Running command:
###
### /Library/Frameworks/R.framework/Resources/bin/R CMD check --install=check:gwascat.install-out.txt --library=/Library/Frameworks/R.framework/Resources/library --no-vignettes --timings gwascat_2.36.0.tar.gz
###
##############################################################################
##############################################################################
* using log directory ‘/Users/biocbuild/bbs-3.19-bioc/meat/gwascat.Rcheck’
* using R version 4.4.0 (2024-04-24)
* using platform: x86_64-apple-darwin20
* R was compiled by
Apple clang version 14.0.0 (clang-1400.0.29.202)
GNU Fortran (GCC) 12.2.0
* running under: macOS Monterey 12.7.1
* using session charset: UTF-8
* using option ‘--no-vignettes’
* checking for file ‘gwascat/DESCRIPTION’ ... OK
* this is package ‘gwascat’ version ‘2.36.0’
* package encoding: UTF-8
* checking package namespace information ... OK
* checking package dependencies ... OK
* checking if this is a source package ... OK
* checking if there is a namespace ... OK
* checking for hidden files and directories ... OK
* checking for portable file names ... OK
* checking for sufficient/correct file permissions ... OK
* checking whether package ‘gwascat’ can be installed ... OK
* checking installed package size ... NOTE
installed size is 34.0Mb
sub-directories of 1Mb or more:
data 10.1Mb
legacy 15.6Mb
obo 3.0Mb
olddata 2.2Mb
tab 1.1Mb
* checking package directory ... OK
* checking ‘build’ directory ... OK
* checking DESCRIPTION meta-information ... OK
* checking top-level files ... OK
* checking for left-over files ... OK
* checking index information ... OK
* checking package subdirectories ... OK
* checking code files for non-ASCII characters ... OK
* checking R files for syntax errors ... OK
* checking whether the package can be loaded ... OK
* checking whether the package can be loaded with stated dependencies ... OK
* checking whether the package can be unloaded cleanly ... OK
* checking whether the namespace can be loaded with stated dependencies ... OK
* checking whether the namespace can be unloaded cleanly ... OK
* checking whether startup messages can be suppressed ... OK
* checking dependencies in R code ... OK
* checking S3 generic/method consistency ... OK
* checking replacement functions ... OK
* checking foreign function calls ... OK
* checking R code for possible problems ... NOTE
bindcadd_snv: no visible global function definition for ‘TabixFile’
bindcadd_snv: no visible global function definition for ‘findOverlaps’
chklocs: no visible binding for global variable ‘gwrngs19’
chklocs: no visible global function definition for ‘snpsBySeqname’
gwascat_from_AHub: no visible binding for global variable ‘si.hs.38’
gwcat_snapshot: no visible binding for global variable ‘si.hs.38’
lo38to19: no visible global function definition for ‘liftOver’
lo38to19: no visible binding for global variable ‘si.hs.37’
makeCurrentGwascat: no visible binding for global variable ‘si.hs.38’
process_gwas_dataframe: no visible binding for global variable
‘si.hs.38’
snpGenos: no visible global function definition for ‘getSNPlocs’
tfilt: no visible binding for global variable ‘phr’
tpad: no visible binding for global variable ‘phr’
traitsManh: no visible global function definition for ‘aes’
traitsManh: no visible binding for global variable ‘PVALUE_MLOG’
variantProps: no visible binding for global variable ‘gwrngs’
Undefined global functions or variables:
PVALUE_MLOG TabixFile aes findOverlaps getSNPlocs gwrngs gwrngs19
liftOver phr si.hs.37 si.hs.38 snpsBySeqname
* checking Rd files ... NOTE
checkRd: (-1) gwcex2gviz.Rd:33: Escaped LaTeX specials: \_
checkRd: (-1) traitsManh.Rd:18: Escaped LaTeX specials: \_
* checking Rd metadata ... OK
* checking Rd cross-references ... OK
* checking for missing documentation entries ... OK
* checking for code/documentation mismatches ... OK
* checking Rd \usage sections ... OK
* checking Rd contents ... OK
* checking for unstated dependencies in examples ... OK
* checking contents of ‘data’ directory ... OK
* checking data for non-ASCII characters ... NOTE
Note: found 2077 marked UTF-8 strings
* checking data for ASCII and uncompressed saves ... OK
* checking files in ‘vignettes’ ... OK
* checking examples ... OK
Examples with CPU (user + system) or elapsed time > 5s
user system elapsed
gwascat_from_AHub 22.045 0.742 24.071
gwcat_snapshot 20.543 0.825 22.164
gg17N 13.602 0.063 13.960
gwcex2gviz 12.587 0.575 13.492
* checking for unstated dependencies in ‘tests’ ... OK
* checking tests ...
Running ‘testthat.R’
OK
* checking for unstated dependencies in vignettes ... OK
* checking package vignettes ... OK
* checking running R code from vignettes ... SKIPPED
* checking re-building of vignette outputs ... SKIPPED
* checking PDF version of manual ... OK
* DONE
Status: 4 NOTEs
See
‘/Users/biocbuild/bbs-3.19-bioc/meat/gwascat.Rcheck/00check.log’
for details.
gwascat.Rcheck/00install.out
############################################################################## ############################################################################## ### ### Running command: ### ### /Library/Frameworks/R.framework/Resources/bin/R CMD INSTALL gwascat ### ############################################################################## ############################################################################## * installing to library ‘/Library/Frameworks/R.framework/Versions/4.4-x86_64/Resources/library’ * installing *source* package ‘gwascat’ ... ** using staged installation ** R ** data ** inst ** byte-compile and prepare package for lazy loading ** help *** installing help indices ** building package indices ** installing vignettes ** testing if installed package can be loaded from temporary location ** testing if installed package can be loaded from final location ** testing if installed package keeps a record of temporary installation path * DONE (gwascat)
gwascat.Rcheck/tests/testthat.Rout
R version 4.4.0 (2024-04-24) -- "Puppy Cup"
Copyright (C) 2024 The R Foundation for Statistical Computing
Platform: x86_64-apple-darwin20
R is free software and comes with ABSOLUTELY NO WARRANTY.
You are welcome to redistribute it under certain conditions.
Type 'license()' or 'licence()' for distribution details.
R is a collaborative project with many contributors.
Type 'contributors()' for more information and
'citation()' on how to cite R or R packages in publications.
Type 'demo()' for some demos, 'help()' for on-line help, or
'help.start()' for an HTML browser interface to help.
Type 'q()' to quit R.
> library(testthat)
>
> test_check("gwascat")
Loading required package: gwascat
gwascat loaded. Use makeCurrentGwascat() to extract current image.
from EBI. The data folder of this package has some legacy extracts.
[ FAIL 0 | WARN 0 | SKIP 0 | PASS 0 ]
>
>
> proc.time()
user system elapsed
14.594 0.692 15.317
gwascat.Rcheck/gwascat-Ex.timings
| name | user | system | elapsed | |
| bindcadd_snv | 0.000 | 0.000 | 0.001 | |
| gg17N | 13.602 | 0.063 | 13.960 | |
| gwascat_from_AHub | 22.045 | 0.742 | 24.071 | |
| gwcat_snapshot | 20.543 | 0.825 | 22.164 | |
| gwcex2gviz | 12.587 | 0.575 | 13.492 | |
| ldtagr | 0.638 | 0.010 | 0.652 | |
| makeCurrentGwascat | 0 | 0 | 0 | |
| obo2graphNEL | 0.341 | 0.040 | 0.381 | |
| riskyAlleleCount | 0.000 | 0.000 | 0.001 | |
| topTraits | 1.136 | 0.021 | 1.160 | |
| traitsManh | 0.000 | 0.000 | 0.001 | |