| Back to Multiple platform build/check report for BioC 3.19: simplified long | 
 | 
This page was generated on 2024-10-18 20:42 -0400 (Fri, 18 Oct 2024).
| Hostname | OS | Arch (*) | R version | Installed pkgs | 
|---|---|---|---|---|
| nebbiolo1 | Linux (Ubuntu 22.04.3 LTS) | x86_64 | 4.4.1 (2024-06-14) -- "Race for Your Life" | 4763 | 
| palomino7 | Windows Server 2022 Datacenter | x64 | 4.4.1 (2024-06-14 ucrt) -- "Race for Your Life" | 4500 | 
| merida1 | macOS 12.7.5 Monterey | x86_64 | 4.4.1 (2024-06-14) -- "Race for Your Life" | 4530 | 
| kjohnson1 | macOS 13.6.6 Ventura | arm64 | 4.4.1 (2024-06-14) -- "Race for Your Life" | 4480 | 
| Click on any hostname to see more info about the system (e.g. compilers) (*) as reported by 'uname -p', except on Windows and Mac OS X | ||||
| Package 879/2300 | Hostname | OS / Arch | INSTALL | BUILD | CHECK | BUILD BIN | ||||||||
| glmSparseNet 1.22.0  (landing page) André Veríssimo 
 | nebbiolo1 | Linux (Ubuntu 22.04.3 LTS) / x86_64 | OK | OK | OK |  | ||||||||
| palomino7 | Windows Server 2022 Datacenter / x64 | OK | OK | OK | OK |  | ||||||||
| merida1 | macOS 12.7.5 Monterey / x86_64 | OK | OK | OK | OK |  | ||||||||
| kjohnson1 | macOS 13.6.6 Ventura / arm64 | OK | OK | OK | OK |  | ||||||||
| To the developers/maintainers of the glmSparseNet package: - Allow up to 24 hours (and sometimes 48 hours) for your latest push to git@git.bioconductor.org:packages/glmSparseNet.git to reflect on this report. See Troubleshooting Build Report for more information. - Use the following Renviron settings to reproduce errors and warnings. - If 'R CMD check' started to fail recently on the Linux builder(s) over a missing dependency, add the missing dependency to 'Suggests:' in your DESCRIPTION file. See Renviron.bioc for more information. | 
| Package: glmSparseNet | 
| Version: 1.22.0 | 
| Command: /Library/Frameworks/R.framework/Resources/bin/R CMD check --install=check:glmSparseNet.install-out.txt --library=/Library/Frameworks/R.framework/Resources/library --no-vignettes --timings glmSparseNet_1.22.0.tar.gz | 
| StartedAt: 2024-10-17 23:26:26 -0400 (Thu, 17 Oct 2024) | 
| EndedAt: 2024-10-17 23:28:31 -0400 (Thu, 17 Oct 2024) | 
| EllapsedTime: 125.6 seconds | 
| RetCode: 0 | 
| Status: OK | 
| CheckDir: glmSparseNet.Rcheck | 
| Warnings: 0 | 
##############################################################################
##############################################################################
###
### Running command:
###
###   /Library/Frameworks/R.framework/Resources/bin/R CMD check --install=check:glmSparseNet.install-out.txt --library=/Library/Frameworks/R.framework/Resources/library --no-vignettes --timings glmSparseNet_1.22.0.tar.gz
###
##############################################################################
##############################################################################
* using log directory ‘/Users/biocbuild/bbs-3.19-bioc/meat/glmSparseNet.Rcheck’
* using R version 4.4.1 (2024-06-14)
* using platform: aarch64-apple-darwin20
* R was compiled by
    Apple clang version 14.0.0 (clang-1400.0.29.202)
    GNU Fortran (GCC) 12.2.0
* running under: macOS Ventura 13.6.6
* using session charset: UTF-8
* using option ‘--no-vignettes’
* checking for file ‘glmSparseNet/DESCRIPTION’ ... OK
* checking extension type ... Package
* this is package ‘glmSparseNet’ version ‘1.22.0’
* package encoding: UTF-8
* checking package namespace information ... OK
* checking package dependencies ... OK
* checking if this is a source package ... OK
* checking if there is a namespace ... OK
* checking for hidden files and directories ... OK
* checking for portable file names ... OK
* checking for sufficient/correct file permissions ... OK
* checking whether package ‘glmSparseNet’ can be installed ... OK
* checking installed package size ... OK
* checking package directory ... OK
* checking ‘build’ directory ... OK
* checking DESCRIPTION meta-information ... OK
* checking top-level files ... OK
* checking for left-over files ... OK
* checking index information ... OK
* checking package subdirectories ... OK
* checking code files for non-ASCII characters ... OK
* checking R files for syntax errors ... OK
* checking whether the package can be loaded ... OK
* checking whether the package can be loaded with stated dependencies ... OK
* checking whether the package can be unloaded cleanly ... OK
* checking whether the namespace can be loaded with stated dependencies ... OK
* checking whether the namespace can be unloaded cleanly ... OK
* checking whether startup messages can be suppressed ... OK
* checking dependencies in R code ... OK
* checking S3 generic/method consistency ... OK
* checking replacement functions ... OK
* checking foreign function calls ... OK
* checking R code for possible problems ... OK
* checking Rd files ... OK
* checking Rd metadata ... OK
* checking Rd cross-references ... OK
* checking for missing documentation entries ... OK
* checking for code/documentation mismatches ... OK
* checking Rd \usage sections ... OK
* checking Rd contents ... OK
* checking for unstated dependencies in examples ... OK
* checking contents of ‘data’ directory ... OK
* checking data for non-ASCII characters ... OK
* checking data for ASCII and uncompressed saves ... OK
* checking files in ‘vignettes’ ... OK
* checking examples ... OK
Examples with CPU (user + system) or elapsed time > 5s
                  user system elapsed
cv.glmSparseNet 17.005  0.761   17.86
* checking for unstated dependencies in ‘tests’ ... OK
* checking tests ...
  Running ‘testthat.R’
 OK
* checking for unstated dependencies in vignettes ... OK
* checking package vignettes ... OK
* checking running R code from vignettes ... SKIPPED
* checking re-building of vignette outputs ... SKIPPED
* checking PDF version of manual ... OK
* DONE
Status: OK
glmSparseNet.Rcheck/00install.out
############################################################################## ############################################################################## ### ### Running command: ### ### /Library/Frameworks/R.framework/Resources/bin/R CMD INSTALL glmSparseNet ### ############################################################################## ############################################################################## * installing to library ‘/Library/Frameworks/R.framework/Versions/4.4-arm64/Resources/library’ * installing *source* package ‘glmSparseNet’ ... ** using staged installation ** R ** data ** inst ** byte-compile and prepare package for lazy loading ** help *** installing help indices *** copying figures ** building package indices ** installing vignettes ** testing if installed package can be loaded from temporary location ** testing if installed package can be loaded from final location ** testing if installed package keeps a record of temporary installation path * DONE (glmSparseNet)
glmSparseNet.Rcheck/tests/testthat.Rout
R version 4.4.1 (2024-06-14) -- "Race for Your Life"
Copyright (C) 2024 The R Foundation for Statistical Computing
Platform: aarch64-apple-darwin20
R is free software and comes with ABSOLUTELY NO WARRANTY.
You are welcome to redistribute it under certain conditions.
Type 'license()' or 'licence()' for distribution details.
R is a collaborative project with many contributors.
Type 'contributors()' for more information and
'citation()' on how to cite R or R packages in publications.
Type 'demo()' for some demos, 'help()' for on-line help, or
'help.start()' for an HTML browser interface to help.
Type 'q()' to quit R.
> library(testthat)
> library(glmSparseNet)
> 
> test_check("glmSparseNet")
[ FAIL 0 | WARN 0 | SKIP 2 | PASS 215 ]
══ Skipped tests (2) ═══════════════════════════════════════════════════════════
• empty test (2): 'test-cache.R:38:1', 'test-cache.R:62:1'
[ FAIL 0 | WARN 0 | SKIP 2 | PASS 215 ]
> 
> proc.time()
   user  system elapsed 
 34.229   7.909  40.397 
glmSparseNet.Rcheck/glmSparseNet-Ex.timings
| name | user | system | elapsed | |
| balancedCvFolds | 0.010 | 0.003 | 0.013 | |
| buildLambda | 0.002 | 0.003 | 0.005 | |
| buildStringNetwork | 0 | 0 | 0 | |
| cv.glmSparseNet | 17.005 | 0.761 | 17.860 | |
| degreeCor | 0.005 | 0.002 | 0.008 | |
| degreeCov | 0.001 | 0.000 | 0.002 | |
| dot-baseDir | 0.001 | 0.000 | 0.000 | |
| dot-biomartLoad | 0.968 | 0.081 | 1.085 | |
| dot-buildFunctionDigest | 0 | 0 | 0 | |
| dot-cacheCompression | 0 | 0 | 0 | |
| dot-calcPenalty | 0.008 | 0.008 | 0.017 | |
| dot-calculateResult | 0.001 | 0.001 | 0.001 | |
| dot-createDirectoryForCache | 0.000 | 0.001 | 0.001 | |
| dot-curlWorkaround | 0.000 | 0.000 | 0.001 | |
| dot-digestCache | 0 | 0 | 0 | |
| dot-runCache | 0.004 | 0.002 | 0.006 | |
| dot-saveRunCache | 0.001 | 0.001 | 0.002 | |
| dot-showMessage | 0 | 0 | 0 | |
| dot-writeReadme | 0 | 0 | 0 | |
| downloadFileLocal | 0.025 | 0.028 | 0.164 | |
| ensemblGeneNames | 2.676 | 0.252 | 3.251 | |
| geneNames | 0.885 | 0.075 | 0.961 | |
| glmSparseNet | 3.085 | 0.193 | 3.278 | |
| heuristicScale | 0 | 0 | 0 | |
| hubHeuristic | 0 | 0 | 0 | |
| myColors | 0 | 0 | 0 | |
| mySymbols | 0 | 0 | 0 | |
| networkCorParallel | 0.024 | 0.004 | 0.028 | |
| networkCovParallel | 0.007 | 0.001 | 0.008 | |
| networkOptions | 0.001 | 0.000 | 0.000 | |
| orphanHeuristic | 0 | 0 | 0 | |
| protein2EnsemblGeneNames | 0.812 | 0.048 | 0.865 | |
| separate2GroupsCox | 2.528 | 0.154 | 2.706 | |
| stringDBhomoSapiens | 0.000 | 0.001 | 0.000 | |