| Back to Multiple platform build/check report for BioC 3.19: simplified long | 
 | 
This page was generated on 2024-05-09 11:40:53 -0400 (Thu, 09 May 2024).
| Hostname | OS | Arch (*) | R version | Installed pkgs | 
|---|---|---|---|---|
| nebbiolo1 | Linux (Ubuntu 22.04.3 LTS) | x86_64 | 4.4.0 (2024-04-24) -- "Puppy Cup" | 4748 | 
| palomino3 | Windows Server 2022 Datacenter | x64 | 4.4.0 (2024-04-24 ucrt) -- "Puppy Cup" | 4484 | 
| lconway | macOS 12.7.1 Monterey | x86_64 | 4.4.0 (2024-04-24) -- "Puppy Cup" | 4514 | 
| kunpeng2 | Linux (openEuler 22.03 LTS-SP1) | aarch64 | 4.4.0 beta (2024-04-15 r86425) -- "Puppy Cup" | 4480 | 
| Click on any hostname to see more info about the system (e.g. compilers) (*) as reported by 'uname -p', except on Windows and Mac OS X | ||||
| Package 823/2300 | Hostname | OS / Arch | INSTALL | BUILD | CHECK | BUILD BIN | ||||||||
| genoCN 1.56.0  (landing page) Wei Sun 
 | nebbiolo1 | Linux (Ubuntu 22.04.3 LTS) / x86_64 | OK | OK | WARNINGS |  | ||||||||
| palomino3 | Windows Server 2022 Datacenter / x64 | OK | ERROR | skipped | skipped | |||||||||
| lconway | macOS 12.7.1 Monterey / x86_64 | OK | OK | OK | OK |  | ||||||||
| kunpeng2 | Linux (openEuler 22.03 LTS-SP1) / aarch64 | OK | OK | OK | ||||||||||
| kjohnson3 | macOS 13.6.5 Ventura / arm64 | see weekly results here | ||||||||||||
| To the developers/maintainers of the genoCN package: - Allow up to 24 hours (and sometimes 48 hours) for your latest push to git@git.bioconductor.org:packages/genoCN.git to reflect on this report. See Troubleshooting Build Report for more information. - Use the following Renviron settings to reproduce errors and warnings. - If 'R CMD check' started to fail recently on the Linux builder(s) over a missing dependency, add the missing dependency to 'Suggests:' in your DESCRIPTION file. See Renviron.bioc for more information. - See Martin Grigorov's blog post for how to debug Linux ARM64 related issues on a x86_64 host. | 
| Package: genoCN | 
| Version: 1.56.0 | 
| Command: /home/biocbuild/R/R-beta-2024-04-15_r86425/bin/R CMD INSTALL genoCN | 
| StartedAt: 2024-05-08 20:17:01 -0000 (Wed, 08 May 2024) | 
| EndedAt: 2024-05-08 20:17:08 -0000 (Wed, 08 May 2024) | 
| EllapsedTime: 7.3 seconds | 
| RetCode: 0 | 
| Status: OK | 
##############################################################################
##############################################################################
###
### Running command:
###
###   /home/biocbuild/R/R-beta-2024-04-15_r86425/bin/R CMD INSTALL genoCN
###
##############################################################################
##############################################################################
* installing to library ‘/home/biocbuild/R/R-beta-2024-04-15_r86425/site-library’
* installing *source* package ‘genoCN’ ...
** using staged installation
** libs
using C compiler: ‘gcc (GCC) 10.3.1’
gcc -I"/home/biocbuild/R/R-beta-2024-04-15_r86425/include" -DNDEBUG   -I/usr/local/include    -fPIC  -g -O2  -Wall -c tnorm_mle.c -o tnorm_mle.o
gcc -I"/home/biocbuild/R/R-beta-2024-04-15_r86425/include" -DNDEBUG   -I/usr/local/include    -fPIC  -g -O2  -Wall -c utility.c -o utility.o
gcc -I"/home/biocbuild/R/R-beta-2024-04-15_r86425/include" -DNDEBUG   -I/usr/local/include    -fPIC  -g -O2  -Wall -c xCNV.c -o xCNV.o
xCNV.c: In function ‘emiss’:
xCNV.c:317:25: warning: unused variable ‘k’ [-Wunused-variable]
  317 |   int L, N, M, K, i, z, k, nGtp, contam=*contamR, CNA=*CNAR;
      |                         ^
xCNV.c:317:16: warning: unused variable ‘K’ [-Wunused-variable]
  317 |   int L, N, M, K, i, z, k, nGtp, contam=*contamR, CNA=*CNAR;
      |                ^
xCNV.c: In function ‘baum_welch’:
xCNV.c:787:20: warning: unused variable ‘sd_b_tmp’ [-Wunused-variable]
  787 |   double mu_b_tmp, sd_b_tmp;
      |                    ^~~~~~~~
xCNV.c:787:10: warning: unused variable ‘mu_b_tmp’ [-Wunused-variable]
  787 |   double mu_b_tmp, sd_b_tmp;
      |          ^~~~~~~~
xCNV.c:762:10: warning: variable ‘LL’ set but not used [-Wunused-but-set-variable]
  762 |   int L, LL, N, NN, M, MM, S, LS, CNA = *RCNA,
      |          ^~
xCNV.c:1839:17: warning: ‘pbf’ may be used uninitialized in this function [-Wmaybe-uninitialized]
 1839 |                 weights(ws, pbf, z, CNA, contam, nGtp, *geno_error);
      |                 ^~~~~~~~~~~~~~~~~~~~~~~~~~~~~~~~~~~~~~~~~~~~~~~~~~~
xCNV.c:1839:17: warning: ‘nGtp’ may be used uninitialized in this function [-Wmaybe-uninitialized]
gcc -shared -L/home/biocbuild/R/R-beta-2024-04-15_r86425/lib -L/usr/local/lib -o genoCN.so tnorm_mle.o utility.o xCNV.o -L/home/biocbuild/R/R-beta-2024-04-15_r86425/lib -lR
installing to /home/biocbuild/R/R-beta-2024-04-15_r86425/site-library/00LOCK-genoCN/00new/genoCN/libs
** R
** data
** inst
** byte-compile and prepare package for lazy loading
** help
*** installing help indices
** building package indices
** installing vignettes
** testing if installed package can be loaded from temporary location
** checking absolute paths in shared objects and dynamic libraries
** testing if installed package can be loaded from final location
** testing if installed package keeps a record of temporary installation path
* DONE (genoCN)