| Back to Multiple platform build/check report for BioC 3.19: simplified long | 
 | 
This page was generated on 2024-10-18 20:39 -0400 (Fri, 18 Oct 2024).
| Hostname | OS | Arch (*) | R version | Installed pkgs | 
|---|---|---|---|---|
| nebbiolo1 | Linux (Ubuntu 22.04.3 LTS) | x86_64 | 4.4.1 (2024-06-14) -- "Race for Your Life" | 4763 | 
| palomino7 | Windows Server 2022 Datacenter | x64 | 4.4.1 (2024-06-14 ucrt) -- "Race for Your Life" | 4500 | 
| merida1 | macOS 12.7.5 Monterey | x86_64 | 4.4.1 (2024-06-14) -- "Race for Your Life" | 4530 | 
| kjohnson1 | macOS 13.6.6 Ventura | arm64 | 4.4.1 (2024-06-14) -- "Race for Your Life" | 4480 | 
| Click on any hostname to see more info about the system (e.g. compilers) (*) as reported by 'uname -p', except on Windows and Mac OS X | ||||
| Package 803/2300 | Hostname | OS / Arch | INSTALL | BUILD | CHECK | BUILD BIN | ||||||||
| genefilter 1.86.0  (landing page) Bioconductor Package Maintainer 
 | nebbiolo1 | Linux (Ubuntu 22.04.3 LTS) / x86_64 | OK | OK | WARNINGS |  | ||||||||
| palomino7 | Windows Server 2022 Datacenter / x64 | OK | OK | WARNINGS | OK |  | ||||||||
| merida1 | macOS 12.7.5 Monterey / x86_64 | OK | OK | WARNINGS | OK |  | ||||||||
| kjohnson1 | macOS 13.6.6 Ventura / arm64 | OK | OK | WARNINGS | OK |  | ||||||||
| To the developers/maintainers of the genefilter package: - Allow up to 24 hours (and sometimes 48 hours) for your latest push to git@git.bioconductor.org:packages/genefilter.git to reflect on this report. See Troubleshooting Build Report for more information. - Use the following Renviron settings to reproduce errors and warnings. - If 'R CMD check' started to fail recently on the Linux builder(s) over a missing dependency, add the missing dependency to 'Suggests:' in your DESCRIPTION file. See Renviron.bioc for more information. | 
| Package: genefilter | 
| Version: 1.86.0 | 
| Command: rm -rf genefilter.buildbin-libdir && mkdir genefilter.buildbin-libdir && E:\biocbuild\bbs-3.19-bioc\R\bin\R.exe CMD INSTALL --build --library=genefilter.buildbin-libdir genefilter_1.86.0.tar.gz | 
| StartedAt: 2024-10-17 07:50:27 -0400 (Thu, 17 Oct 2024) | 
| EndedAt: 2024-10-17 07:51:15 -0400 (Thu, 17 Oct 2024) | 
| EllapsedTime: 47.9 seconds | 
| RetCode: 0 | 
| Status: OK | 
| PackageFile: genefilter_1.86.0.zip | 
| PackageFileSize: 1.246 MiB | 
##############################################################################
##############################################################################
###
### Running command:
###
###   rm -rf genefilter.buildbin-libdir && mkdir genefilter.buildbin-libdir && E:\biocbuild\bbs-3.19-bioc\R\bin\R.exe CMD INSTALL --build --library=genefilter.buildbin-libdir genefilter_1.86.0.tar.gz
###
##############################################################################
##############################################################################
* installing *source* package 'genefilter' ...
** using staged installation
** libs
using C compiler: 'gcc.exe (GCC) 13.2.0'
using Fortran compiler: 'GNU Fortran (GCC) 13.2.0'
using C++ compiler: 'G__~1.EXE (GCC) 13.2.0'
g++ -std=gnu++17  -I"E:/biocbuild/bbs-3.19-bioc/R/include" -DNDEBUG     -I"C:/rtools44/x86_64-w64-mingw32.static.posix/include"     -O2 -Wall  -mfpmath=sse -msse2 -mstackrealign  -c half_range_mode.cpp -o half_range_mode.o
half_range_mode.cpp: In function 'double half_range_mode(double*, double*, double, int)':
half_range_mode.cpp:100:60: warning: format '%i' expects argument of type 'int', but argument 5 has type 'std::vector<int>::size_type' {aka 'long long unsigned int'} [-Wformat=]
  100 |     if (diag) Rprintf( "N = %i, N'' = %i, w = %.4f, |J| = %i\n", N, N_double_prime, w, J.size() );
      |                                                           ~^                           ~~~~~~~~
      |                                                            |                                 |
      |                                                            int                               std::vector<int>::size_type {aka long long unsigned int}
      |                                                           %lli
gcc  -I"E:/biocbuild/bbs-3.19-bioc/R/include" -DNDEBUG     -I"C:/rtools44/x86_64-w64-mingw32.static.posix/include"     -O2 -Wall  -mfpmath=sse -msse2 -mstackrealign  -c init.c -o init.o
gcc  -I"E:/biocbuild/bbs-3.19-bioc/R/include" -DNDEBUG     -I"C:/rtools44/x86_64-w64-mingw32.static.posix/include"     -O2 -Wall  -mfpmath=sse -msse2 -mstackrealign  -c nd.c -o nd.o
gcc  -I"E:/biocbuild/bbs-3.19-bioc/R/include" -DNDEBUG     -I"C:/rtools44/x86_64-w64-mingw32.static.posix/include"     -O2 -Wall  -mfpmath=sse -msse2 -mstackrealign  -c pAUC.c -o pAUC.o
pAUC.c: In function 'pAUC':
pAUC.c:140:13: warning: suggest parentheses around comparison in operand of '|' [-Wparentheses]
  140 |     if(rows != INTEGER(dimSens)[1] | columns != INTEGER(dimSens)[0])
      |        ~~~~~^~~~~~~~~~~~~~~~~~~~~~
gcc  -I"E:/biocbuild/bbs-3.19-bioc/R/include" -DNDEBUG     -I"C:/rtools44/x86_64-w64-mingw32.static.posix/include"     -O2 -Wall  -mfpmath=sse -msse2 -mstackrealign  -c rowPAUCs.c -o rowPAUCs.o
gcc  -I"E:/biocbuild/bbs-3.19-bioc/R/include" -DNDEBUG     -I"C:/rtools44/x86_64-w64-mingw32.static.posix/include"     -O2 -Wall  -mfpmath=sse -msse2 -mstackrealign  -c rowttests.c -o rowttests.o
gfortran      -O2  -mfpmath=sse -msse2 -mstackrealign  -c ttest.f -o ttest.o
g++ -std=gnu++17 -shared -s -static-libgcc -o genefilter.dll tmp.def half_range_mode.o init.o nd.o pAUC.o rowPAUCs.o rowttests.o ttest.o -LC:/rtools44/x86_64-w64-mingw32.static.posix/lib/x64 -LC:/rtools44/x86_64-w64-mingw32.static.posix/lib -lgfortran -lm -lquadmath -LE:/biocbuild/bbs-3.19-bioc/R/bin/x64 -lR
installing to E:/biocbuild/bbs-3.19-bioc/meat/genefilter.buildbin-libdir/00LOCK-genefilter/00new/genefilter/libs/x64
** R
** data
*** moving datasets to lazyload DB
** inst
** byte-compile and prepare package for lazy loading
** help
*** installing help indices
** building package indices
** installing vignettes
** testing if installed package can be loaded from temporary location
** testing if installed package can be loaded from final location
** testing if installed package keeps a record of temporary installation path
* MD5 sums
packaged installation of 'genefilter' as genefilter_1.86.0.zip
* DONE (genefilter)