| Back to Multiple platform build/check report for BioC 3.19: simplified long |
|
This page was generated on 2024-05-09 11:40:51 -0400 (Thu, 09 May 2024).
| Hostname | OS | Arch (*) | R version | Installed pkgs |
|---|---|---|---|---|
| nebbiolo1 | Linux (Ubuntu 22.04.3 LTS) | x86_64 | 4.4.0 (2024-04-24) -- "Puppy Cup" | 4748 |
| palomino3 | Windows Server 2022 Datacenter | x64 | 4.4.0 (2024-04-24 ucrt) -- "Puppy Cup" | 4484 |
| lconway | macOS 12.7.1 Monterey | x86_64 | 4.4.0 (2024-04-24) -- "Puppy Cup" | 4514 |
| kunpeng2 | Linux (openEuler 22.03 LTS-SP1) | aarch64 | 4.4.0 beta (2024-04-15 r86425) -- "Puppy Cup" | 4480 |
| Click on any hostname to see more info about the system (e.g. compilers) (*) as reported by 'uname -p', except on Windows and Mac OS X | ||||
| Package 776/2300 | Hostname | OS / Arch | INSTALL | BUILD | CHECK | BUILD BIN | ||||||||
| garfield 1.32.0 (landing page) Valentina Iotchkova
| nebbiolo1 | Linux (Ubuntu 22.04.3 LTS) / x86_64 | OK | OK | WARNINGS | |||||||||
| palomino3 | Windows Server 2022 Datacenter / x64 | OK | OK | WARNINGS | OK | |||||||||
| lconway | macOS 12.7.1 Monterey / x86_64 | OK | OK | WARNINGS | OK | |||||||||
| kunpeng2 | Linux (openEuler 22.03 LTS-SP1) / aarch64 | OK | OK | WARNINGS | ||||||||||
| kjohnson3 | macOS 13.6.5 Ventura / arm64 | see weekly results here | ||||||||||||
|
To the developers/maintainers of the garfield package: - Allow up to 24 hours (and sometimes 48 hours) for your latest push to git@git.bioconductor.org:packages/garfield.git to reflect on this report. See Troubleshooting Build Report for more information. - Use the following Renviron settings to reproduce errors and warnings. - If 'R CMD check' started to fail recently on the Linux builder(s) over a missing dependency, add the missing dependency to 'Suggests:' in your DESCRIPTION file. See Renviron.bioc for more information. - See Martin Grigorov's blog post for how to debug Linux ARM64 related issues on a x86_64 host. |
| Package: garfield |
| Version: 1.32.0 |
| Command: /home/biocbuild/R/R-beta-2024-04-15_r86425/bin/R CMD INSTALL garfield |
| StartedAt: 2024-05-08 20:02:00 -0000 (Wed, 08 May 2024) |
| EndedAt: 2024-05-08 20:02:16 -0000 (Wed, 08 May 2024) |
| EllapsedTime: 16.0 seconds |
| RetCode: 0 |
| Status: OK |
##############################################################################
##############################################################################
###
### Running command:
###
### /home/biocbuild/R/R-beta-2024-04-15_r86425/bin/R CMD INSTALL garfield
###
##############################################################################
##############################################################################
* installing to library ‘/home/biocbuild/R/R-beta-2024-04-15_r86425/site-library’
* installing *source* package ‘garfield’ ...
** using staged installation
** libs
using C compiler: ‘gcc (GCC) 10.3.1’
using C++ compiler: ‘g++ (GCC) 10.3.1’
gcc -I"/home/biocbuild/R/R-beta-2024-04-15_r86425/include" -DNDEBUG -I/usr/local/include -fPIC -g -O2 -Wall -c garfield_init.c -o garfield_init.o
g++ -std=gnu++17 -I"/home/biocbuild/R/R-beta-2024-04-15_r86425/include" -DNDEBUG -I/usr/local/include -fPIC -g -O2 -Wall -c garfield_perm.cpp -o garfield_perm.o
garfield_perm.cpp: In function ‘void batchfeep(std::vector<std::vector<double> >&, std::vector<std::vector<double> >&, const std::vector<bin>&, const std::vector<double>&, int, int, bool, int, double, int, std::vector<bool>)’:
garfield_perm.cpp:306:15: warning: format ‘%s’ expects argument of type ‘char*’, but argument 2 has type ‘long int’ [-Wformat=]
306 | Rprintf("\r%s/%s\t\t%s\%\t\t%s annotations/s\t\t Time remaining: %s s",j+1,nannot, 100.0 * (j+1) / nannot, nannot,1.0 * (nannot - (j+1)) / perms_per_sec );
| ~^ ~~~
| | |
| char* long int
| %ld
garfield_perm.cpp:306:18: warning: format ‘%s’ expects argument of type ‘char*’, but argument 3 has type ‘int’ [-Wformat=]
306 | Rprintf("\r%s/%s\t\t%s\%\t\t%s annotations/s\t\t Time remaining: %s s",j+1,nannot, 100.0 * (j+1) / nannot, nannot,1.0 * (nannot - (j+1)) / perms_per_sec );
| ~^ ~~~~~~
| | |
| char* int
| %d
garfield_perm.cpp:306:24: warning: format ‘%s’ expects argument of type ‘char*’, but argument 4 has type ‘double’ [-Wformat=]
306 | Rprintf("\r%s/%s\t\t%s\%\t\t%s annotations/s\t\t Time remaining: %s s",j+1,nannot, 100.0 * (j+1) / nannot, nannot,1.0 * (nannot - (j+1)) / perms_per_sec );
| ~^ ~~~~~~~~~~~~~~~~~~~~~~
| | |
| char* double
| %f
garfield_perm.cpp:306:27: warning: unknown conversion type character ‘\x09’ in format [-Wformat=]
306 | Rprintf("\r%s/%s\t\t%s\%\t\t%s annotations/s\t\t Time remaining: %s s",j+1,nannot, 100.0 * (j+1) / nannot, nannot,1.0 * (nannot - (j+1)) / perms_per_sec );
| ^~
garfield_perm.cpp:306:32: warning: format ‘%s’ expects argument of type ‘char*’, but argument 5 has type ‘int’ [-Wformat=]
306 | Rprintf("\r%s/%s\t\t%s\%\t\t%s annotations/s\t\t Time remaining: %s s",j+1,nannot, 100.0 * (j+1) / nannot, nannot,1.0 * (nannot - (j+1)) / perms_per_sec );
| ~^ ~~~~~~
| | |
| char* int
| %d
garfield_perm.cpp:306:69: warning: format ‘%s’ expects argument of type ‘char*’, but argument 6 has type ‘double’ [-Wformat=]
306 | Rprintf("\r%s/%s\t\t%s\%\t\t%s annotations/s\t\t Time remaining: %s s",j+1,nannot, 100.0 * (j+1) / nannot, nannot,1.0 * (nannot - (j+1)) / perms_per_sec );
| ~^ ~~~~~~~~~~~~~~~~~~~~~~~~~~~~~~~~~~~~~~
| | |
| char* double
| %f
garfield_perm.cpp: In function ‘int garfield_perm(char**, char**, char**, char**, char**, char**, char**, char**, char**, char**, char**, char**, char**)’:
garfield_perm.cpp:356:13: warning: format ‘%s’ expects argument of type ‘char*’, but argument 2 has type ‘int’ [-Wformat=]
356 | Rprintf("%s",nannot);
| ~^ ~~~~~~
| | |
| | int
| char*
| %d
g++ -std=gnu++17 -I"/home/biocbuild/R/R-beta-2024-04-15_r86425/include" -DNDEBUG -I/usr/local/include -fPIC -g -O2 -Wall -c garfield_prep.cpp -o garfield_prep.o
g++ -std=gnu++17 -shared -L/home/biocbuild/R/R-beta-2024-04-15_r86425/lib -L/usr/local/lib -o garfield.so garfield_init.o garfield_perm.o garfield_prep.o -L/home/biocbuild/R/R-beta-2024-04-15_r86425/lib -lR
installing to /home/biocbuild/R/R-beta-2024-04-15_r86425/site-library/00LOCK-garfield/00new/garfield/libs
** R
** inst
** byte-compile and prepare package for lazy loading
** help
*** installing help indices
** building package indices
** installing vignettes
** testing if installed package can be loaded from temporary location
** checking absolute paths in shared objects and dynamic libraries
** testing if installed package can be loaded from final location
** testing if installed package keeps a record of temporary installation path
* DONE (garfield)