| Back to Multiple platform build/check report for BioC 3.19: simplified long |
|
This page was generated on 2024-10-18 20:42 -0400 (Fri, 18 Oct 2024).
| Hostname | OS | Arch (*) | R version | Installed pkgs |
|---|---|---|---|---|
| nebbiolo1 | Linux (Ubuntu 22.04.3 LTS) | x86_64 | 4.4.1 (2024-06-14) -- "Race for Your Life" | 4763 |
| palomino7 | Windows Server 2022 Datacenter | x64 | 4.4.1 (2024-06-14 ucrt) -- "Race for Your Life" | 4500 |
| merida1 | macOS 12.7.5 Monterey | x86_64 | 4.4.1 (2024-06-14) -- "Race for Your Life" | 4530 |
| kjohnson1 | macOS 13.6.6 Ventura | arm64 | 4.4.1 (2024-06-14) -- "Race for Your Life" | 4480 |
| Click on any hostname to see more info about the system (e.g. compilers) (*) as reported by 'uname -p', except on Windows and Mac OS X | ||||
| Package 789/2300 | Hostname | OS / Arch | INSTALL | BUILD | CHECK | BUILD BIN | ||||||||
| gDRimport 1.2.0 (landing page) Arkadiusz Gladki
| nebbiolo1 | Linux (Ubuntu 22.04.3 LTS) / x86_64 | OK | OK | OK | |||||||||
| palomino7 | Windows Server 2022 Datacenter / x64 | OK | OK | OK | OK | |||||||||
| merida1 | macOS 12.7.5 Monterey / x86_64 | OK | OK | OK | OK | |||||||||
| kjohnson1 | macOS 13.6.6 Ventura / arm64 | OK | OK | OK | OK | |||||||||
|
To the developers/maintainers of the gDRimport package: - Allow up to 24 hours (and sometimes 48 hours) for your latest push to git@git.bioconductor.org:packages/gDRimport.git to reflect on this report. See Troubleshooting Build Report for more information. - Use the following Renviron settings to reproduce errors and warnings. - If 'R CMD check' started to fail recently on the Linux builder(s) over a missing dependency, add the missing dependency to 'Suggests:' in your DESCRIPTION file. See Renviron.bioc for more information. |
| Package: gDRimport |
| Version: 1.2.0 |
| Command: /Library/Frameworks/R.framework/Resources/bin/R CMD check --install=check:gDRimport.install-out.txt --library=/Library/Frameworks/R.framework/Resources/library --no-vignettes --timings gDRimport_1.2.0.tar.gz |
| StartedAt: 2024-10-17 22:22:22 -0400 (Thu, 17 Oct 2024) |
| EndedAt: 2024-10-17 22:25:53 -0400 (Thu, 17 Oct 2024) |
| EllapsedTime: 210.5 seconds |
| RetCode: 0 |
| Status: OK |
| CheckDir: gDRimport.Rcheck |
| Warnings: 0 |
##############################################################################
##############################################################################
###
### Running command:
###
### /Library/Frameworks/R.framework/Resources/bin/R CMD check --install=check:gDRimport.install-out.txt --library=/Library/Frameworks/R.framework/Resources/library --no-vignettes --timings gDRimport_1.2.0.tar.gz
###
##############################################################################
##############################################################################
* using log directory ‘/Users/biocbuild/bbs-3.19-bioc/meat/gDRimport.Rcheck’
* using R version 4.4.1 (2024-06-14)
* using platform: aarch64-apple-darwin20
* R was compiled by
Apple clang version 14.0.0 (clang-1400.0.29.202)
GNU Fortran (GCC) 12.2.0
* running under: macOS Ventura 13.6.6
* using session charset: UTF-8
* using option ‘--no-vignettes’
* checking for file ‘gDRimport/DESCRIPTION’ ... OK
* checking extension type ... Package
* this is package ‘gDRimport’ version ‘1.2.0’
* package encoding: UTF-8
* checking package namespace information ... OK
* checking package dependencies ... OK
* checking if this is a source package ... OK
* checking if there is a namespace ... OK
* checking for hidden files and directories ... OK
* checking for portable file names ... OK
* checking for sufficient/correct file permissions ... OK
* checking whether package ‘gDRimport’ can be installed ... OK
* checking installed package size ... OK
* checking package directory ... OK
* checking ‘build’ directory ... OK
* checking DESCRIPTION meta-information ... OK
* checking top-level files ... OK
* checking for left-over files ... OK
* checking index information ... OK
* checking package subdirectories ... OK
* checking code files for non-ASCII characters ... OK
* checking R files for syntax errors ... OK
* checking whether the package can be loaded ... OK
* checking whether the package can be loaded with stated dependencies ... OK
* checking whether the package can be unloaded cleanly ... OK
* checking whether the namespace can be loaded with stated dependencies ... OK
* checking whether the namespace can be unloaded cleanly ... OK
* checking dependencies in R code ... OK
* checking S3 generic/method consistency ... OK
* checking replacement functions ... OK
* checking foreign function calls ... OK
* checking R code for possible problems ... OK
* checking Rd files ... OK
* checking Rd metadata ... OK
* checking Rd cross-references ... OK
* checking for missing documentation entries ... OK
* checking for code/documentation mismatches ... OK
* checking Rd \usage sections ... OK
* checking Rd contents ... OK
* checking for unstated dependencies in examples ... OK
* checking files in ‘vignettes’ ... OK
* checking examples ... OK
Examples with CPU (user + system) or elapsed time > 5s
user system elapsed
convert_MAE_to_PSet 8.995 0.312 9.326
* checking for unstated dependencies in ‘tests’ ... OK
* checking tests ...
Running ‘testthat.R’
OK
* checking for unstated dependencies in vignettes ... OK
* checking package vignettes ... OK
* checking running R code from vignettes ... SKIPPED
* checking re-building of vignette outputs ... SKIPPED
* checking PDF version of manual ... OK
* DONE
Status: OK
gDRimport.Rcheck/00install.out
############################################################################## ############################################################################## ### ### Running command: ### ### /Library/Frameworks/R.framework/Resources/bin/R CMD INSTALL gDRimport ### ############################################################################## ############################################################################## * installing to library ‘/Library/Frameworks/R.framework/Versions/4.4-arm64/Resources/library’ * installing *source* package ‘gDRimport’ ... ** using staged installation ** R ** inst ** byte-compile and prepare package for lazy loading ** help *** installing help indices ** building package indices ** installing vignettes ** testing if installed package can be loaded from temporary location ** testing if installed package can be loaded from final location ** testing if installed package keeps a record of temporary installation path * DONE (gDRimport)
gDRimport.Rcheck/tests/testthat.Rout
R version 4.4.1 (2024-06-14) -- "Race for Your Life"
Copyright (C) 2024 The R Foundation for Statistical Computing
Platform: aarch64-apple-darwin20
R is free software and comes with ABSOLUTELY NO WARRANTY.
You are welcome to redistribute it under certain conditions.
Type 'license()' or 'licence()' for distribution details.
R is a collaborative project with many contributors.
Type 'contributors()' for more information and
'citation()' on how to cite R or R packages in publications.
Type 'demo()' for some demos, 'help()' for on-line help, or
'help.start()' for an HTML browser interface to help.
Type 'q()' to quit R.
> library(testthat)
> library(gDRimport)
>
> test_check("gDRimport")
2024-10-17 22:25:16 Building assay index...
2024-10-17 22:25:16 Joining rowData to assayIndex...
2024-10-17 22:25:17 Joining colData to assayIndex...
2024-10-17 22:25:18 Joining assays to assayIndex...
2024-10-17 22:25:20 Setting assayIndex key...
2024-10-17 22:25:21 Building LongTable...
2024-10-17 22:25:22 Building assay index...
2024-10-17 22:25:22 Joining rowData to assayIndex...
2024-10-17 22:25:24 Joining colData to assayIndex...
2024-10-17 22:25:25 Joining assays to assayIndex...
2024-10-17 22:25:27 Setting assayIndex key...
2024-10-17 22:25:28 Building LongTable...
INFO [2024-10-17 22:25:28] Manifest loaded successfully
INFO [2024-10-17 22:25:28] Manifest loaded successfully
INFO [2024-10-17 22:25:28] Reading file /Library/Frameworks/R.framework/Versions/4.4-arm64/Resources/library/gDRimport/extdata/data1/RawData_day0.xlsx, sheet Readout_0077vs0068_day7
INFO [2024-10-17 22:25:29] Plate 201904190a read; 384 wells
INFO [2024-10-17 22:25:29] Plate 201904190b read; 384 wells
INFO [2024-10-17 22:25:29] Plate 201904190c read; 384 wells
INFO [2024-10-17 22:25:29] Plate 201904190d read; 384 wells
INFO [2024-10-17 22:25:29] Plate 201904190e read; 384 wells
INFO [2024-10-17 22:25:29] Plate 201904190f read; 384 wells
INFO [2024-10-17 22:25:29] File done
INFO [2024-10-17 22:25:29] Reading file /Library/Frameworks/R.framework/Versions/4.4-arm64/Resources/library/gDRimport/extdata/data1/RawData_day7.xlsx, sheet Readout_0077vs0068_day7
INFO [2024-10-17 22:25:29] Plate 201904197a read; 384 wells
INFO [2024-10-17 22:25:29] Plate 201904197b read; 384 wells
INFO [2024-10-17 22:25:29] Plate 201904197c read; 384 wells
INFO [2024-10-17 22:25:29] Plate 201904197d read; 384 wells
INFO [2024-10-17 22:25:29] Plate 201904197e read; 384 wells
INFO [2024-10-17 22:25:29] Plate 201904197f read; 384 wells
INFO [2024-10-17 22:25:29] File done
INFO [2024-10-17 22:25:29] Reading file /Library/Frameworks/R.framework/Versions/4.4-arm64/Resources/library/gDRimport/extdata/data1/RawData_day0.xlsx, sheet Readout_0077vs0068_day7
INFO [2024-10-17 22:25:29] Plate 201904190a read; 384 wells
INFO [2024-10-17 22:25:29] Plate 201904190b read; 384 wells
INFO [2024-10-17 22:25:29] Plate 201904190c read; 384 wells
INFO [2024-10-17 22:25:29] Plate 201904190d read; 384 wells
INFO [2024-10-17 22:25:29] Plate 201904190e read; 384 wells
INFO [2024-10-17 22:25:29] Plate 201904190f read; 384 wells
INFO [2024-10-17 22:25:29] File done
INFO [2024-10-17 22:25:29] Reading file /Library/Frameworks/R.framework/Versions/4.4-arm64/Resources/library/gDRimport/extdata/data1/RawData_day7.xlsx, sheet Readout_0077vs0068_day7
INFO [2024-10-17 22:25:30] Plate 201904197a read; 384 wells
INFO [2024-10-17 22:25:30] Plate 201904197b read; 384 wells
INFO [2024-10-17 22:25:30] Plate 201904197c read; 384 wells
INFO [2024-10-17 22:25:30] Plate 201904197d read; 384 wells
INFO [2024-10-17 22:25:30] Plate 201904197e read; 384 wells
INFO [2024-10-17 22:25:30] Plate 201904197f read; 384 wells
INFO [2024-10-17 22:25:30] File done
INFO [2024-10-17 22:25:30] Reading file /Library/Frameworks/R.framework/Versions/4.4-arm64/Resources/library/gDRimport/extdata/data1/RawData_day0.xlsx, sheet Readout_0077vs0068_day7
INFO [2024-10-17 22:25:30] Plate 201904190a read; 384 wells
INFO [2024-10-17 22:25:30] Plate 201904190b read; 384 wells
INFO [2024-10-17 22:25:30] Plate 201904190c read; 384 wells
INFO [2024-10-17 22:25:30] Plate 201904190d read; 384 wells
INFO [2024-10-17 22:25:30] Plate 201904190e read; 384 wells
INFO [2024-10-17 22:25:30] Plate 201904190f read; 384 wells
INFO [2024-10-17 22:25:30] File done
INFO [2024-10-17 22:25:30] Reading file /Library/Frameworks/R.framework/Versions/4.4-arm64/Resources/library/gDRimport/extdata/data2/RawData_Tecan_96_well_plates.xlsx, sheet H2122-2
INFO [2024-10-17 22:25:30] Reading file /Library/Frameworks/R.framework/Versions/4.4-arm64/Resources/library/gDRimport/extdata/data2/RawData_Tecan_96_well_plates.xlsx, sheet H358-2
INFO [2024-10-17 22:25:31] Reading file /Library/Frameworks/R.framework/Versions/4.4-arm64/Resources/library/gDRimport/extdata/data2/RawData_Tecan_96_well_plates.xlsx, sheet H358-1
INFO [2024-10-17 22:25:31] Reading file /Library/Frameworks/R.framework/Versions/4.4-arm64/Resources/library/gDRimport/extdata/data2/RawData_Tecan_96_well_plates.xlsx, sheet H2122-1
INFO [2024-10-17 22:25:31] Reading Template_7daytreated.xlsx with load_templates_xlsx
INFO [2024-10-17 22:25:31] Loading Template_7daytreated.xlsx
INFO [2024-10-17 22:25:31] Loading Template_Untreated.xlsx
INFO [2024-10-17 22:25:31] Templates loaded successfully!
INFO [2024-10-17 22:25:31] Reading Template_7daytreated.xlsx with load_templates_xlsx
INFO [2024-10-17 22:25:31] Loading Template_7daytreated.xlsx
INFO [2024-10-17 22:25:31] Loading Template_Untreated.xlsx
INFO [2024-10-17 22:25:31] Templates loaded successfully!
INFO [2024-10-17 22:25:31] Reading D300_trt_Tecan_96_well_plates.xlsx with load_templates_xlsx
INFO [2024-10-17 22:25:31] Loading D300_trt_Tecan_96_well_plates.xlsx
INFO [2024-10-17 22:25:32] Templates loaded successfully!
INFO [2024-10-17 22:25:32] Reading Template_7daytreated.xlsx with load_templates_xlsx
INFO [2024-10-17 22:25:32] Loading Template_7daytreated.xlsx
INFO [2024-10-17 22:25:32] Templates loaded successfully!
INFO [2024-10-17 22:25:32] Manifest loaded successfully
INFO [2024-10-17 22:25:32] Reading Template_7daytreated.xlsx with load_templates_xlsx
INFO [2024-10-17 22:25:32] Loading Template_7daytreated.xlsx
INFO [2024-10-17 22:25:32] Loading Template_Untreated.xlsx
INFO [2024-10-17 22:25:32] Templates loaded successfully!
INFO [2024-10-17 22:25:32] Reading file /Library/Frameworks/R.framework/Versions/4.4-arm64/Resources/library/gDRimport/extdata/data1/RawData_day0.xlsx, sheet Readout_0077vs0068_day7
INFO [2024-10-17 22:25:32] Plate 201904190a read; 384 wells
INFO [2024-10-17 22:25:32] Plate 201904190b read; 384 wells
INFO [2024-10-17 22:25:32] Plate 201904190c read; 384 wells
INFO [2024-10-17 22:25:32] Plate 201904190d read; 384 wells
INFO [2024-10-17 22:25:32] Plate 201904190e read; 384 wells
INFO [2024-10-17 22:25:32] Plate 201904190f read; 384 wells
INFO [2024-10-17 22:25:32] File done
INFO [2024-10-17 22:25:32] Reading file /Library/Frameworks/R.framework/Versions/4.4-arm64/Resources/library/gDRimport/extdata/data1/RawData_day7.xlsx, sheet Readout_0077vs0068_day7
INFO [2024-10-17 22:25:33] Plate 201904197a read; 384 wells
INFO [2024-10-17 22:25:33] Plate 201904197b read; 384 wells
INFO [2024-10-17 22:25:33] Plate 201904197c read; 384 wells
INFO [2024-10-17 22:25:33] Plate 201904197d read; 384 wells
INFO [2024-10-17 22:25:33] Plate 201904197e read; 384 wells
INFO [2024-10-17 22:25:33] Plate 201904197f read; 384 wells
INFO [2024-10-17 22:25:33] File done
INFO [2024-10-17 22:25:33] Manifest loaded successfully
INFO [2024-10-17 22:25:33] Reading D300_trt_Tecan_96_well_plates.xlsx with load_templates_xlsx
INFO [2024-10-17 22:25:33] Loading D300_trt_Tecan_96_well_plates.xlsx
INFO [2024-10-17 22:25:33] Templates loaded successfully!
INFO [2024-10-17 22:25:33] Reading file /Library/Frameworks/R.framework/Versions/4.4-arm64/Resources/library/gDRimport/extdata/data2/RawData_Tecan_96_well_plates.xlsx, sheet H2122-2
INFO [2024-10-17 22:25:33] Reading file /Library/Frameworks/R.framework/Versions/4.4-arm64/Resources/library/gDRimport/extdata/data2/RawData_Tecan_96_well_plates.xlsx, sheet H358-2
INFO [2024-10-17 22:25:33] Reading file /Library/Frameworks/R.framework/Versions/4.4-arm64/Resources/library/gDRimport/extdata/data2/RawData_Tecan_96_well_plates.xlsx, sheet H358-1
INFO [2024-10-17 22:25:34] Reading file /Library/Frameworks/R.framework/Versions/4.4-arm64/Resources/library/gDRimport/extdata/data2/RawData_Tecan_96_well_plates.xlsx, sheet H2122-1
INFO [2024-10-17 22:25:34] Manifest loaded successfully
INFO [2024-10-17 22:25:34] Reading Project40.treated.template.xlsx with load_templates_xlsx
INFO [2024-10-17 22:25:34] Loading Project40.treated.template.xlsx
INFO [2024-10-17 22:25:34] Loading Project40.untreated.template.xlsx
INFO [2024-10-17 22:25:34] Templates loaded successfully!
INFO [2024-10-17 22:25:34] Reading file /Library/Frameworks/R.framework/Versions/4.4-arm64/Resources/library/gDRimport/extdata/data4/H0109269D00.csv, sheet 0
INFO [2024-10-17 22:25:34] Plate H0109269D00 read; 384 wells
INFO [2024-10-17 22:25:34] File done
INFO [2024-10-17 22:25:34] Reading file /Library/Frameworks/R.framework/Versions/4.4-arm64/Resources/library/gDRimport/extdata/data4/H0109269D01.csv, sheet 0
INFO [2024-10-17 22:25:34] Plate H0109269D01 read; 384 wells
INFO [2024-10-17 22:25:34] File done
INFO [2024-10-17 22:25:34] Reading file /Library/Frameworks/R.framework/Versions/4.4-arm64/Resources/library/gDRimport/extdata/data4/H0309269D00.csv, sheet 0
INFO [2024-10-17 22:25:34] Plate H0309269D00 read; 384 wells
INFO [2024-10-17 22:25:34] File done
INFO [2024-10-17 22:25:34] Reading file /Library/Frameworks/R.framework/Versions/4.4-arm64/Resources/library/gDRimport/extdata/data4/H0309269D01.csv, sheet 0
INFO [2024-10-17 22:25:34] Plate H0309269D01 read; 384 wells
INFO [2024-10-17 22:25:34] File done
INFO [2024-10-17 22:25:34] Reading file /Library/Frameworks/R.framework/Versions/4.4-arm64/Resources/library/gDRimport/extdata/data4/H0409269D00.csv, sheet 0
INFO [2024-10-17 22:25:34] Plate H0409269D00 read; 384 wells
INFO [2024-10-17 22:25:34] File done
INFO [2024-10-17 22:25:34] Reading file /Library/Frameworks/R.framework/Versions/4.4-arm64/Resources/library/gDRimport/extdata/data4/H0409269D01.csv, sheet 0
INFO [2024-10-17 22:25:34] Plate H0409269D01 read; 384 wells
INFO [2024-10-17 22:25:34] File done
INFO [2024-10-17 22:25:34] Reading file /Library/Frameworks/R.framework/Versions/4.4-arm64/Resources/library/gDRimport/extdata/data4/H0509269D00.csv, sheet 0
INFO [2024-10-17 22:25:34] Plate H0509269D00 read; 384 wells
INFO [2024-10-17 22:25:34] File done
INFO [2024-10-17 22:25:34] Reading file /Library/Frameworks/R.framework/Versions/4.4-arm64/Resources/library/gDRimport/extdata/data4/H0509269D01.csv, sheet 0
INFO [2024-10-17 22:25:34] Plate H0509269D01 read; 384 wells
INFO [2024-10-17 22:25:34] File done
INFO [2024-10-17 22:25:34] Reading file /Library/Frameworks/R.framework/Versions/4.4-arm64/Resources/library/gDRimport/extdata/data4/H0609269D00.csv, sheet 0
INFO [2024-10-17 22:25:34] Plate H0609269D00 read; 384 wells
INFO [2024-10-17 22:25:34] File done
INFO [2024-10-17 22:25:34] Reading file /Library/Frameworks/R.framework/Versions/4.4-arm64/Resources/library/gDRimport/extdata/data4/H0609269D01.csv, sheet 0
INFO [2024-10-17 22:25:34] Plate H0609269D01 read; 384 wells
INFO [2024-10-17 22:25:34] File done
INFO [2024-10-17 22:25:34] Reading file /Library/Frameworks/R.framework/Versions/4.4-arm64/Resources/library/gDRimport/extdata/data4/H0709269D00.csv, sheet 0
INFO [2024-10-17 22:25:34] Plate H0709269D00 read; 384 wells
INFO [2024-10-17 22:25:34] File done
INFO [2024-10-17 22:25:34] Reading file /Library/Frameworks/R.framework/Versions/4.4-arm64/Resources/library/gDRimport/extdata/data4/H0709269D01.csv, sheet 0
INFO [2024-10-17 22:25:34] Plate H0709269D01 read; 384 wells
INFO [2024-10-17 22:25:34] File done
INFO [2024-10-17 22:25:34] Reading file /Library/Frameworks/R.framework/Versions/4.4-arm64/Resources/library/gDRimport/extdata/data4/H0809269D00.csv, sheet 0
INFO [2024-10-17 22:25:34] Plate H0809269D00 read; 384 wells
INFO [2024-10-17 22:25:34] File done
INFO [2024-10-17 22:25:34] Reading file /Library/Frameworks/R.framework/Versions/4.4-arm64/Resources/library/gDRimport/extdata/data4/H0809269D01.csv, sheet 0
INFO [2024-10-17 22:25:34] Plate H0809269D01 read; 384 wells
INFO [2024-10-17 22:25:34] File done
INFO [2024-10-17 22:25:34] Reading file /Library/Frameworks/R.framework/Versions/4.4-arm64/Resources/library/gDRimport/extdata/data4/H0909269D00.csv, sheet 0
INFO [2024-10-17 22:25:34] Plate H0909269D00 read; 384 wells
INFO [2024-10-17 22:25:34] File done
INFO [2024-10-17 22:25:34] Reading file /Library/Frameworks/R.framework/Versions/4.4-arm64/Resources/library/gDRimport/extdata/data4/H0909269D01.csv, sheet 0
INFO [2024-10-17 22:25:34] Plate H0909269D01 read; 384 wells
INFO [2024-10-17 22:25:34] File done
INFO [2024-10-17 22:25:34] Reading file /Library/Frameworks/R.framework/Versions/4.4-arm64/Resources/library/gDRimport/extdata/data4/H1109269D00.csv, sheet 0
INFO [2024-10-17 22:25:34] Plate H1109269D00 read; 384 wells
INFO [2024-10-17 22:25:34] File done
INFO [2024-10-17 22:25:34] Reading file /Library/Frameworks/R.framework/Versions/4.4-arm64/Resources/library/gDRimport/extdata/data4/H1109269D01.csv, sheet 0
INFO [2024-10-17 22:25:34] Plate H1109269D01 read; 384 wells
INFO [2024-10-17 22:25:34] File done
INFO [2024-10-17 22:25:34] Reading file /Library/Frameworks/R.framework/Versions/4.4-arm64/Resources/library/gDRimport/extdata/data4/H1209269D00.csv, sheet 0
INFO [2024-10-17 22:25:34] Plate H1209269D00 read; 384 wells
INFO [2024-10-17 22:25:34] File done
INFO [2024-10-17 22:25:34] Reading file /Library/Frameworks/R.framework/Versions/4.4-arm64/Resources/library/gDRimport/extdata/data4/H1209269D01.csv, sheet 0
INFO [2024-10-17 22:25:34] Plate H1209269D01 read; 384 wells
INFO [2024-10-17 22:25:34] File done
INFO [2024-10-17 22:25:34] Reading file /Library/Frameworks/R.framework/Versions/4.4-arm64/Resources/library/gDRimport/extdata/data4/H1409269D00.csv, sheet 0
INFO [2024-10-17 22:25:34] Plate H1409269D00 read; 384 wells
INFO [2024-10-17 22:25:34] File done
INFO [2024-10-17 22:25:34] Reading file /Library/Frameworks/R.framework/Versions/4.4-arm64/Resources/library/gDRimport/extdata/data4/H1409269D01.csv, sheet 0
INFO [2024-10-17 22:25:34] Plate H1409269D01 read; 384 wells
INFO [2024-10-17 22:25:34] File done
INFO [2024-10-17 22:25:34] Reading file /Library/Frameworks/R.framework/Versions/4.4-arm64/Resources/library/gDRimport/extdata/data4/K0209269D00.csv, sheet 0
INFO [2024-10-17 22:25:35] Plate K0209269D00 read; 384 wells
INFO [2024-10-17 22:25:35] File done
INFO [2024-10-17 22:25:35] Reading file /Library/Frameworks/R.framework/Versions/4.4-arm64/Resources/library/gDRimport/extdata/data4/K0209269D01.csv, sheet 0
INFO [2024-10-17 22:25:35] Plate K0209269D01 read; 384 wells
INFO [2024-10-17 22:25:35] File done
INFO [2024-10-17 22:25:35] Reading file /Library/Frameworks/R.framework/Versions/4.4-arm64/Resources/library/gDRimport/extdata/data4/K0809269D00.csv, sheet 0
INFO [2024-10-17 22:25:35] Plate K0809269D00 read; 384 wells
INFO [2024-10-17 22:25:35] File done
INFO [2024-10-17 22:25:35] Reading file /Library/Frameworks/R.framework/Versions/4.4-arm64/Resources/library/gDRimport/extdata/data4/K0809269D01.csv, sheet 0
INFO [2024-10-17 22:25:35] Plate K0809269D01 read; 384 wells
INFO [2024-10-17 22:25:35] File done
INFO [2024-10-17 22:25:35] Reading file /Library/Frameworks/R.framework/Versions/4.4-arm64/Resources/library/gDRimport/extdata/data4/K1009269D00.csv, sheet 0
INFO [2024-10-17 22:25:35] Plate K1009269D00 read; 384 wells
INFO [2024-10-17 22:25:35] File done
INFO [2024-10-17 22:25:35] Reading file /Library/Frameworks/R.framework/Versions/4.4-arm64/Resources/library/gDRimport/extdata/data4/K1009269D01.csv, sheet 0
INFO [2024-10-17 22:25:35] Plate K1009269D01 read; 384 wells
INFO [2024-10-17 22:25:35] File done
INFO [2024-10-17 22:25:35] Manifest loaded successfully
INFO [2024-10-17 22:25:35] Reading Template_7daytreated.xlsx with load_templates_xlsx
INFO [2024-10-17 22:25:35] Loading Template_7daytreated.xlsx
INFO [2024-10-17 22:25:35] Loading Template_Untreated.xlsx
INFO [2024-10-17 22:25:35] Templates loaded successfully!
INFO [2024-10-17 22:25:35] Manifest loaded successfully
INFO [2024-10-17 22:25:35] Reading Template_7daytreated.xlsx with load_templates_xlsx
INFO [2024-10-17 22:25:35] Loading Template_7daytreated.xlsx
INFO [2024-10-17 22:25:35] Loading Template_Untreated.xlsx
INFO [2024-10-17 22:25:35] Templates loaded successfully!
INFO [2024-10-17 22:25:35] Manifest loaded successfully
INFO [2024-10-17 22:25:35] Reading Template_trt.tsv with load_templates_tsv
INFO [2024-10-17 22:25:35] Loading Template_trt.tsv
INFO [2024-10-17 22:25:35] Loading Template_untrt.tsv
INFO [2024-10-17 22:25:36] Templates loaded successfully!
INFO [2024-10-17 22:25:36] Reading file /Library/Frameworks/R.framework/Versions/4.4-arm64/Resources/library/gDRimport/extdata/data5/RawData.tsv
WARN [2024-10-17 22:25:37] Metadata field names for cannot contain spaces --> corrected to: Gnumber
WARN [2024-10-17 22:25:37] Header Gnumber in corrected to Gnumber
[ FAIL 0 | WARN 0 | SKIP 0 | PASS 132 ]
>
>
> proc.time()
user system elapsed
51.181 3.171 54.105
gDRimport.Rcheck/gDRimport-Ex.timings
| name | user | system | elapsed | |
| check_metadata_names | 0.090 | 0.014 | 0.106 | |
| convert_MAE_to_PSet | 8.995 | 0.312 | 9.326 | |
| convert_pset_to_df | 0.224 | 0.034 | 0.217 | |
| detect_file_format | 0.435 | 0.060 | 0.318 | |
| getPSet | 0.129 | 0.006 | 0.135 | |
| get_exception_data | 0.010 | 0.002 | 0.012 | |
| get_test_D300_data | 0.002 | 0.001 | 0.003 | |
| get_test_EnVision_data | 0.003 | 0.001 | 0.004 | |
| get_test_Tecan_data | 0.001 | 0.001 | 0.002 | |
| get_test_data | 0.002 | 0.000 | 0.003 | |
| get_test_tsv_data | 0.001 | 0.001 | 0.002 | |
| import_D300 | 2.573 | 0.426 | 2.838 | |
| is_readable_v | 0.002 | 0.001 | 0.004 | |
| load_data | 1.210 | 0.073 | 1.298 | |
| load_manifest | 0.078 | 0.007 | 0.049 | |
| load_results | 1.135 | 0.049 | 1.071 | |
| load_templates | 0.359 | 0.051 | 0.274 | |
| manifest_path-method | 0.003 | 0.001 | 0.003 | |
| parse_D300_xml | 0.959 | 0.014 | 0.997 | |
| read_excel_to_dt | 0.029 | 0.016 | 0.040 | |
| result_path-method | 0.002 | 0.001 | 0.003 | |
| setEnvForPSet | 0.001 | 0.000 | 0.001 | |
| standardize_record_values | 0 | 0 | 0 | |
| template_path-method | 0.002 | 0.000 | 0.003 | |