| Back to Multiple platform build/check report for BioC 3.19: simplified long |
|
This page was generated on 2024-05-09 11:40:52 -0400 (Thu, 09 May 2024).
| Hostname | OS | Arch (*) | R version | Installed pkgs |
|---|---|---|---|---|
| nebbiolo1 | Linux (Ubuntu 22.04.3 LTS) | x86_64 | 4.4.0 (2024-04-24) -- "Puppy Cup" | 4748 |
| palomino3 | Windows Server 2022 Datacenter | x64 | 4.4.0 (2024-04-24 ucrt) -- "Puppy Cup" | 4484 |
| lconway | macOS 12.7.1 Monterey | x86_64 | 4.4.0 (2024-04-24) -- "Puppy Cup" | 4514 |
| kunpeng2 | Linux (openEuler 22.03 LTS-SP1) | aarch64 | 4.4.0 beta (2024-04-15 r86425) -- "Puppy Cup" | 4480 |
| Click on any hostname to see more info about the system (e.g. compilers) (*) as reported by 'uname -p', except on Windows and Mac OS X | ||||
| Package 788/2300 | Hostname | OS / Arch | INSTALL | BUILD | CHECK | BUILD BIN | ||||||||
| gDRcore 1.2.0 (landing page) Arkadiusz Gladki
| nebbiolo1 | Linux (Ubuntu 22.04.3 LTS) / x86_64 | OK | OK | OK | |||||||||
| palomino3 | Windows Server 2022 Datacenter / x64 | OK | OK | OK | OK | |||||||||
| lconway | macOS 12.7.1 Monterey / x86_64 | OK | OK | OK | OK | |||||||||
| kunpeng2 | Linux (openEuler 22.03 LTS-SP1) / aarch64 | OK | OK | OK | ||||||||||
| kjohnson3 | macOS 13.6.5 Ventura / arm64 | see weekly results here | ||||||||||||
|
To the developers/maintainers of the gDRcore package: - Allow up to 24 hours (and sometimes 48 hours) for your latest push to git@git.bioconductor.org:packages/gDRcore.git to reflect on this report. See Troubleshooting Build Report for more information. - Use the following Renviron settings to reproduce errors and warnings. - If 'R CMD check' started to fail recently on the Linux builder(s) over a missing dependency, add the missing dependency to 'Suggests:' in your DESCRIPTION file. See Renviron.bioc for more information. - See Martin Grigorov's blog post for how to debug Linux ARM64 related issues on a x86_64 host. |
| Package: gDRcore |
| Version: 1.2.0 |
| Command: /home/biocbuild/R/R-beta-2024-04-15_r86425/bin/R CMD check --install=check:gDRcore.install-out.txt --library=/home/biocbuild/R/R-beta-2024-04-15_r86425/site-library --no-vignettes --timings gDRcore_1.2.0.tar.gz |
| StartedAt: 2024-05-09 07:35:04 -0000 (Thu, 09 May 2024) |
| EndedAt: 2024-05-09 07:42:15 -0000 (Thu, 09 May 2024) |
| EllapsedTime: 430.8 seconds |
| RetCode: 0 |
| Status: OK |
| CheckDir: gDRcore.Rcheck |
| Warnings: 0 |
##############################################################################
##############################################################################
###
### Running command:
###
### /home/biocbuild/R/R-beta-2024-04-15_r86425/bin/R CMD check --install=check:gDRcore.install-out.txt --library=/home/biocbuild/R/R-beta-2024-04-15_r86425/site-library --no-vignettes --timings gDRcore_1.2.0.tar.gz
###
##############################################################################
##############################################################################
* using log directory ‘/home/biocbuild/bbs-3.19-bioc/meat/gDRcore.Rcheck’
* using R version 4.4.0 beta (2024-04-15 r86425)
* using platform: aarch64-unknown-linux-gnu
* R was compiled by
gcc (GCC) 10.3.1
GNU Fortran (GCC) 10.3.1
* running under: openEuler 22.03 (LTS-SP1)
* using session charset: UTF-8
* using option ‘--no-vignettes’
* checking for file ‘gDRcore/DESCRIPTION’ ... OK
* checking extension type ... Package
* this is package ‘gDRcore’ version ‘1.2.0’
* package encoding: UTF-8
* checking package namespace information ... OK
* checking package dependencies ... OK
* checking if this is a source package ... OK
* checking if there is a namespace ... OK
* checking for hidden files and directories ... OK
* checking for portable file names ... OK
* checking for sufficient/correct file permissions ... OK
* checking whether package ‘gDRcore’ can be installed ... OK
* used C++ compiler: ‘g++ (GCC) 10.3.1’
* checking installed package size ... OK
* checking package directory ... OK
* checking ‘build’ directory ... OK
* checking DESCRIPTION meta-information ... OK
* checking top-level files ... OK
* checking for left-over files ... OK
* checking index information ... OK
* checking package subdirectories ... OK
* checking code files for non-ASCII characters ... OK
* checking R files for syntax errors ... OK
* checking whether the package can be loaded ... OK
* checking whether the package can be loaded with stated dependencies ... OK
* checking whether the package can be unloaded cleanly ... OK
* checking whether the namespace can be loaded with stated dependencies ... OK
* checking whether the namespace can be unloaded cleanly ... OK
* checking loading without being on the library search path ... OK
* checking whether startup messages can be suppressed ... OK
* checking dependencies in R code ... OK
* checking S3 generic/method consistency ... OK
* checking replacement functions ... OK
* checking foreign function calls ... OK
* checking R code for possible problems ... OK
* checking Rd files ... OK
* checking Rd metadata ... OK
* checking Rd cross-references ... OK
* checking for missing documentation entries ... OK
* checking for code/documentation mismatches ... OK
* checking Rd \usage sections ... OK
* checking Rd contents ... OK
* checking for unstated dependencies in examples ... OK
* checking line endings in C/C++/Fortran sources/headers ... OK
* checking compiled code ... NOTE
Note: information on .o files is not available
* checking files in ‘vignettes’ ... OK
* checking examples ... OK
Examples with CPU (user + system) or elapsed time > 5s
user system elapsed
runDrugResponseProcessingPipelineFxns 22.382 0.203 22.578
add_CellLine_annotation 6.579 0.236 6.830
* checking for unstated dependencies in ‘tests’ ... OK
* checking tests ...
Running ‘testthat.R’
OK
* checking for unstated dependencies in vignettes ... OK
* checking package vignettes ... OK
* checking running R code from vignettes ... SKIPPED
* checking re-building of vignette outputs ... SKIPPED
* checking PDF version of manual ... OK
* DONE
Status: 1 NOTE
See
‘/home/biocbuild/bbs-3.19-bioc/meat/gDRcore.Rcheck/00check.log’
for details.
gDRcore.Rcheck/00install.out
############################################################################## ############################################################################## ### ### Running command: ### ### /home/biocbuild/R/R-beta-2024-04-15_r86425/bin/R CMD INSTALL gDRcore ### ############################################################################## ############################################################################## * installing to library ‘/home/biocbuild/R/R-beta-2024-04-15_r86425/site-library’ * installing *source* package ‘gDRcore’ ... ** using staged installation ** libs using C++ compiler: ‘g++ (GCC) 10.3.1’ g++ -std=gnu++17 -I"/home/biocbuild/R/R-beta-2024-04-15_r86425/include" -DNDEBUG -I/usr/local/include -fPIC -g -O2 -Wall -c gDRcore.cpp -o gDRcore.o g++ -std=gnu++17 -shared -L/home/biocbuild/R/R-beta-2024-04-15_r86425/lib -L/usr/local/lib -o gDRcore.so gDRcore.o -L/home/biocbuild/R/R-beta-2024-04-15_r86425/lib -lR installing to /home/biocbuild/R/R-beta-2024-04-15_r86425/site-library/00LOCK-gDRcore/00new/gDRcore/libs ** R ** inst ** byte-compile and prepare package for lazy loading ** help *** installing help indices ** building package indices ** installing vignettes ** testing if installed package can be loaded from temporary location ** checking absolute paths in shared objects and dynamic libraries ** testing if installed package can be loaded from final location ** testing if installed package keeps a record of temporary installation path * DONE (gDRcore)
gDRcore.Rcheck/tests/testthat.Rout
R version 4.4.0 beta (2024-04-15 r86425) -- "Puppy Cup"
Copyright (C) 2024 The R Foundation for Statistical Computing
Platform: aarch64-unknown-linux-gnu
R is free software and comes with ABSOLUTELY NO WARRANTY.
You are welcome to redistribute it under certain conditions.
Type 'license()' or 'licence()' for distribution details.
R is a collaborative project with many contributors.
Type 'contributors()' for more information and
'citation()' on how to cite R or R packages in publications.
Type 'demo()' for some demos, 'help()' for on-line help, or
'help.start()' for an HTML browser interface to help.
Type 'q()' to quit R.
> library("gDRcore")
> library("testthat")
>
> test_check("gDRcore")
INFO [2024-05-09 07:37:11] Merge with Cell line info
INFO [2024-05-09 07:37:11] Merge with Cell line info
INFO [2024-05-09 07:41:37]
INFO [2024-05-09 07:42:00] Manifest loaded successfully
INFO [2024-05-09 07:42:00] Reading Template_7daytreated.xlsx with load_templates_xlsx
INFO [2024-05-09 07:42:00] Loading Template_7daytreated.xlsx
INFO [2024-05-09 07:42:00] Loading Template_Untreated.xlsx
INFO [2024-05-09 07:42:00] Templates loaded successfully!
INFO [2024-05-09 07:42:00] Reading file /home/biocbuild/R/R-beta-2024-04-15_r86425/site-library/gDRimport/extdata/data1/RawData_day0.xlsx, sheet Readout_0077vs0068_day7
INFO [2024-05-09 07:42:01] Plate 201904190a read; 384 wells
INFO [2024-05-09 07:42:01] Plate 201904190b read; 384 wells
INFO [2024-05-09 07:42:01] Plate 201904190c read; 384 wells
INFO [2024-05-09 07:42:01] Plate 201904190d read; 384 wells
INFO [2024-05-09 07:42:01] Plate 201904190e read; 384 wells
INFO [2024-05-09 07:42:01] Plate 201904190f read; 384 wells
INFO [2024-05-09 07:42:01] File done
INFO [2024-05-09 07:42:01] Reading file /home/biocbuild/R/R-beta-2024-04-15_r86425/site-library/gDRimport/extdata/data1/RawData_day7.xlsx, sheet Readout_0077vs0068_day7
INFO [2024-05-09 07:42:01] Plate 201904197a read; 384 wells
INFO [2024-05-09 07:42:01] Plate 201904197b read; 384 wells
INFO [2024-05-09 07:42:01] Plate 201904197c read; 384 wells
INFO [2024-05-09 07:42:01] Plate 201904197d read; 384 wells
INFO [2024-05-09 07:42:01] Plate 201904197e read; 384 wells
INFO [2024-05-09 07:42:01] Plate 201904197f read; 384 wells
INFO [2024-05-09 07:42:01] File done
INFO [2024-05-09 07:42:02] Manifest loaded successfully
INFO [2024-05-09 07:42:02] Reading Template_7daytreated.xlsx with load_templates_xlsx
INFO [2024-05-09 07:42:02] Loading Template_7daytreated.xlsx
INFO [2024-05-09 07:42:02] Loading Template_Untreated.xlsx
INFO [2024-05-09 07:42:02] Templates loaded successfully!
INFO [2024-05-09 07:42:02] Reading file /home/biocbuild/R/R-beta-2024-04-15_r86425/site-library/gDRimport/extdata/data1/RawData_day0.xlsx, sheet Readout_0077vs0068_day7
INFO [2024-05-09 07:42:02] Plate 201904190a read; 384 wells
INFO [2024-05-09 07:42:02] Plate 201904190b read; 384 wells
INFO [2024-05-09 07:42:02] Plate 201904190c read; 384 wells
INFO [2024-05-09 07:42:02] Plate 201904190d read; 384 wells
INFO [2024-05-09 07:42:02] Plate 201904190e read; 384 wells
INFO [2024-05-09 07:42:02] Plate 201904190f read; 384 wells
INFO [2024-05-09 07:42:02] File done
INFO [2024-05-09 07:42:02] Reading file /home/biocbuild/R/R-beta-2024-04-15_r86425/site-library/gDRimport/extdata/data1/RawData_day7.xlsx, sheet Readout_0077vs0068_day7
INFO [2024-05-09 07:42:03] Plate 201904197a read; 384 wells
INFO [2024-05-09 07:42:03] Plate 201904197b read; 384 wells
INFO [2024-05-09 07:42:03] Plate 201904197c read; 384 wells
INFO [2024-05-09 07:42:03] Plate 201904197d read; 384 wells
INFO [2024-05-09 07:42:03] Plate 201904197e read; 384 wells
INFO [2024-05-09 07:42:03] Plate 201904197f read; 384 wells
INFO [2024-05-09 07:42:03] File done
[ FAIL 0 | WARN 0 | SKIP 0 | PASS 197 ]
>
> proc.time()
user system elapsed
306.440 2.665 309.413
gDRcore.Rcheck/gDRcore-Ex.timings
| name | user | system | elapsed | |
| add_CellLine_annotation | 6.579 | 0.236 | 6.830 | |
| add_Drug_annotation | 0.967 | 0.036 | 1.006 | |
| calculate_GR_value | 0.002 | 0.000 | 0.003 | |
| calculate_excess | 0.086 | 0.000 | 0.086 | |
| calculate_matrix_metric | 0.023 | 0.000 | 0.024 | |
| cleanup_metadata | 0.026 | 0.004 | 0.030 | |
| convert_mae_to_raw_data | 1.386 | 0.052 | 1.443 | |
| convert_se_to_raw_data | 0.872 | 0.004 | 0.875 | |
| data_model | 0.000 | 0.000 | 0.001 | |
| dot-standardize_conc | 0.001 | 0.000 | 0.001 | |
| fit_SE.combinations | 3.838 | 0.088 | 3.939 | |
| get_default_nested_identifiers | 0.001 | 0.000 | 0.001 | |
| grr_matches | 0.017 | 0.000 | 0.018 | |
| identify_data_type | 0.054 | 0.000 | 0.054 | |
| identify_keys | 0.147 | 0.000 | 0.146 | |
| map_conc_to_standardized_conc | 0.004 | 0.000 | 0.004 | |
| map_df | 0.149 | 0.000 | 0.149 | |
| map_ids_to_fits | 0.002 | 0.000 | 0.002 | |
| merge_data | 1.815 | 0.079 | 1.910 | |
| prepare_input | 1.729 | 0.033 | 1.754 | |
| remove_drug_batch | 0.000 | 0.000 | 0.001 | |
| replace_conc_with_standardized_conc | 0.001 | 0.000 | 0.001 | |
| round_concentration | 0 | 0 | 0 | |
| runDrugResponseProcessingPipelineFxns | 22.382 | 0.203 | 22.578 | |
| split_raw_data | 0.371 | 0.000 | 0.370 | |
| test_synthetic_data | 1.199 | 0.012 | 1.205 | |