| Back to Multiple platform build/check report for BioC 3.19: simplified long | 
 | 
This page was generated on 2024-10-18 20:39 -0400 (Fri, 18 Oct 2024).
| Hostname | OS | Arch (*) | R version | Installed pkgs | 
|---|---|---|---|---|
| nebbiolo1 | Linux (Ubuntu 22.04.3 LTS) | x86_64 | 4.4.1 (2024-06-14) -- "Race for Your Life" | 4763 | 
| palomino7 | Windows Server 2022 Datacenter | x64 | 4.4.1 (2024-06-14 ucrt) -- "Race for Your Life" | 4500 | 
| merida1 | macOS 12.7.5 Monterey | x86_64 | 4.4.1 (2024-06-14) -- "Race for Your Life" | 4530 | 
| kjohnson1 | macOS 13.6.6 Ventura | arm64 | 4.4.1 (2024-06-14) -- "Race for Your Life" | 4480 | 
| Click on any hostname to see more info about the system (e.g. compilers) (*) as reported by 'uname -p', except on Windows and Mac OS X | ||||
| Package 759/2300 | Hostname | OS / Arch | INSTALL | BUILD | CHECK | BUILD BIN | ||||||||
| fmrs 1.14.0  (landing page) Farhad Shokoohi 
 | nebbiolo1 | Linux (Ubuntu 22.04.3 LTS) / x86_64 | OK | OK | OK | |||||||||
| palomino7 | Windows Server 2022 Datacenter / x64 | OK | OK | OK | OK | |||||||||
| merida1 | macOS 12.7.5 Monterey / x86_64 | OK | OK | OK | OK | |||||||||
| kjohnson1 | macOS 13.6.6 Ventura / arm64 | OK | OK | OK | OK | |||||||||
| To the developers/maintainers of the fmrs package: - Allow up to 24 hours (and sometimes 48 hours) for your latest push to git@git.bioconductor.org:packages/fmrs.git to reflect on this report. See Troubleshooting Build Report for more information. - Use the following Renviron settings to reproduce errors and warnings. - If 'R CMD check' started to fail recently on the Linux builder(s) over a missing dependency, add the missing dependency to 'Suggests:' in your DESCRIPTION file. See Renviron.bioc for more information. | 
| Package: fmrs | 
| Version: 1.14.0 | 
| Command: rm -rf fmrs.buildbin-libdir && mkdir fmrs.buildbin-libdir && E:\biocbuild\bbs-3.19-bioc\R\bin\R.exe CMD INSTALL --build --library=fmrs.buildbin-libdir fmrs_1.14.0.tar.gz | 
| StartedAt: 2024-10-17 07:48:53 -0400 (Thu, 17 Oct 2024) | 
| EndedAt: 2024-10-17 07:49:28 -0400 (Thu, 17 Oct 2024) | 
| EllapsedTime: 34.8 seconds | 
| RetCode: 0 | 
| Status: OK | 
| PackageFile: fmrs_1.14.0.zip | 
| PackageFileSize: 208.5 KiB | 
##############################################################################
##############################################################################
###
### Running command:
###
###   rm -rf fmrs.buildbin-libdir && mkdir fmrs.buildbin-libdir && E:\biocbuild\bbs-3.19-bioc\R\bin\R.exe CMD INSTALL --build --library=fmrs.buildbin-libdir fmrs_1.14.0.tar.gz
###
##############################################################################
##############################################################################
* installing *source* package 'fmrs' ...
** using staged installation
** libs
using C compiler: 'gcc.exe (GCC) 13.2.0'
gcc  -I"E:/biocbuild/bbs-3.19-bioc/R/include" -DNDEBUG     -I"C:/rtools44/x86_64-w64-mingw32.static.posix/include"     -O2 -Wall  -mfpmath=sse -msse2 -mstackrealign  -c fmrs.c -o fmrs.o
fmrs.c: In function 'FMR_Weibl_MLE':
fmrs.c:1497:12: warning: variable 'multX' set but not used [-Wunused-but-set-variable]
 1497 |     double multX[N][D][K];
      |            ^~~~~
fmrs.c: In function 'FMR_Weibl_CTun':
fmrs.c:2566:12: warning: variable 'pi_new' set but not used [-Wunused-but-set-variable]
 2566 |     double pi_new[K];
      |            ^~~~~~
fmrs.c:2547:12: warning: variable 'multX' set but not used [-Wunused-but-set-variable]
 2547 |     double multX[N][D][k1];
      |            ^~~~~
fmrs.c: In function 'Norm_MLE':
fmrs.c:2981:10: warning: variable 'sumwi' set but not used [-Wunused-but-set-variable]
 2981 |   double sumwi[K];
      |          ^~~~~
fmrs.c: In function 'Weibl_MLE':
fmrs.c:4056:10: warning: variable 'multX' set but not used [-Wunused-but-set-variable]
 4056 |   double multX[N][D][K];
      |          ^~~~~
fmrs.c: In function 'Weibl_CTun':
fmrs.c:5031:10: warning: variable 'select' set but not used [-Wunused-but-set-variable]
 5031 |   double select[D][K];
      |          ^~~~~~
fmrs.c:5007:10: warning: variable 'multX' set but not used [-Wunused-but-set-variable]
 5007 |   double multX[N][D][k1];
      |          ^~~~~
fmrs.c: In function 'backsub':
fmrs.c:59:26: warning: '*atemp[<unknown>][n]' may be used uninitialized [-Wmaybe-uninitialized]
   59 |     y[n-1] = atemp[n - 1][n] / atemp[n - 1][n - 1];
      |              ~~~~~~~~~~~~^~~
fmrs.c:59:44: warning: '*atemp[<unknown>][<unknown>]' may be used uninitialized [-Wmaybe-uninitialized]
   59 |     y[n-1] = atemp[n - 1][n] / atemp[n - 1][n - 1];
      |                                ~~~~~~~~~~~~^~~~~~~
gcc -shared -s -static-libgcc -o fmrs.dll tmp.def fmrs.o -LC:/rtools44/x86_64-w64-mingw32.static.posix/lib/x64 -LC:/rtools44/x86_64-w64-mingw32.static.posix/lib -LE:/biocbuild/bbs-3.19-bioc/R/bin/x64 -lR
installing to E:/biocbuild/bbs-3.19-bioc/meat/fmrs.buildbin-libdir/00LOCK-fmrs/00new/fmrs/libs/x64
** R
** inst
** byte-compile and prepare package for lazy loading
** help
*** installing help indices
** building package indices
** installing vignettes
** testing if installed package can be loaded from temporary location
** testing if installed package can be loaded from final location
** testing if installed package keeps a record of temporary installation path
* MD5 sums
packaged installation of 'fmrs' as fmrs_1.14.0.zip
* DONE (fmrs)