| Back to Multiple platform build/check report for BioC 3.19: simplified long | 
 | 
This page was generated on 2024-10-18 20:38 -0400 (Fri, 18 Oct 2024).
| Hostname | OS | Arch (*) | R version | Installed pkgs | 
|---|---|---|---|---|
| nebbiolo1 | Linux (Ubuntu 22.04.3 LTS) | x86_64 | 4.4.1 (2024-06-14) -- "Race for Your Life" | 4763 | 
| palomino7 | Windows Server 2022 Datacenter | x64 | 4.4.1 (2024-06-14 ucrt) -- "Race for Your Life" | 4500 | 
| merida1 | macOS 12.7.5 Monterey | x86_64 | 4.4.1 (2024-06-14) -- "Race for Your Life" | 4530 | 
| kjohnson1 | macOS 13.6.6 Ventura | arm64 | 4.4.1 (2024-06-14) -- "Race for Your Life" | 4480 | 
| Click on any hostname to see more info about the system (e.g. compilers) (*) as reported by 'uname -p', except on Windows and Mac OS X | ||||
| Package 747/2300 | Hostname | OS / Arch | INSTALL | BUILD | CHECK | BUILD BIN | ||||||||
| flowPeaks 1.50.0  (landing page) Yongchao Ge 
 | nebbiolo1 | Linux (Ubuntu 22.04.3 LTS) / x86_64 | OK | OK | WARNINGS |  | ||||||||
| palomino7 | Windows Server 2022 Datacenter / x64 | OK | OK | OK | OK |  | ||||||||
| merida1 | macOS 12.7.5 Monterey / x86_64 | OK | OK | WARNINGS | OK |  | ||||||||
| kjohnson1 | macOS 13.6.6 Ventura / arm64 | OK | OK | WARNINGS | OK |  | ||||||||
| To the developers/maintainers of the flowPeaks package: - Allow up to 24 hours (and sometimes 48 hours) for your latest push to git@git.bioconductor.org:packages/flowPeaks.git to reflect on this report. See Troubleshooting Build Report for more information. - Use the following Renviron settings to reproduce errors and warnings. - If 'R CMD check' started to fail recently on the Linux builder(s) over a missing dependency, add the missing dependency to 'Suggests:' in your DESCRIPTION file. See Renviron.bioc for more information. | 
| Package: flowPeaks | 
| Version: 1.50.0 | 
| Command: /home/biocbuild/bbs-3.19-bioc/R/bin/R CMD INSTALL flowPeaks | 
| StartedAt: 2024-10-16 15:49:03 -0400 (Wed, 16 Oct 2024) | 
| EndedAt: 2024-10-16 15:49:16 -0400 (Wed, 16 Oct 2024) | 
| EllapsedTime: 13.4 seconds | 
| RetCode: 0 | 
| Status: OK | 
##############################################################################
##############################################################################
###
### Running command:
###
###   /home/biocbuild/bbs-3.19-bioc/R/bin/R CMD INSTALL flowPeaks
###
##############################################################################
##############################################################################
* installing to library ‘/home/biocbuild/bbs-3.19-bioc/R/site-library’
* installing *source* package ‘flowPeaks’ ...
** using staged installation
** libs
using C++ compiler: ‘g++ (Ubuntu 11.4.0-1ubuntu1~22.04) 11.4.0’
g++ -std=gnu++17 -I"/home/biocbuild/bbs-3.19-bioc/R/include" -DNDEBUG   -I/usr/local/include   `gsl-config --cflags`  -fpic  -g -O2  -Wall  -c Rpack.cpp -o Rpack.o
Rpack.cpp: In function ‘void Rpack_relevel(int*, int*, int*, int*, int*, int*)’:
Rpack.cpp:141:25: warning: comparison of integer expressions of different signedness: ‘std::map<int, int>::size_type’ {aka ‘long unsigned int’} and ‘int’ [-Wsign-compare]
  141 |         if(levels.size()<(i+1)){
      |            ~~~~~~~~~~~~~^~~~~~
g++ -std=gnu++17 -I"/home/biocbuild/bbs-3.19-bioc/R/include" -DNDEBUG   -I/usr/local/include   `gsl-config --cflags`  -fpic  -g -O2  -Wall  -c Rregistrate.cpp -o Rregistrate.o
g++ -std=gnu++17 -I"/home/biocbuild/bbs-3.19-bioc/R/include" -DNDEBUG   -I/usr/local/include   `gsl-config --cflags`  -fpic  -g -O2  -Wall  -c VoronoiDiagramGenerator.cpp -o VoronoiDiagramGenerator.o
g++ -std=gnu++17 -I"/home/biocbuild/bbs-3.19-bioc/R/include" -DNDEBUG   -I/usr/local/include   `gsl-config --cflags`  -fpic  -g -O2  -Wall  -c flowPeaks.cpp -o flowPeaks.o
g++ -std=gnu++17 -I"/home/biocbuild/bbs-3.19-bioc/R/include" -DNDEBUG   -I/usr/local/include   `gsl-config --cflags`  -fpic  -g -O2  -Wall  -c func_collect.cpp -o func_collect.o
g++ -std=gnu++17 -I"/home/biocbuild/bbs-3.19-bioc/R/include" -DNDEBUG   -I/usr/local/include   `gsl-config --cflags`  -fpic  -g -O2  -Wall  -c func_collect_supp.cpp -o func_collect_supp.o
g++ -std=gnu++17 -I"/home/biocbuild/bbs-3.19-bioc/R/include" -DNDEBUG   -I/usr/local/include   `gsl-config --cflags`  -fpic  -g -O2  -Wall  -c gvector_gmatrix.cpp -o gvector_gmatrix.o
g++ -std=gnu++17 -I"/home/biocbuild/bbs-3.19-bioc/R/include" -DNDEBUG   -I/usr/local/include   `gsl-config --cflags`  -fpic  -g -O2  -Wall  -c kd_tree.cpp -o kd_tree.o
g++ -std=gnu++17 -I"/home/biocbuild/bbs-3.19-bioc/R/include" -DNDEBUG   -I/usr/local/include   `gsl-config --cflags`  -fpic  -g -O2  -Wall  -c kmns.cpp -o kmns.o
g++ -std=gnu++17 -shared -L/home/biocbuild/bbs-3.19-bioc/R/lib -L/usr/local/lib -o flowPeaks.so Rpack.o Rregistrate.o VoronoiDiagramGenerator.o flowPeaks.o func_collect.o func_collect_supp.o gvector_gmatrix.o kd_tree.o kmns.o -L/usr/lib/x86_64-linux-gnu -lgsl -lgslcblas -lm -L/home/biocbuild/bbs-3.19-bioc/R/lib -lR
installing to /home/biocbuild/bbs-3.19-bioc/R/site-library/00LOCK-flowPeaks/00new/flowPeaks/libs
** R
** data
** inst
** byte-compile and prepare package for lazy loading
** help
*** installing help indices
** building package indices
** installing vignettes
** testing if installed package can be loaded from temporary location
** checking absolute paths in shared objects and dynamic libraries
** testing if installed package can be loaded from final location
** testing if installed package keeps a record of temporary installation path
* DONE (flowPeaks)