| Back to Multiple platform build/check report for BioC 3.19: simplified long |
|
This page was generated on 2024-10-18 20:40 -0400 (Fri, 18 Oct 2024).
| Hostname | OS | Arch (*) | R version | Installed pkgs |
|---|---|---|---|---|
| nebbiolo1 | Linux (Ubuntu 22.04.3 LTS) | x86_64 | 4.4.1 (2024-06-14) -- "Race for Your Life" | 4763 |
| palomino7 | Windows Server 2022 Datacenter | x64 | 4.4.1 (2024-06-14 ucrt) -- "Race for Your Life" | 4500 |
| merida1 | macOS 12.7.5 Monterey | x86_64 | 4.4.1 (2024-06-14) -- "Race for Your Life" | 4530 |
| kjohnson1 | macOS 13.6.6 Ventura | arm64 | 4.4.1 (2024-06-14) -- "Race for Your Life" | 4480 |
| Click on any hostname to see more info about the system (e.g. compilers) (*) as reported by 'uname -p', except on Windows and Mac OS X | ||||
| Package 742/2300 | Hostname | OS / Arch | INSTALL | BUILD | CHECK | BUILD BIN | ||||||||
| flowGraph 1.12.0 (landing page) Alice Yue
| nebbiolo1 | Linux (Ubuntu 22.04.3 LTS) / x86_64 | OK | OK | OK | |||||||||
| palomino7 | Windows Server 2022 Datacenter / x64 | OK | OK | OK | OK | |||||||||
| merida1 | macOS 12.7.5 Monterey / x86_64 | OK | OK | OK | OK | |||||||||
| kjohnson1 | macOS 13.6.6 Ventura / arm64 | OK | OK | OK | OK | |||||||||
|
To the developers/maintainers of the flowGraph package: - Allow up to 24 hours (and sometimes 48 hours) for your latest push to git@git.bioconductor.org:packages/flowGraph.git to reflect on this report. See Troubleshooting Build Report for more information. - Use the following Renviron settings to reproduce errors and warnings. - If 'R CMD check' started to fail recently on the Linux builder(s) over a missing dependency, add the missing dependency to 'Suggests:' in your DESCRIPTION file. See Renviron.bioc for more information. |
| Package: flowGraph |
| Version: 1.12.0 |
| Command: /Library/Frameworks/R.framework/Resources/bin/R CMD check --install=check:flowGraph.install-out.txt --library=/Library/Frameworks/R.framework/Resources/library --no-vignettes --timings flowGraph_1.12.0.tar.gz |
| StartedAt: 2024-10-17 05:26:16 -0400 (Thu, 17 Oct 2024) |
| EndedAt: 2024-10-17 05:35:50 -0400 (Thu, 17 Oct 2024) |
| EllapsedTime: 573.8 seconds |
| RetCode: 0 |
| Status: OK |
| CheckDir: flowGraph.Rcheck |
| Warnings: 0 |
##############################################################################
##############################################################################
###
### Running command:
###
### /Library/Frameworks/R.framework/Resources/bin/R CMD check --install=check:flowGraph.install-out.txt --library=/Library/Frameworks/R.framework/Resources/library --no-vignettes --timings flowGraph_1.12.0.tar.gz
###
##############################################################################
##############################################################################
* using log directory ‘/Users/biocbuild/bbs-3.19-bioc/meat/flowGraph.Rcheck’
* using R version 4.4.1 (2024-06-14)
* using platform: x86_64-apple-darwin20
* R was compiled by
Apple clang version 14.0.0 (clang-1400.0.29.202)
GNU Fortran (GCC) 12.2.0
* running under: macOS Monterey 12.7.6
* using session charset: UTF-8
* using option ‘--no-vignettes’
* checking for file ‘flowGraph/DESCRIPTION’ ... OK
* checking extension type ... Package
* this is package ‘flowGraph’ version ‘1.12.0’
* checking package namespace information ... OK
* checking package dependencies ... OK
* checking if this is a source package ... OK
* checking if there is a namespace ... OK
* checking for hidden files and directories ... OK
* checking for portable file names ... OK
* checking for sufficient/correct file permissions ... OK
* checking whether package ‘flowGraph’ can be installed ... OK
* checking installed package size ... OK
* checking package directory ... OK
* checking ‘build’ directory ... OK
* checking DESCRIPTION meta-information ... OK
* checking top-level files ... OK
* checking for left-over files ... OK
* checking index information ... OK
* checking package subdirectories ... OK
* checking code files for non-ASCII characters ... OK
* checking R files for syntax errors ... OK
* checking whether the package can be loaded ... OK
* checking whether the package can be loaded with stated dependencies ... OK
* checking whether the package can be unloaded cleanly ... OK
* checking whether the namespace can be loaded with stated dependencies ... OK
* checking whether the namespace can be unloaded cleanly ... OK
* checking dependencies in R code ... OK
* checking S3 generic/method consistency ... OK
* checking replacement functions ... OK
* checking foreign function calls ... OK
* checking R code for possible problems ... NOTE
get_child: no visible binding for global variable ‘no_cores’
get_paren: no visible binding for global variable ‘no_cores’
ms_psig: no visible binding for global variable ‘meta’
Undefined global functions or variables:
meta no_cores
* checking Rd files ... NOTE
checkRd: (-1) fg_get_graph.Rd:13: Lost braces
13 | A list containing two data frames (\code{v} and ]code{e})
| ^
checkRd: (-1) ggdf.Rd:22: Lost braces
22 | code{ggdf} adds to the data frames \code{v} and \code{e} in slot
| ^
* checking Rd metadata ... OK
* checking Rd cross-references ... OK
* checking for missing documentation entries ... OK
* checking for code/documentation mismatches ... OK
* checking Rd \usage sections ... OK
* checking Rd contents ... OK
* checking for unstated dependencies in examples ... OK
* checking contents of ‘data’ directory ... OK
* checking data for non-ASCII characters ... OK
* checking data for ASCII and uncompressed saves ... OK
* checking files in ‘vignettes’ ... OK
* checking examples ... OK
Examples with CPU (user + system) or elapsed time > 5s
user system elapsed
fg_load 87.009 1.131 105.894
fg_save 87.070 0.832 104.432
fg_save_plots 86.988 0.795 103.959
fg_get_summary_index 4.659 0.032 5.439
fg_get_summary 4.557 0.036 5.130
* checking for unstated dependencies in ‘tests’ ... OK
* checking tests ...
Running ‘testthat.R’
OK
* checking for unstated dependencies in vignettes ... OK
* checking package vignettes ... OK
* checking running R code from vignettes ... SKIPPED
* checking re-building of vignette outputs ... SKIPPED
* checking PDF version of manual ... OK
* DONE
Status: 2 NOTEs
See
‘/Users/biocbuild/bbs-3.19-bioc/meat/flowGraph.Rcheck/00check.log’
for details.
flowGraph.Rcheck/00install.out
############################################################################## ############################################################################## ### ### Running command: ### ### /Library/Frameworks/R.framework/Resources/bin/R CMD INSTALL flowGraph ### ############################################################################## ############################################################################## * installing to library ‘/Library/Frameworks/R.framework/Versions/4.4-x86_64/Resources/library’ * installing *source* package ‘flowGraph’ ... ** using staged installation ** R ** data ** inst ** byte-compile and prepare package for lazy loading ** help Loading required namespace: flowGraph *** installing help indices ** building package indices ** installing vignettes ** testing if installed package can be loaded from temporary location ** testing if installed package can be loaded from final location ** testing if installed package keeps a record of temporary installation path * DONE (flowGraph)
flowGraph.Rcheck/tests/testthat.Rout
R version 4.4.1 (2024-06-14) -- "Race for Your Life"
Copyright (C) 2024 The R Foundation for Statistical Computing
Platform: x86_64-apple-darwin20
R is free software and comes with ABSOLUTELY NO WARRANTY.
You are welcome to redistribute it under certain conditions.
Type 'license()' or 'licence()' for distribution details.
R is a collaborative project with many contributors.
Type 'contributors()' for more information and
'citation()' on how to cite R or R packages in publications.
Type 'demo()' for some demos, 'help()' for on-line help, or
'help.start()' for an HTML browser interface to help.
Type 'q()' to quit R.
> library(testthat)
> library(flowGraph)
>
> test_check("flowGraph")
[ FAIL 0 | WARN 0 | SKIP 0 | PASS 34 ]
>
> proc.time()
user system elapsed
12.019 0.571 15.030
flowGraph.Rcheck/flowGraph-Ex.timings
| name | user | system | elapsed | |
| cell_type_layers | 0.006 | 0.001 | 0.010 | |
| fg_add_feature | 0.791 | 0.017 | 0.902 | |
| fg_add_summary | 2.239 | 0.027 | 2.490 | |
| fg_clean_phen | 0.000 | 0.001 | 0.001 | |
| fg_clear_features | 2.156 | 0.018 | 2.422 | |
| fg_clear_summary | 0.866 | 0.010 | 0.998 | |
| fg_extract_phenotypes | 0.669 | 0.011 | 0.751 | |
| fg_extract_raw | 2.107 | 0.020 | 2.450 | |
| fg_extract_samples | 0.657 | 0.009 | 0.740 | |
| fg_feat_cumsum | 0.646 | 0.008 | 0.785 | |
| fg_feat_edge_specenr | 1.028 | 0.012 | 1.207 | |
| fg_feat_mean_class | 0.651 | 0.009 | 0.772 | |
| fg_feat_node_prop | 0.644 | 0.007 | 0.748 | |
| fg_feat_node_specenr | 1.016 | 0.013 | 1.191 | |
| fg_feat_prop_edge | 0.686 | 0.008 | 0.791 | |
| fg_get_feature | 0.641 | 0.011 | 0.756 | |
| fg_get_feature_desc | 2.122 | 0.022 | 2.488 | |
| fg_get_feature_means | 3.190 | 0.024 | 3.743 | |
| fg_get_graph | 0.640 | 0.010 | 0.776 | |
| fg_get_markers | 0.650 | 0.009 | 0.759 | |
| fg_get_meta | 0.634 | 0.009 | 0.711 | |
| fg_get_summary | 4.557 | 0.036 | 5.130 | |
| fg_get_summary_desc | 2.135 | 0.017 | 2.421 | |
| fg_get_summary_index | 4.659 | 0.032 | 5.439 | |
| fg_get_summary_tables | 3.110 | 0.025 | 3.683 | |
| fg_gsub_ids | 0.632 | 0.008 | 0.743 | |
| fg_gsub_markers | 0.796 | 0.009 | 0.998 | |
| fg_load | 87.009 | 1.131 | 105.894 | |
| fg_merge | 0.673 | 0.012 | 0.814 | |
| fg_merge_samples | 0.672 | 0.010 | 0.807 | |
| fg_plot | 1.008 | 0.013 | 1.227 | |
| fg_plot_box | 1.505 | 0.017 | 1.832 | |
| fg_plot_pVSdiff | 0.921 | 0.012 | 1.050 | |
| fg_plot_qq | 2.688 | 0.427 | 4.277 | |
| fg_replace_meta | 0.658 | 0.014 | 0.820 | |
| fg_rm_feature | 2.135 | 0.028 | 2.578 | |
| fg_rm_summary | 0.881 | 0.013 | 1.037 | |
| fg_save | 87.070 | 0.832 | 104.432 | |
| fg_save_plots | 86.988 | 0.795 | 103.959 | |
| fg_set_layout | 0.667 | 0.012 | 0.794 | |
| fg_summary | 0.892 | 0.011 | 1.048 | |
| flowGraph-class | 0.001 | 0.002 | 0.003 | |
| flowGraph | 3.138 | 0.033 | 3.726 | |
| flowGraphSubset | 0.001 | 0.001 | 0.001 | |
| flowGraphSubset_summary_adjust | 0.000 | 0.002 | 0.001 | |
| flowGraphSubset_summary_pars | 0.001 | 0.001 | 0.002 | |
| get_phen_list | 0.026 | 0.002 | 0.033 | |
| get_phen_meta | 0.003 | 0.001 | 0.007 | |
| ggdf | 0.659 | 0.013 | 0.806 | |
| loop_ind_f | 0.001 | 0.001 | 0.002 | |
| meandiff | 0.001 | 0.000 | 0.005 | |
| plot_gr | 3.206 | 0.061 | 3.911 | |
| set_layout_graph | 0.706 | 0.101 | 0.940 | |
| summary_table | 0.008 | 0.001 | 0.012 | |
| time_output | 0.002 | 0.000 | 0.002 | |
| tstr | 0 | 0 | 0 | |