| Back to Multiple platform build/check report for BioC 3.19: simplified long |
|
This page was generated on 2024-05-09 11:40:49 -0400 (Thu, 09 May 2024).
| Hostname | OS | Arch (*) | R version | Installed pkgs |
|---|---|---|---|---|
| nebbiolo1 | Linux (Ubuntu 22.04.3 LTS) | x86_64 | 4.4.0 (2024-04-24) -- "Puppy Cup" | 4748 |
| palomino3 | Windows Server 2022 Datacenter | x64 | 4.4.0 (2024-04-24 ucrt) -- "Puppy Cup" | 4484 |
| lconway | macOS 12.7.1 Monterey | x86_64 | 4.4.0 (2024-04-24) -- "Puppy Cup" | 4514 |
| kunpeng2 | Linux (openEuler 22.03 LTS-SP1) | aarch64 | 4.4.0 beta (2024-04-15 r86425) -- "Puppy Cup" | 4480 |
| Click on any hostname to see more info about the system (e.g. compilers) (*) as reported by 'uname -p', except on Windows and Mac OS X | ||||
| Package 710/2300 | Hostname | OS / Arch | INSTALL | BUILD | CHECK | BUILD BIN | ||||||||
| fcScan 1.18.0 (landing page) Pierre Khoueiry
| nebbiolo1 | Linux (Ubuntu 22.04.3 LTS) / x86_64 | OK | OK | OK | |||||||||
| palomino3 | Windows Server 2022 Datacenter / x64 | OK | OK | OK | OK | |||||||||
| lconway | macOS 12.7.1 Monterey / x86_64 | OK | OK | OK | OK | |||||||||
| kunpeng2 | Linux (openEuler 22.03 LTS-SP1) / aarch64 | OK | OK | OK | ||||||||||
| kjohnson3 | macOS 13.6.5 Ventura / arm64 | see weekly results here | ||||||||||||
|
To the developers/maintainers of the fcScan package: - Allow up to 24 hours (and sometimes 48 hours) for your latest push to git@git.bioconductor.org:packages/fcScan.git to reflect on this report. See Troubleshooting Build Report for more information. - Use the following Renviron settings to reproduce errors and warnings. - If 'R CMD check' started to fail recently on the Linux builder(s) over a missing dependency, add the missing dependency to 'Suggests:' in your DESCRIPTION file. See Renviron.bioc for more information. - See Martin Grigorov's blog post for how to debug Linux ARM64 related issues on a x86_64 host. |
| Package: fcScan |
| Version: 1.18.0 |
| Command: /home/biocbuild/R/R-beta-2024-04-15_r86425/bin/R CMD check --install=check:fcScan.install-out.txt --library=/home/biocbuild/R/R-beta-2024-04-15_r86425/site-library --no-vignettes --timings fcScan_1.18.0.tar.gz |
| StartedAt: 2024-05-09 07:23:53 -0000 (Thu, 09 May 2024) |
| EndedAt: 2024-05-09 07:29:39 -0000 (Thu, 09 May 2024) |
| EllapsedTime: 345.7 seconds |
| RetCode: 0 |
| Status: OK |
| CheckDir: fcScan.Rcheck |
| Warnings: 0 |
##############################################################################
##############################################################################
###
### Running command:
###
### /home/biocbuild/R/R-beta-2024-04-15_r86425/bin/R CMD check --install=check:fcScan.install-out.txt --library=/home/biocbuild/R/R-beta-2024-04-15_r86425/site-library --no-vignettes --timings fcScan_1.18.0.tar.gz
###
##############################################################################
##############################################################################
* using log directory ‘/home/biocbuild/bbs-3.19-bioc/meat/fcScan.Rcheck’
* using R version 4.4.0 beta (2024-04-15 r86425)
* using platform: aarch64-unknown-linux-gnu
* R was compiled by
gcc (GCC) 10.3.1
GNU Fortran (GCC) 10.3.1
* running under: openEuler 22.03 (LTS-SP1)
* using session charset: UTF-8
* using option ‘--no-vignettes’
* checking for file ‘fcScan/DESCRIPTION’ ... OK
* checking extension type ... Package
* this is package ‘fcScan’ version ‘1.18.0’
* package encoding: UTF-8
* checking package namespace information ... OK
* checking package dependencies ... OK
* checking if this is a source package ... OK
* checking if there is a namespace ... OK
* checking for hidden files and directories ... OK
* checking for portable file names ... OK
* checking for sufficient/correct file permissions ... OK
* checking whether package ‘fcScan’ can be installed ... OK
* checking installed package size ... OK
* checking package directory ... OK
* checking ‘build’ directory ... OK
* checking DESCRIPTION meta-information ... OK
* checking top-level files ... OK
* checking for left-over files ... OK
* checking index information ... OK
* checking package subdirectories ... OK
* checking code files for non-ASCII characters ... OK
* checking R files for syntax errors ... OK
* checking whether the package can be loaded ... OK
* checking whether the package can be loaded with stated dependencies ... OK
* checking whether the package can be unloaded cleanly ... OK
* checking whether the namespace can be loaded with stated dependencies ... OK
* checking whether the namespace can be unloaded cleanly ... OK
* checking loading without being on the library search path ... OK
* checking dependencies in R code ... OK
* checking S3 generic/method consistency ... OK
* checking replacement functions ... OK
* checking foreign function calls ... OK
* checking R code for possible problems ... OK
* checking Rd files ... OK
* checking Rd metadata ... OK
* checking Rd cross-references ... OK
* checking for missing documentation entries ... OK
* checking for code/documentation mismatches ... OK
* checking Rd \usage sections ... OK
* checking Rd contents ... OK
* checking for unstated dependencies in examples ... OK
* checking files in ‘vignettes’ ... OK
* checking examples ... OK
* checking for unstated dependencies in ‘tests’ ... OK
* checking tests ...
Running ‘runTests.R’
OK
* checking for unstated dependencies in vignettes ... OK
* checking package vignettes ... OK
* checking running R code from vignettes ... SKIPPED
* checking re-building of vignette outputs ... SKIPPED
* checking PDF version of manual ... OK
* DONE
Status: OK
fcScan.Rcheck/00install.out
############################################################################## ############################################################################## ### ### Running command: ### ### /home/biocbuild/R/R-beta-2024-04-15_r86425/bin/R CMD INSTALL fcScan ### ############################################################################## ############################################################################## * installing to library ‘/home/biocbuild/R/R-beta-2024-04-15_r86425/site-library’ * installing *source* package ‘fcScan’ ... ** using staged installation ** R ** inst ** byte-compile and prepare package for lazy loading ** help *** installing help indices ** building package indices ** installing vignettes ** testing if installed package can be loaded from temporary location ** testing if installed package can be loaded from final location ** testing if installed package keeps a record of temporary installation path * DONE (fcScan)
fcScan.Rcheck/tests/runTests.Rout
R version 4.4.0 beta (2024-04-15 r86425) -- "Puppy Cup"
Copyright (C) 2024 The R Foundation for Statistical Computing
Platform: aarch64-unknown-linux-gnu
R is free software and comes with ABSOLUTELY NO WARRANTY.
You are welcome to redistribute it under certain conditions.
Type 'license()' or 'licence()' for distribution details.
R is a collaborative project with many contributors.
Type 'contributors()' for more information and
'citation()' on how to cite R or R packages in publications.
Type 'demo()' for some demos, 'help()' for on-line help, or
'help.start()' for an HTML browser interface to help.
Type 'q()' to quit R.
> BiocGenerics:::testPackage("fcScan")
Loading required package: GenomicRanges
Loading required package: stats4
Loading required package: BiocGenerics
Attaching package: 'BiocGenerics'
The following objects are masked from 'package:stats':
IQR, mad, sd, var, xtabs
The following objects are masked from 'package:base':
Filter, Find, Map, Position, Reduce, anyDuplicated, aperm, append,
as.data.frame, basename, cbind, colnames, dirname, do.call,
duplicated, eval, evalq, get, grep, grepl, intersect, is.unsorted,
lapply, mapply, match, mget, order, paste, pmax, pmax.int, pmin,
pmin.int, rank, rbind, rownames, sapply, setdiff, table, tapply,
union, unique, unsplit, which.max, which.min
Loading required package: S4Vectors
Attaching package: 'S4Vectors'
The following object is masked from 'package:utils':
findMatches
The following objects are masked from 'package:base':
I, expand.grid, unname
Loading required package: IRanges
Loading required package: GenomeInfoDb
17 entries loaded
Running getCluster using 1 threads
Time difference of 0.2787476 secs
Sites in condition do not match sites in data
3 entries loaded
Running getCluster using 1 threads
Time difference of 0.1002073 secs
17 entries loaded
Running getCluster using 1 threads
Time difference of 0.09594679 secs
17 entries loaded
Running getCluster using 1 threads
Time difference of 0.09891725 secs
17 entries loaded
Running getCluster using 1 threads
No cluster found
17 entries loaded
Running getCluster using 1 threads
Time difference of 0.1151941 secs
17 entries loaded
Running getCluster using 1 threads
Time difference of 0.1020403 secs
17 entries loaded
Running getCluster using 1 threads
Time difference of 0.1192153 secs
17 entries loaded
Running getCluster using 1 threads
Time difference of 0.09623528 secs
17 entries loaded
Running getCluster using 1 threads
Time difference of 0.09814906 secs
17 entries loaded
Running getCluster using 1 threads
Time difference of 0.0905478 secs
6 entries loaded
Running getCluster using 1 threads
Time difference of 0.1329229 secs
6 entries loaded
Running getCluster using 1 threads
Time difference of 0.09041405 secs
6 entries loaded
Running getCluster using 1 threads
Time difference of 0.07824564 secs
6 entries loaded
Running getCluster using 1 threads
Time difference of 0.08053279 secs
10 entries loaded
Running getCluster using 1 threads
Time difference of 0.09663844 secs
10 entries loaded
Running getCluster using 1 threads
No cluster found
10 entries loaded
Running getCluster using 1 threads
Time difference of 0.09828162 secs
16 entries loaded
Running getCluster using 1 threads
Time difference of 0.08187318 secs
6 entries loaded
Running getCluster using 1 threads
Time difference of 0.09121466 secs
6 entries loaded
Running getCluster using 1 threads
Time difference of 0.09057498 secs
6 entries loaded
Running getCluster using 1 threads
Time difference of 0.09330368 secs
6 entries loaded
Running getCluster using 1 threads
Time difference of 0.09231591 secs
6 entries loaded
Running getCluster using 1 threads
Time difference of 0.09517479 secs
17 entries loaded
Running getCluster using 1 threads
Time difference of 0.08602524 secs
17 entries loaded
Running getCluster using 1 threads
Time difference of 0.08995271 secs
17 entries loaded
Running getCluster using 1 threads
Time difference of 0.08909559 secs
17 entries loaded
Running getCluster using 1 threads
Time difference of 0.09597516 secs
17 entries loaded
Running getCluster using 1 threads
Time difference of 0.08707047 secs
17 entries loaded
Running getCluster using 1 threads
Time difference of 0.08245182 secs
17 entries loaded
Running getCluster using 1 threads
Time difference of 0.08797836 secs
17 entries loaded
Running getCluster using 1 threads
Time difference of 0.1299739 secs
17 entries loaded
Running getCluster using 1 threads
Time difference of 0.1163299 secs
17 entries loaded
Running getCluster using 1 threads
Time difference of 0.1305766 secs
17 entries loaded
Running getCluster using 1 threads
Time difference of 0.156662 secs
17 entries loaded
Running getCluster using 1 threads
Time difference of 0.1031213 secs
17 entries loaded
Running getCluster using 1 threads
Time difference of 0.1416388 secs
17 entries loaded
Running getCluster using 1 threads
Time difference of 0.1200802 secs
17 entries loaded
Running getCluster using 1 threads
Time difference of 0.1015456 secs
17 entries loaded
Running getCluster using 1 threads
Time difference of 0.1035039 secs
17 entries loaded
Running getCluster using 1 threads
Time difference of 0.09468246 secs
17 entries loaded
Running getCluster using 1 threads
Time difference of 0.1255267 secs
17 entries loaded
Running getCluster using 1 threads
Time difference of 0.100318 secs
17 entries loaded
Running getCluster using 1 threads
Time difference of 0.1395564 secs
RUNIT TEST PROTOCOL -- Thu May 9 07:29:36 2024
***********************************************
Number of test functions: 1
Number of errors: 0
Number of failures: 0
1 Test Suite :
fcScan RUnit Tests - 1 test function, 0 errors, 0 failures
Number of test functions: 1
Number of errors: 0
Number of failures: 0
>
> proc.time()
user system elapsed
21.523 0.680 22.156
fcScan.Rcheck/fcScan-Ex.timings
| name | user | system | elapsed | |
| getCluster | 1.457 | 0.099 | 1.557 | |